BEGIN:VCALENDAR
CALSCALE:GREGORIAN
METHOD:PUBLISH
PRODID:-//github.com/ical-org/ical.net//NONSGML ical.net 4.0//EN
VERSION:2.0
X-WR-TIMEZONE:US/Eastern
BEGIN:VEVENT
CATEGORIES:Boards & Commissions
CATEGORIES:Commission Meeting
CATEGORIES:Public Comment Opportunity
CATEGORIES:T&ES Events
CATEGORIES:Traffic and Parking Board
CATEGORIES:Transportation
DESCRIPTION:Imported on Apr 25\, 2026\, 2 days before the event.\nTo verif
 y info please see https://apps.alexandriava.gov/Calendar/Detail.aspx?si=6
 2490\n\nIn-Person and Virtual Meeting. The April Traffic and Parking Boar
 d meeting is being held at 2900 Business Center Dr. and electronically. M
 embers of the Traffic and Parking Board and staff are participating eithe
 r in person or from a remote location through video conference call on Zo
 om. The meeting will be accessible via Zoom by registering at the link pr
 ovided below.\n\nPublic comment will be received at the meeting. There wi
 ll be a public comment period at the beginning of the meeting and written
  testimony can be provided until 12 p.m. on 4/27/26 to TrafficandParkingB
 oard@alexandriava.gov\n\nThe City of Alexandria complies with the terms o
 f ADA. An individual with a disability who wishes to request an accommoda
 tion may contact the Department of Transportation and Environmental Servi
 ces at 703-746-4401 or TTY/TTD 703-838-5056.\n\nLocation: 2900 Business C
 enter Drive\nContact Person: Sheila McGraw\nContact Phone: 703.746.4401\n
 Contact Email: TrafficandParkingBoard@alexandriava.gov\nAudience: Anyone 
 may attend\nTags: Boards & Commissions\, Commission Meeting\, Public Comm
 ent Opportunity\, T&ES Events\, Traffic and Parking Board\, Transportatio
 n\n\nWeb resources:\n\nRegister for Zoom Here\nhttps://zoom.us/webinar/re
 gister/WN_eMCdPvozQVyD7evefJ63Zw\n\nDocket Report Here\nhttps://www.alexa
 ndriava.gov/sites/default/files/2026-04/TrafficParkingBoardDocketApril202
 6.pdf\n
DTEND:20260428T010000Z
DTSTAMP:20260421T202556Z
DTSTART:20260427T230000Z
LOCATION:2900 Business Center Drive
SEQUENCE:10
STATUS:CONFIRMED
SUMMARY:Traffic and Parking Board Meeting
TRANSP:OPAQUE
UID:9ead85c0-4ed0-4a57-8f26-7d909fcb1e84
URL:https://zoom.us/webinar/register/WN_eMCdPvozQVyD7evefJ63Zw
X-ALT-DESC;FMTTYPE=text/html:Imported on Apr 25\, 2026\, 2 days before the
  event.<br />To verify info please see <a href="https://apps.alexandriava
 .gov/Calendar/Detail.aspx?si=62490">https://apps.alexandriava.gov/Calenda
 r/Detail.aspx?si=62490</a><br />\n<br />In-Person and Virtual Meeting. Th
 e April Traffic and Parking Board meeting is being held at 2900 Business 
 Center Dr. and electronically. Members of the Traffic and Parking Board a
 nd staff are participating either in person or from a remote location thr
 ough video conference call on Zoom. The meeting will be accessible via Zo
 om by registering at the link provided below.\n<br />\n<br />Public comme
 nt will be received at the meeting. There will be a public comment period
  at the beginning of the meeting and written testimony can be provided un
 til 12 p.m. on 4/27/26 to TrafficandParkingBoard@alexandriava.gov\n<br />
 \n<br />The City of Alexandria complies with the terms of ADA. An individ
 ual with a disability who wishes to request an accommodation may contact 
 the Department of Transportation and Environmental Services at 703-746-44
 01 or TTY/TTD 703-838-5056.\n<br />\n<br />Location: 2900 Business Center
  Drive\n<br />Contact Person: Sheila McGraw\n<br />Contact Phone: 703.746
 .4401\n<br />Contact Email: TrafficandParkingBoard@alexandriava.gov\n<br 
 />Audience: Anyone may attend\n<br />Tags: Boards &amp\; Commissions\, Co
 mmission Meeting\, Public Comment Opportunity\, T&amp\;ES Events\, Traffi
 c and Parking Board\, Transportation<br>\n<a href="https://zoom.us/webina
 r/register/WN_eMCdPvozQVyD7evefJ63Zw">Register for Zoom Here</a><br>\n<a 
 href="https://www.alexandriava.gov/sites/default/files/2026-04/TrafficPar
 kingBoardDocketApril2026.pdf">Docket Report Here</a><br>\n
X-COA-DTSTAMP:20260421T202556Z
BEGIN:VALARM
ACTION:DISPLAY
DESCRIPTION:Traffic and Parking Board Meeting: Please visit website to con
 firm time\, location\, etc.
DURATION:PT30M
REPEAT:2
TRIGGER:-PT30M
END:VALARM
END:VEVENT
END:VCALENDAR
