BEGIN:VCALENDAR
CALSCALE:GREGORIAN
METHOD:PUBLISH
PRODID:-//github.com/ical-org/ical.net//NONSGML ical.net 4.0//EN
VERSION:2.0
X-WR-TIMEZONE:US/Eastern
BEGIN:VEVENT
CATEGORIES:Budget
CATEGORIES:Budget2027.....................
CATEGORIES:City Council
CATEGORIES:City Council Calendar
CATEGORIES:Webcast
DESCRIPTION:Imported on Apr 21\, 2026\, 11 hours before the event.\nTo ver
 ify info please see https://apps.alexandriava.gov/Calendar/Detail.aspx?si
 =59921\n\nThe April 21st\, 2026 Budget Work Session #7 of the Alexandria 
 City Council is being held at the Del Pepper Resource Center (4850 Mark C
 enter Dr.\, Alexandria\, VA 22311) and electronically. Members of the Cit
 y Council and staff are participating either in-person or from a remote l
 ocation through a video conference call on Zoom webinar. The meeting can 
 be accessed by government channel 70\, streaming on the City's website\, 
 and can be accessed via Zoom by the following link:\n\nTopic: Work Sessio
 n #7\nDate: Apr 21\, 2026 06:30 PM\nWebinar ID:952 2272 3230\nWebinar Pas
 scode:202697\nDial-in number: 301-715-8592\nRegistration:https://zoom.us/
 webinar/register/WN_XFdyQNJFR8OOrBoHy3HOOg\n\nIf you use the Zoom webinar
  application\, please be sure you have updated the application to the lat
 est version for the best results. If you are unable to access Zoom\, plea
 se use the Dial-in number to access the meeting.\n\nThe meeting will be w
 ebcast live and video and audio recordings will be available a few days a
 fter the meeting.\n\nZoom Registration\nIf you wish to use Zoom to watch 
 this meeting\, you must register first.\n\nIndividuals with disabilities 
 who require assistance or special arrangements to participate in the City
  Council meeting may call the City Clerk and Clerk of Council's Office at
  703.746.4550 (TTY/TDD 838.5056). We request that you provide a 48-hour n
 otice so that the proper arrangements may be made.\n\nBudget work session
 s are closed-captioned for the hearing impaired.\n\nIndividuals requiring
  translation services should contact the City Clerk and Clerk of Council 
 at gloria.sitton@alexandriava.gov or at 703.746.4550. We request that you
  provide 24-to-48-hour notice so that the proper arrangements may be made
 . Please specify the language for translation when you make the request.\
 n\nLocation: Del Pepper Community Resource Center\, 4850 Mark Center Driv
 e\nContact Person: Spencer Smith\nContact Phone: 703.746.3944\nContact Em
 ail: spencer.smith@alexandriava.gov\nAudience: Anyone may attend\nTags: B
 udget\, Budget2027.....................\, City Council\, City Council Cal
 endar\, Webcast\n\nWeb resources:\n\nZoom Registration\nhttps://zoom.us/w
 ebinar/register/WN_XFdyQNJFR8OOrBoHy3HOOg\n
DTEND:20260422T010000Z
DTSTAMP:20260218T231959Z
DTSTART:20260421T230000Z
LOCATION:Del Pepper Community Resource Center\, 4850 Mark Center Drive
SEQUENCE:11
STATUS:CONFIRMED
SUMMARY:FY2027 Budget Work Session #7-Prelim. Add/Delete
TRANSP:TRANSPARENT
UID:9eea3163-0107-491e-bcc5-e78add98f942
URL:https://zoom.us/webinar/register/WN_XFdyQNJFR8OOrBoHy3HOOg
X-ALT-DESC;FMTTYPE=text/html:Imported on Apr 21\, 2026\, 11 hours before t
 he event.<br />To verify info please see <a href="https://apps.alexandria
 va.gov/Calendar/Detail.aspx?si=59921">https://apps.alexandriava.gov/Calen
 dar/Detail.aspx?si=59921</a><br />\n<br />The April 21st\, 2026 Budget Wo
 rk Session #7 of the Alexandria City Council is being held at the Del Pep
 per Resource Center (4850 Mark Center Dr.\, Alexandria\, VA 22311) and el
 ectronically. Members of the City Council and staff are participating eit
 her in-person or from a remote location through a video conference call o
 n Zoom webinar. The meeting can be accessed by government channel 70\, st
 reaming on the City&#39\;s website\, and can be accessed via Zoom by the 
 following link:\n<br />\n<br />Topic: Work Session #7\n<br />Date: Apr 21
 \, 2026 06:30 PM\n<br />Webinar ID:952 2272 3230\n<br />Webinar Passcode:
 202697\n<br />Dial-in number: 301-715-8592\n<br />Registration:https://zo
 om.us/webinar/register/WN_XFdyQNJFR8OOrBoHy3HOOg\n<br />\n<br />If you us
 e the Zoom webinar application\, please be sure you have updated the appl
 ication to the latest version for the best results. If you are unable to 
 access Zoom\, please use the Dial-in number to access the meeting.\n<br /
 >\n<br />The meeting will be webcast live and video and audio recordings 
 will be available a few days after the meeting.\n<br />\n<br />Zoom Regis
 tration\n<br />If you wish to use Zoom to watch this meeting\, you must r
 egister first.\n<br />\n<br />Individuals with disabilities who require a
 ssistance or special arrangements to participate in the City Council meet
 ing may call the City Clerk and Clerk of Council&#39\;s Office at 703.746
 .4550 (TTY/TDD 838.5056). We request that you provide a 48-hour notice so
  that the proper arrangements may be made.\n<br />\n<br />Budget work ses
 sions are closed-captioned for the hearing impaired.\n<br />\n<br />Indiv
 iduals requiring translation services should contact the City Clerk and C
 lerk of Council at gloria.sitton@alexandriava.gov or at 703.746.4550. We 
 request that you provide 24-to-48-hour notice so that the proper arrangem
 ents may be made. Please specify the language for translation when you ma
 ke the request.\n<br />\n<br />Location: Del Pepper Community Resource Ce
 nter\, 4850 Mark Center Drive\n<br />Contact Person: Spencer Smith\n<br /
 >Contact Phone: 703.746.3944\n<br />Contact Email: spencer.smith@alexandr
 iava.gov\n<br />Audience: Anyone may attend\n<br />Tags: Budget\, Budget2
 027.....................\, City Council\, City Council Calendar\, Webcast
 <br>\n<a href="https://zoom.us/webinar/register/WN_XFdyQNJFR8OOrBoHy3HOOg
 ">Zoom Registration</a><br>\n
X-COA-DTSTAMP:20260218T231959Z
END:VEVENT
BEGIN:VEVENT
CATEGORIES:Budget
CATEGORIES:Budget2027.....................
CATEGORIES:Cablecast
CATEGORIES:City Council
CATEGORIES:City Council Calendar
CATEGORIES:Webcast
DESCRIPTION:Imported on Apr 21\, 2026\, 6 days before the event.\nTo verif
 y info please see https://apps.alexandriava.gov/Calendar/Detail.aspx?si=5
 9920\n\nThe April 27th\, 2026 Budget Work Session #8 of the Alexandria Ci
 ty Council is being held at the Del Pepper Resource Center (4850 Mark Cen
 ter Dr.\, Alexandria\, VA 22311) and electronically. Members of the City 
 Council and staff are participating either in-person or from a remote loc
 ation through a video conference call on Zoom webinar. The meeting can be
  accessed by government channel 70\, streaming on the City's website\, an
 d can be accessed via Zoom by the following link:\n\nTopic: Work Session 
 #8\nDate: Apr 27\, 2026 06:30 PM\nWebinar ID:988 3748 6004\nWebinar Passc
 ode:903135\nDial-in number: 301-715-8592\nRegistration:https://zoom.us/we
 binar/register/WN_qMx44zyxRACCPQyUijXqpA\n\nIf you use the Zoom webinar a
 pplication\, please be sure you have updated the application to the lates
 t version for the best results. If you are unable to access Zoom\, please
  use the Dial-in number to access the meeting.\n\nThe meeting will be web
 cast live and video and audio recordings will be available a few days aft
 er the meeting.\n\nZoom Registration\nIf you wish to use Zoom to watch th
 is meeting\, you must register first.\n\nIndividuals with disabilities wh
 o require assistance or special arrangements to participate in the City C
 ouncil meeting may call the City Clerk and Clerk of Council's Office at 7
 03.746.4550 (TTY/TDD 838.5056). We request that you provide a 48-hour not
 ice so that the proper arrangements may be made.\n\nBudget work sessions 
 are closed-captioned for the hearing impaired.\n\nIndividuals requiring t
 ranslation services should contact the City Clerk and Clerk of Council at
  gloria.sitton@alexandriava.gov or at 703.746.4550. We request that you p
 rovide 24-to-48-hour notice so that the proper arrangements may be made. 
 Please specify the language for translation when you make the request.\n\
 n\nLocation: Del Pepper Community Resource Center\, 4850 Mark Center Driv
 e\nContact Person: Spencer Smith\nContact Phone: 703.746.3944\nContact Em
 ail: spencer.smith@alexandriava.gov\nAudience: Anyone may attend\nTags: B
 udget\, Budget2027.....................\, Cablecast\, City Council\, City
  Council Calendar\, Webcast\n\nWeb resources:\n\nZoom Registration\nhttps
 ://zoom.us/webinar/register/WN_qMx44zyxRACCPQyUijXqpA\n
DTEND:20260428T010000Z
DTSTAMP:20260218T231927Z
DTSTART:20260427T230000Z
LOCATION:Del Pepper Community Resource Center\, 4850 Mark Center Drive
SEQUENCE:13
STATUS:CONFIRMED
SUMMARY:FY2027 Budget Work Session #8-Final Add/Delete
TRANSP:TRANSPARENT
UID:38853c2a-64dd-47ae-8475-924759d51803
URL:https://zoom.us/webinar/register/WN_qMx44zyxRACCPQyUijXqpA
X-ALT-DESC;FMTTYPE=text/html:Imported on Apr 21\, 2026\, 6 days before the
  event.<br />To verify info please see <a href="https://apps.alexandriava
 .gov/Calendar/Detail.aspx?si=59920">https://apps.alexandriava.gov/Calenda
 r/Detail.aspx?si=59920</a><br />\n<br />The April 27th\, 2026 Budget Work
  Session #8 of the Alexandria City Council is being held at the Del Peppe
 r Resource Center (4850 Mark Center Dr.\, Alexandria\, VA 22311) and elec
 tronically. Members of the City Council and staff are participating eithe
 r in-person or from a remote location through a video conference call on 
 Zoom webinar. The meeting can be accessed by government channel 70\, stre
 aming on the City&#39\;s website\, and can be accessed via Zoom by the fo
 llowing link:\n<br />\n<br />Topic: Work Session #8\n<br />Date: Apr 27\,
  2026 06:30 PM\n<br />Webinar ID:988 3748 6004\n<br />Webinar Passcode:90
 3135\n<br />Dial-in number: 301-715-8592\n<br />Registration:https://zoom
 .us/webinar/register/WN_qMx44zyxRACCPQyUijXqpA\n<br />\n<br />If you use 
 the Zoom webinar application\, please be sure you have updated the applic
 ation to the latest version for the best results. If you are unable to ac
 cess Zoom\, please use the Dial-in number to access the meeting.\n<br />\
 n<br />The meeting will be webcast live and video and audio recordings wi
 ll be available a few days after the meeting.\n<br />\n<br />Zoom Registr
 ation\n<br />If you wish to use Zoom to watch this meeting\, you must reg
 ister first.\n<br />\n<br />Individuals with disabilities who require ass
 istance or special arrangements to participate in the City Council meetin
 g may call the City Clerk and Clerk of Council&#39\;s Office at 703.746.4
 550 (TTY/TDD 838.5056). We request that you provide a 48-hour notice so t
 hat the proper arrangements may be made.\n<br />\n<br />Budget work sessi
 ons are closed-captioned for the hearing impaired.\n<br />\n<br />Individ
 uals requiring translation services should contact the City Clerk and Cle
 rk of Council at gloria.sitton@alexandriava.gov or at 703.746.4550. We re
 quest that you provide 24-to-48-hour notice so that the proper arrangemen
 ts may be made. Please specify the language for translation when you make
  the request.\n<br />\n<br />\n<br />Location: Del Pepper Community Resou
 rce Center\, 4850 Mark Center Drive\n<br />Contact Person: Spencer Smith\
 n<br />Contact Phone: 703.746.3944\n<br />Contact Email: spencer.smith@al
 exandriava.gov\n<br />Audience: Anyone may attend\n<br />Tags: Budget\, B
 udget2027.....................\, Cablecast\, City Council\, City Council 
 Calendar\, Webcast<br>\n<a href="https://zoom.us/webinar/register/WN_qMx4
 4zyxRACCPQyUijXqpA">Zoom Registration</a><br>\n
X-COA-DTSTAMP:20260218T231927Z
END:VEVENT
BEGIN:VEVENT
CATEGORIES:Budget
CATEGORIES:Budget2027.....................
CATEGORIES:Cablecast
CATEGORIES:City Council
CATEGORIES:City Council Calendar
CATEGORIES:City Hall
CATEGORIES:Community Engagement
CATEGORIES:Council Meeting
CATEGORIES:Live Closed Captioning
CATEGORIES:Webcast
DESCRIPTION:Imported on Apr 21\, 2026\, 8 days before the event.\nTo verif
 y info please see https://apps.alexandriava.gov/Calendar/Detail.aspx?si=5
 9911\n\nThe April 29\, 2026\, Legislative Meeting of the Alexandria City 
 Council is being held at the Del Pepper Resource Center (4850 Mark Center
  Dr.\, Alexandria\, VA 22311) and electronically. Members of the City Cou
 ncil and staff are participating either in-person or from a remote locati
 on through a video conference call on Zoom webinar. The meeting can be ac
 cessed by government channel 70\, streaming on the City's website\, and c
 an be accessed via Zoom by the following link:\n\nTopic:  FY 2027 Budget 
 Adoption/Tax Rate Adoption\nDate: Feb 29\, 2026 06:00 PM\nWebinar ID: 922
  0695 7453\nWebinar Passcode: 929174\nDial-in number: 301-715-8592\nRegis
 tration:https://zoom.us/webinar/register/WN_kdw1DJHqTWqm1A-TvQEocA\n\nIf 
 you use the Zoom webinar application\, please be sure you have updated th
 e application to the latest version for the best results. If you are unab
 le to access the Zoom webinar\, please use the Dial-In number to access t
 he meeting.\n\n***PLEASE LOG-IN EARLY IF POSSIBLE***\n\nLinks:\nMeeting A
 genda and Live Webcast\nThe meeting will be webcast live and video and au
 dio recordings will be available a few days after the meeting.\n\nZoom Re
 gistration Form\nIf you wish to use Zoom to watch the meeting or to addre
 ss Council\, you must register first.\n\nSubmission of written statements
  is encouraged. Please verify the meeting date on the City's website. If 
 you have prepared statement or written comments for the record you may em
 ail it to the City Clerk at CouncilComment@alexandriava.gov.\n\n*******\n
 Individuals requiring translation services should contact the City Clerk 
 and Clerk of Council at gloria.sitton@alexandriava.gov or at 703.746.4550
 . We request that you provide a 48-hour notice so that the proper arrange
 ments may be made. Please specify the language for translation when you m
 ake the request.\n\nLas personas que requieran servicios de traducci?n de
 ben comunicarse con el Secretario de la Ciudad y el Secretario del Consej
 o en gloria.sitton@alexandriava.gov o al 703.746.4550. Le solicitamos que
  proporcione un aviso de 48 horas para que se puedan hacer los arreglos n
 ecesarios. Por favor\, especifique el idioma de traducci?n cuando realice
  la solicitud.\n\n*******\n\nLocation: Del Pepper Community Resource Cent
 er\, 4850 Mark Center Drive\nContact Person: Spencer Smith\nContact Phone
 : 703.746.3944\nContact Email: spencer.smith@alexandriava.gov\nAudience: 
 Anyone may attend\nTags: Budget\, Budget2027.....................\, Cable
 cast\, City Council\, City Council Calendar\, City Hall\, Community Engag
 ement\, Council Meeting\, Live Closed Captioning\, Webcast\n\nWeb resourc
 es:\n\nZoom Registration\nhttps://zoom.us/webinar/register/WN_kdw1DJHqTWq
 m1A-TvQEocA\n
DTEND:20260430T000001Z
DTSTAMP:20260220T203005Z
DTSTART:20260429T220000Z
LOCATION:Del Pepper Community Resource Center\, 4850 Mark Center Drive
SEQUENCE:8
STATUS:CONFIRMED
SUMMARY:FY 2027 Budget Adoption/Tax Rate Adoption
TRANSP:OPAQUE
UID:a390ce7c-3aa3-411e-9236-5d4a676d320b
URL:https://zoom.us/webinar/register/WN_kdw1DJHqTWqm1A-TvQEocA
X-ALT-DESC;FMTTYPE=text/html:Imported on Apr 21\, 2026\, 8 days before the
  event.<br />To verify info please see <a href="https://apps.alexandriava
 .gov/Calendar/Detail.aspx?si=59911">https://apps.alexandriava.gov/Calenda
 r/Detail.aspx?si=59911</a><br />\n<br />The April 29\, 2026\, Legislative
  Meeting of the Alexandria City Council is being held at the Del Pepper R
 esource Center (4850 Mark Center Dr.\, Alexandria\, VA 22311) and electro
 nically. Members of the City Council and staff are participating either i
 n-person or from a remote location through a video conference call on Zoo
 m webinar. The meeting can be accessed by government channel 70\, streami
 ng on the City&#39\;s website\, and can be accessed via Zoom by the follo
 wing link:\n<br />\n<br />Topic:  FY 2027 Budget Adoption/Tax Rate Adopti
 on\n<br />Date: Feb 29\, 2026 06:00 PM\n<br />Webinar ID: 922 0695 7453\n
 <br />Webinar Passcode: 929174\n<br />Dial-in number: 301-715-8592\n<br /
 >Registration:https://zoom.us/webinar/register/WN_kdw1DJHqTWqm1A-TvQEocA\
 n<br />\n<br />If you use the Zoom webinar application\, please be sure y
 ou have updated the application to the latest version for the best result
 s. If you are unable to access the Zoom webinar\, please use the Dial-In 
 number to access the meeting.\n<br />\n<br />***PLEASE LOG-IN EARLY IF PO
 SSIBLE***\n<br />\n<br />Links:\n<br />Meeting Agenda and Live Webcast\n<
 br />The meeting will be webcast live and video and audio recordings will
  be available a few days after the meeting.\n<br />\n<br />Zoom Registrat
 ion Form\n<br />If you wish to use Zoom to watch the meeting or to addres
 s Council\, you must register first.\n<br />\n<br />Submission of written
  statements is encouraged. Please verify the meeting date on the City&#39
 \;s website. If you have prepared statement or written comments for the r
 ecord you may email it to the City Clerk at CouncilComment@alexandriava.g
 ov.\n<br />\n<br />*******\n<br />Individuals requiring translation servi
 ces should contact the City Clerk and Clerk of Council at gloria.sitton@a
 lexandriava.gov or at 703.746.4550. We request that you provide a 48-hour
  notice so that the proper arrangements may be made. Please specify the l
 anguage for translation when you make the request.\n<br />\n<br />Las per
 sonas que requieran servicios de traducci&#243\;n deben comunicarse con e
 l Secretario de la Ciudad y el Secretario del Consejo en gloria.sitton@al
 exandriava.gov o al 703.746.4550. Le solicitamos que proporcione un aviso
  de 48 horas para que se puedan hacer los arreglos necesarios. Por favor\
 , especifique el idioma de traducci&#243\;n cuando realice la solicitud.\
 n<br />\n<br />*******\n<br />\n<br />Location: Del Pepper Community Reso
 urce Center\, 4850 Mark Center Drive\n<br />Contact Person: Spencer Smith
 \n<br />Contact Phone: 703.746.3944\n<br />Contact Email: spencer.smith@a
 lexandriava.gov\n<br />Audience: Anyone may attend\n<br />Tags: Budget\, 
 Budget2027.....................\, Cablecast\, City Council\, City Council
  Calendar\, City Hall\, Community Engagement\, Council Meeting\, Live Clo
 sed Captioning\, Webcast<br>\n<a href="https://zoom.us/webinar/register/W
 N_kdw1DJHqTWqm1A-TvQEocA">Zoom Registration</a><br>\n
X-COA-DTSTAMP:20260220T203005Z
BEGIN:VALARM
ACTION:DISPLAY
DESCRIPTION:FY 2027 Budget Adoption/Tax Rate Adoption : Please visit websi
 te to confirm time\, location\, etc.
DURATION:PT30M
REPEAT:2
TRIGGER:-PT30M
END:VALARM
END:VEVENT
BEGIN:VEVENT
CATEGORIES:BFAAC
CATEGORIES:Boards & Commissions
CATEGORIES:Budget
CATEGORIES:Budget2027.....................
CATEGORIES:Commission Meeting
DESCRIPTION:Imported on Apr 21\, 2026\, 28 days before the event.\nTo veri
 fy info please see https://apps.alexandriava.gov/Calendar/Detail.aspx?si=
 59969\n\nRegularly scheduled meeting of the Budget and Fiscal Affairs Adv
 isory Committee.\n\n\nLocation: Lee Center\, 1108 Jefferson St.\nContact 
 Person: Meghan McGrane\nContact Phone: 703.746.3734\nAudience: Anyone may
  attend\nTags: BFAAC\, Boards & Commissions\, Budget\, Budget2027........
 .............\, Commission Meeting
DTEND:20260520T003000Z
DTSTAMP:20250905T175629Z
DTSTART:20260519T223000Z
GEO:38.797510;-77.053621
LOCATION:Lee Center\, 1108 Jefferson St.
SEQUENCE:5
STATUS:CONFIRMED
SUMMARY:Budget & Fiscal Affairs Advisory Committee
TRANSP:OPAQUE
UID:c2c2ad5b-315c-499b-a38c-647b789eaa1c
X-ALT-DESC;FMTTYPE=text/html:Imported on Apr 21\, 2026\, 28 days before th
 e event.<br />To verify info please see <a href="https://apps.alexandriav
 a.gov/Calendar/Detail.aspx?si=59969">https://apps.alexandriava.gov/Calend
 ar/Detail.aspx?si=59969</a><br />\n<br />Regularly scheduled meeting of t
 he Budget and Fiscal Affairs Advisory Committee.\n<br />\n<br />\n<br />L
 ocation: Lee Center\, 1108 Jefferson St.\n<br />Contact Person: Meghan Mc
 Grane\n<br />Contact Phone: 703.746.3734\n<br />Audience: Anyone may atte
 nd\n<br />Tags: BFAAC\, Boards &amp\; Commissions\, Budget\, Budget2027..
 ...................\, Commission Meeting
X-COA-DTSTAMP:20250905T175629Z
BEGIN:VALARM
ACTION:DISPLAY
DESCRIPTION:Budget & Fiscal Affairs Advisory Committee: Please visit websi
 te to confirm time\, location\, etc.
DURATION:PT30M
REPEAT:2
TRIGGER:-PT30M
END:VALARM
END:VEVENT
BEGIN:VEVENT
CATEGORIES:BFAAC
CATEGORIES:Boards & Commissions
CATEGORIES:Budget
CATEGORIES:Budget2027.....................
CATEGORIES:Commission Meeting
DESCRIPTION:Imported on Apr 21\, 2026\, 56 days before the event.\nTo veri
 fy info please see https://apps.alexandriava.gov/Calendar/Detail.aspx?si=
 62576\n\nRegularly scheduled meeting of the Budget and Fiscal Affairs Adv
 isory Committee.\n\n\nLocation: Lee Center\, 1108 Jefferson St.\nContact 
 Person: Meghan McGrane\nContact Phone: 703.746.3734\nAudience: The same a
 s NULL value.\nTags: BFAAC\, Boards & Commissions\, Budget\, Budget2027..
 ...................\, Commission Meeting
DTEND:20260617T003000Z
DTSTAMP:20260415T142358Z
DTSTART:20260616T223000Z
GEO:38.797510;-77.053621
LOCATION:Lee Center\, 1108 Jefferson St.
SEQUENCE:5
STATUS:CONFIRMED
SUMMARY:Budget & Fiscal Affairs Advisory Committee
TRANSP:OPAQUE
UID:4f561aed-bc95-4d7f-8d09-8f40b9cbab23
X-ALT-DESC;FMTTYPE=text/html:Imported on Apr 21\, 2026\, 56 days before th
 e event.<br />To verify info please see <a href="https://apps.alexandriav
 a.gov/Calendar/Detail.aspx?si=62576">https://apps.alexandriava.gov/Calend
 ar/Detail.aspx?si=62576</a><br />\n<br />Regularly scheduled meeting of t
 he Budget and Fiscal Affairs Advisory Committee.\n<br />\n<br />\n<br />L
 ocation: Lee Center\, 1108 Jefferson St.\n<br />Contact Person: Meghan Mc
 Grane\n<br />Contact Phone: 703.746.3734\n<br />Audience: The same as NUL
 L value.\n<br />Tags: BFAAC\, Boards &amp\; Commissions\, Budget\, Budget
 2027.....................\, Commission Meeting
X-COA-DTSTAMP:20260415T142358Z
BEGIN:VALARM
ACTION:DISPLAY
DESCRIPTION:Budget & Fiscal Affairs Advisory Committee: Please visit websi
 te to confirm time\, location\, etc.
DURATION:PT30M
REPEAT:2
TRIGGER:-PT30M
END:VALARM
END:VEVENT
END:VCALENDAR
