BEGIN:VCALENDAR
CALSCALE:GREGORIAN
METHOD:PUBLISH
PRODID:-//github.com/ical-org/ical.net//NONSGML ical.net 4.0//EN
VERSION:2.0
X-WR-TIMEZONE:US/Eastern
BEGIN:VEVENT
CATEGORIES:Boards & Commissions
CATEGORIES:Commission Meeting
CATEGORIES:Community Event
CATEGORIES:Eco-City
CATEGORIES:Environment
CATEGORIES:Environmental Policy Commission (EPC)
CATEGORIES:Green Buildings
CATEGORIES:Planning Commission
CATEGORIES:T&ES Events
DESCRIPTION:Imported on Apr 20\, 2026\, 9 hours before the event.\nTo veri
 fy info please see https://apps.alexandriava.gov/Calendar/Detail.aspx?si=
 62566\n\nThe Environmental Policy Commission will hold their regular busi
 ness meeting on 4/20/26 at 2900 Business Center Drive\, Alexandria. This 
 meeting is in-person with a Zoom option\; advance registration is not req
 uired. Meeting materials will be posted to the EPC website in advance. Pu
 blic comments will be received at the start of the meeting.\n\nZoom Link:
  https://alexandriava.zoom.us/j/92486437616\nMeeting ID: 924 8643 7616\nP
 asscode: 516342\nDial in: 1 (301) 715-8592  \n\nLocation: 2900 Business C
 enter Drive\nContact Person: Melissa Atwood\nContact Phone: 703.746.4136\
 nContact Email: melissa.atwood@alexandriava.gov\nAudience: Anyone may att
 end\nTags: Boards & Commissions\, Commission Meeting\, Community Event\, 
 Eco-City\, Environment\, Environmental Policy Commission (EPC)\, Green Bu
 ildings\, Planning Commission\, T&ES Events\n\nWeb resources:\n\nZoom Web
 inar Link\nhttps://alexandriava.zoom.us/j/92486437616\nZoom Link: https:/
 /alexandriava.zoom.us/j/92486437616\nMeeting ID: 924 8643 7616\nPasscode:
  516342\nDial in: 1 (301) 715-8592  \n\n\n\n  \n\n\n\n\n\n\n  \n \n\n \n\
 nEPC Website\nhttps://www.alexandriava.gov/EPC\n
DTEND:20260421T013000Z
DTSTAMP:20260414T150928Z
DTSTART:20260420T233000Z
LOCATION:2900 Business Center Drive
SEQUENCE:5
STATUS:CONFIRMED
SUMMARY:Environmental Policy Commission\, Regular Meeting
TRANSP:OPAQUE
UID:0cbb8555-3bce-4b08-9f6f-9b1b2b01b98a
URL:https://alexandriava.zoom.us/j/92486437616
X-ALT-DESC;FMTTYPE=text/html:Imported on Apr 20\, 2026\, 9 hours before th
 e event.<br />To verify info please see <a href="https://apps.alexandriav
 a.gov/Calendar/Detail.aspx?si=62566">https://apps.alexandriava.gov/Calend
 ar/Detail.aspx?si=62566</a><br />\n<br />The Environmental Policy Commiss
 ion will hold their regular business meeting on 4/20/26 at 2900 Business 
 Center Drive\, Alexandria. This meeting is in-person with a Zoom option\;
  advance registration is not required. Meeting materials will be posted t
 o the EPC website in advance. Public comments will be received at the sta
 rt of the meeting.\n<br />\n<br />Zoom Link: https://alexandriava.zoom.us
 /j/92486437616\n<br />Meeting ID: 924 8643 7616\n<br />Passcode: 516342\n
 <br />Dial in: 1 (301) 715-8592  \n<br />\n<br />Location: 2900 Business 
 Center Drive\n<br />Contact Person: Melissa Atwood\n<br />Contact Phone: 
 703.746.4136\n<br />Contact Email: melissa.atwood@alexandriava.gov\n<br /
 >Audience: Anyone may attend\n<br />Tags: Boards &amp\; Commissions\, Com
 mission Meeting\, Community Event\, Eco-City\, Environment\, Environmenta
 l Policy Commission (EPC)\, Green Buildings\, Planning Commission\, T&amp
 \;ES Events<br>\n<a href="https://alexandriava.zoom.us/j/92486437616">Zoo
 m Webinar Link</a><br>\nZoom Link: https://alexandriava.zoom.us/j/9248643
 7616\nMeeting ID: 924 8643 7616\nPasscode: 516342\nDial in: 1 (301) 715-8
 592  \n\n\n\n  \n\n\n\n\n\n\n  \n \n\n <br>\n<a href="https://www.alexand
 riava.gov/EPC">EPC Website</a><br>\n
X-COA-DTSTAMP:20260414T150928Z
BEGIN:VALARM
ACTION:DISPLAY
DESCRIPTION:Environmental Policy Commission\, Regular Meeting: Please visi
 t website to confirm time\, location\, etc.
DURATION:PT30M
REPEAT:2
TRIGGER:-PT30M
END:VALARM
END:VEVENT
BEGIN:VEVENT
CATEGORIES:Boards & Commissions
CATEGORIES:Commission Meeting
CATEGORIES:Community Event
CATEGORIES:Eco-City
CATEGORIES:Environment
CATEGORIES:Environmental Policy Commission (EPC)
CATEGORIES:Green Buildings
CATEGORIES:Planning Commission
CATEGORIES:T&ES Events
DESCRIPTION:Imported on Apr 20\, 2026\, 11 days before the event.\nTo veri
 fy info please see https://apps.alexandriava.gov/Calendar/Detail.aspx?si=
 62567\n\nThe Environmental Policy Commission will hold their Annual Retre
 at on 5/2/26.  This meeting is in-person\; advance registration is not re
 quired.  Meeting materials will be posted to the EPC website.  Possibly t
 hree (3) members of City Council will be present.\n\nLocation: 2900 Busin
 ess Center Drive\nContact Person: Melissa Atwood\, Senior Environmental S
 pecialist\nContact Phone: 703.201.7993\nContact Email: melissa.atwood@ale
 xandriava.gov\nAudience: Anyone may attend\nTags: Boards & Commissions\, 
 Commission Meeting\, Community Event\, Eco-City\, Environment\, Environme
 ntal Policy Commission (EPC)\, Green Buildings\, Planning Commission\, T&
 ES Events\n\nWeb resources:\n\nEPC website\nhttps://www.alexandriava.gov/
 EPC\n
DTEND:20260502T190000Z
DTSTAMP:20260414T155801Z
DTSTART:20260502T120000Z
LOCATION:2900 Business Center Drive
SEQUENCE:6
STATUS:CONFIRMED
SUMMARY:EPC 2026 Annual Retreat
TRANSP:OPAQUE
UID:7f21d385-6f7a-4b97-9cca-4a46fed9f202
URL:https://www.alexandriava.gov/EPC
X-ALT-DESC;FMTTYPE=text/html:Imported on Apr 20\, 2026\, 11 days before th
 e event.<br />To verify info please see <a href="https://apps.alexandriav
 a.gov/Calendar/Detail.aspx?si=62567">https://apps.alexandriava.gov/Calend
 ar/Detail.aspx?si=62567</a><br />\n<br />The Environmental Policy Commiss
 ion will hold their Annual Retreat on 5/2/26.  This meeting is in-person\
 ; advance registration is not required.  Meeting materials will be posted
  to the EPC website.  Possibly three (3) members of City Council will be 
 present.\n<br />\n<br />Location: 2900 Business Center Drive\n<br />Conta
 ct Person: Melissa Atwood\, Senior Environmental Specialist\n<br />Contac
 t Phone: 703.201.7993\n<br />Contact Email: melissa.atwood@alexandriava.g
 ov\n<br />Audience: Anyone may attend\n<br />Tags: Boards &amp\; Commissi
 ons\, Commission Meeting\, Community Event\, Eco-City\, Environment\, Env
 ironmental Policy Commission (EPC)\, Green Buildings\, Planning Commissio
 n\, T&amp\;ES Events<br>\n<a href="https://www.alexandriava.gov/EPC">EPC 
 website</a><br>\n
X-COA-DTSTAMP:20260414T155801Z
BEGIN:VALARM
ACTION:DISPLAY
DESCRIPTION:EPC 2026 Annual Retreat: Please visit website to confirm time\
 , location\, etc.
DURATION:PT30M
REPEAT:2
TRIGGER:-PT30M
END:VALARM
END:VEVENT
BEGIN:VEVENT
CATEGORIES:Boards & Commissions
CATEGORIES:Cablecast
CATEGORIES:City Hall
CATEGORIES:Commission Meeting
CATEGORIES:Planning Boards and Commissions
CATEGORIES:Planning Commission
CATEGORIES:Planning Meeting
CATEGORIES:Public Hearing Commissions
CATEGORIES:Regular Meeting
CATEGORIES:Webcast
CATEGORIES:Zoning
DESCRIPTION:Imported on Apr 20\, 2026\, 15 days before the event.\nTo veri
 fy info please see https://apps.alexandriava.gov/Calendar/Detail.aspx?si=
 59655\n\nThe docket and information on how to participate is available at
  www.alexandriava.gov/dockets\n\nLocation: Del Pepper Community Resource 
 Center\, 4850 Mark Center Drive\nContact Person: Kendra Jacobs\nContact P
 hone: 703.746.3920\nContact Email: kendra.jacobs@alexandriava.gov\nAudien
 ce: Anyone may attend\nTags: Boards & Commissions\, Cablecast\, City Hall
 \, Commission Meeting\, Planning Boards and Commissions\, Planning Commis
 sion\, Planning Meeting\, Public Hearing Commissions\, Regular Meeting\, 
 Webcast\, Zoning\n\nWeb resources:\n\nhttps://alexandria.granicus.com/Vie
 wPublisher.php?view_id=57\n
DTEND:20260506T035900Z
DTSTAMP:20260202T183008Z
DTSTART:20260505T230000Z
LOCATION:Del Pepper Community Resource Center\, 4850 Mark Center Drive
SEQUENCE:9
STATUS:CONFIRMED
SUMMARY:Planning Commission Public Hearing
TRANSP:OPAQUE
UID:9e1abfe2-064f-472c-b619-f1e891a76cdf
URL:https://alexandria.granicus.com/ViewPublisher.php?view_id=57
X-ALT-DESC;FMTTYPE=text/html:Imported on Apr 20\, 2026\, 15 days before th
 e event.<br />To verify info please see <a href="https://apps.alexandriav
 a.gov/Calendar/Detail.aspx?si=59655">https://apps.alexandriava.gov/Calend
 ar/Detail.aspx?si=59655</a><br />\n<br />The docket and information on ho
 w to participate is available at www.alexandriava.gov/dockets\n<br />\n<b
 r />Location: Del Pepper Community Resource Center\, 4850 Mark Center Dri
 ve\n<br />Contact Person: Kendra Jacobs\n<br />Contact Phone: 703.746.392
 0\n<br />Contact Email: kendra.jacobs@alexandriava.gov\n<br />Audience: A
 nyone may attend\n<br />Tags: Boards &amp\; Commissions\, Cablecast\, Cit
 y Hall\, Commission Meeting\, Planning Boards and Commissions\, Planning 
 Commission\, Planning Meeting\, Public Hearing Commissions\, Regular Meet
 ing\, Webcast\, Zoning<br>\n<a href="https://alexandria.granicus.com/View
 Publisher.php?view_id=57">https://alexandria.granicus.com/ViewPublisher.p
 hp?view_id=57</a><br>\n
X-COA-DTSTAMP:20260202T183008Z
BEGIN:VALARM
ACTION:DISPLAY
DESCRIPTION:Planning Commission Public Hearing: Please visit website to co
 nfirm time\, location\, etc.
DURATION:PT30M
REPEAT:2
TRIGGER:-PT30M
END:VALARM
END:VEVENT
BEGIN:VEVENT
CATEGORIES:Boards & Commissions
CATEGORIES:Cablecast
CATEGORIES:City Hall
CATEGORIES:Commission Meeting
CATEGORIES:Planning Boards and Commissions
CATEGORIES:Planning Commission
CATEGORIES:Planning Meeting
CATEGORIES:Public Hearing Commissions
CATEGORIES:Regular Meeting
CATEGORIES:Webcast
CATEGORIES:Zoning
DESCRIPTION:Imported on Apr 20\, 2026\, 43 days before the event.\nTo veri
 fy info please see https://apps.alexandriava.gov/Calendar/Detail.aspx?si=
 59656\n\nThe docket and information on how to participate is available at
  www.alexandriava.gov/dockets\n\nLocation: Del Pepper Community Resource 
 Center\, 4850 Mark Center Drive\nContact Person: Kendra Jacobs\nContact P
 hone: 703.746.3920\nContact Email: kendra.jacobs@alexandriava.gov\nAudien
 ce: Anyone may attend\nTags: Boards & Commissions\, Cablecast\, City Hall
 \, Commission Meeting\, Planning Boards and Commissions\, Planning Commis
 sion\, Planning Meeting\, Public Hearing Commissions\, Regular Meeting\, 
 Webcast\, Zoning\n\nWeb resources:\n\nhttps://alexandria.granicus.com/Vie
 wPublisher.php?view_id=57\n
DTEND:20260603T035900Z
DTSTAMP:20260202T183008Z
DTSTART:20260602T230000Z
LOCATION:Del Pepper Community Resource Center\, 4850 Mark Center Drive
SEQUENCE:9
STATUS:CONFIRMED
SUMMARY:Planning Commission Public Hearing
TRANSP:OPAQUE
UID:ff868d50-be8f-4c7e-832e-d1d42423b029
URL:https://alexandria.granicus.com/ViewPublisher.php?view_id=57
X-ALT-DESC;FMTTYPE=text/html:Imported on Apr 20\, 2026\, 43 days before th
 e event.<br />To verify info please see <a href="https://apps.alexandriav
 a.gov/Calendar/Detail.aspx?si=59656">https://apps.alexandriava.gov/Calend
 ar/Detail.aspx?si=59656</a><br />\n<br />The docket and information on ho
 w to participate is available at www.alexandriava.gov/dockets\n<br />\n<b
 r />Location: Del Pepper Community Resource Center\, 4850 Mark Center Dri
 ve\n<br />Contact Person: Kendra Jacobs\n<br />Contact Phone: 703.746.392
 0\n<br />Contact Email: kendra.jacobs@alexandriava.gov\n<br />Audience: A
 nyone may attend\n<br />Tags: Boards &amp\; Commissions\, Cablecast\, Cit
 y Hall\, Commission Meeting\, Planning Boards and Commissions\, Planning 
 Commission\, Planning Meeting\, Public Hearing Commissions\, Regular Meet
 ing\, Webcast\, Zoning<br>\n<a href="https://alexandria.granicus.com/View
 Publisher.php?view_id=57">https://alexandria.granicus.com/ViewPublisher.p
 hp?view_id=57</a><br>\n
X-COA-DTSTAMP:20260202T183008Z
BEGIN:VALARM
ACTION:DISPLAY
DESCRIPTION:Planning Commission Public Hearing: Please visit website to co
 nfirm time\, location\, etc.
DURATION:PT30M
REPEAT:2
TRIGGER:-PT30M
END:VALARM
END:VEVENT
BEGIN:VEVENT
CATEGORIES:Boards & Commissions
CATEGORIES:Cablecast
CATEGORIES:City Hall
CATEGORIES:Commission Meeting
CATEGORIES:Planning Boards and Commissions
CATEGORIES:Planning Commission
CATEGORIES:Planning Meeting
CATEGORIES:Public Hearing Commissions
CATEGORIES:Regular Meeting
CATEGORIES:Webcast
CATEGORIES:Zoning
DESCRIPTION:Imported on Apr 20\, 2026\, 63 days before the event.\nTo veri
 fy info please see https://apps.alexandriava.gov/Calendar/Detail.aspx?si=
 59657\n\nThe docket and information on how to participate is available at
  www.alexandriava.gov/dockets\n\nLocation: Del Pepper Community Resource 
 Center\, 4850 Mark Center Drive\nContact Person: Kendra Jacobs\nContact P
 hone: 703.746.3920\nContact Email: kendra.jacobs@alexandriava.gov\nAudien
 ce: Anyone may attend\nTags: Boards & Commissions\, Cablecast\, City Hall
 \, Commission Meeting\, Planning Boards and Commissions\, Planning Commis
 sion\, Planning Meeting\, Public Hearing Commissions\, Regular Meeting\, 
 Webcast\, Zoning\n\nWeb resources:\n\nhttps://alexandria.granicus.com/Vie
 wPublisher.php?view_id=57\n
DTEND:20260623T035900Z
DTSTAMP:20260415T181510Z
DTSTART:20260622T230000Z
LOCATION:Del Pepper Community Resource Center\, 4850 Mark Center Drive
SEQUENCE:10
STATUS:CONFIRMED
SUMMARY:Planning Commission Public Hearing
TRANSP:OPAQUE
UID:03245b20-41aa-4090-9adf-727b96a4b275
URL:https://alexandria.granicus.com/ViewPublisher.php?view_id=57
X-ALT-DESC;FMTTYPE=text/html:Imported on Apr 20\, 2026\, 63 days before th
 e event.<br />To verify info please see <a href="https://apps.alexandriav
 a.gov/Calendar/Detail.aspx?si=59657">https://apps.alexandriava.gov/Calend
 ar/Detail.aspx?si=59657</a><br />\n<br />The docket and information on ho
 w to participate is available at www.alexandriava.gov/dockets\n<br />\n<b
 r />Location: Del Pepper Community Resource Center\, 4850 Mark Center Dri
 ve\n<br />Contact Person: Kendra Jacobs\n<br />Contact Phone: 703.746.392
 0\n<br />Contact Email: kendra.jacobs@alexandriava.gov\n<br />Audience: A
 nyone may attend\n<br />Tags: Boards &amp\; Commissions\, Cablecast\, Cit
 y Hall\, Commission Meeting\, Planning Boards and Commissions\, Planning 
 Commission\, Planning Meeting\, Public Hearing Commissions\, Regular Meet
 ing\, Webcast\, Zoning<br>\n<a href="https://alexandria.granicus.com/View
 Publisher.php?view_id=57">https://alexandria.granicus.com/ViewPublisher.p
 hp?view_id=57</a><br>\n
X-COA-DTSTAMP:20260415T181510Z
BEGIN:VALARM
ACTION:DISPLAY
DESCRIPTION:Planning Commission Public Hearing: Please visit website to co
 nfirm time\, location\, etc.
DURATION:PT30M
REPEAT:2
TRIGGER:-PT30M
END:VALARM
END:VEVENT
END:VCALENDAR
