BEGIN:VCALENDAR
CALSCALE:GREGORIAN
METHOD:PUBLISH
PRODID:-//github.com/ical-org/ical.net//NONSGML ical.net 4.0//EN
VERSION:2.0
X-WR-TIMEZONE:US/Eastern
BEGIN:VEVENT
CATEGORIES:Adult
CATEGORIES:Aging
CATEGORIES:Community Outreach
CATEGORIES:DCHS
CATEGORIES:Del Ray
CATEGORIES:Taxes
DESCRIPTION:Imported on Apr 25\, 2026\, 3 days before the event.\nTo verif
 y info please see https://apps.alexandriava.gov/Calendar/Detail.aspx?si=6
 2206\n\nServices run Wednesdays 6-8 p.m. and Saturdays\, 9 a.m. to 12 p.m
 . from February 4-April 18\n\nLocation: 4850 Mark Center Drive\, 4850 Mar
 k Center Drive\nContact Phone: 202.830.1480 (English) or 202.869.2999 (Sp
 anish)\nAudience: The same as NULL value.\nTags: Adult\, Aging\, Communit
 y Outreach\, DCHS\, Del Ray\, Taxes\n\nWeb resources:\n\nhttps://www.alex
 andriava.gov/sites/default/files/2026-01/Tax%20Prep%20Flyer%202025.pdf\n
DTEND:20260430T000001Z
DTSTAMP:20260205T145507Z
DTSTART:20260429T220000Z
LOCATION:4850 Mark Center Drive\, 4850 Mark Center Drive
SEQUENCE:5
STATUS:CONFIRMED
SUMMARY:Tax Time is Here! File for Free!
TRANSP:OPAQUE
UID:da43766f-3d84-4c8d-b874-fb43c4a8ef11
URL:https://www.alexandriava.gov/sites/default/files/2026-01/Tax%20Prep%20
 Flyer%202025.pdf
X-ALT-DESC;FMTTYPE=text/html:Imported on Apr 25\, 2026\, 3 days before the
  event.<br />To verify info please see <a href="https://apps.alexandriava
 .gov/Calendar/Detail.aspx?si=62206">https://apps.alexandriava.gov/Calenda
 r/Detail.aspx?si=62206</a><br />\n<br />Services run Wednesdays 6-8 p.m. 
 and Saturdays\, 9 a.m. to 12 p.m. from February 4-April 18\n<br />\n<br /
 >Location: 4850 Mark Center Drive\, 4850 Mark Center Drive\n<br />Contact
  Phone: 202.830.1480 (English) or 202.869.2999 (Spanish)\n<br />Audience:
  The same as NULL value.\n<br />Tags: Adult\, Aging\, Community Outreach\
 , DCHS\, Del Ray\, Taxes<br>\n<a href="https://www.alexandriava.gov/sites
 /default/files/2026-01/Tax%20Prep%20Flyer%202025.pdf">https://www.alexand
 riava.gov/sites/default/files/2026-01/Tax%20Prep%20Flyer%202025.pdf</a><b
 r>\n
X-COA-DTSTAMP:20260205T145507Z
BEGIN:VALARM
ACTION:DISPLAY
DESCRIPTION:Tax Time is Here! File for Free! : Please visit website to con
 firm time\, location\, etc.
DURATION:PT30M
REPEAT:2
TRIGGER:-PT30M
END:VALARM
END:VEVENT
END:VCALENDAR
