BEGIN:VCALENDAR
CALSCALE:GREGORIAN
METHOD:PUBLISH
PRODID:-//github.com/ical-org/ical.net//NONSGML ical.net 4.0//EN
VERSION:2.0
X-WR-TIMEZONE:US/Eastern
BEGIN:VEVENT
CATEGORIES:Pensions
CATEGORIES:Supplemental Retirement Plan
DESCRIPTION:Imported on Apr 22\, 2026\, 14 days before the event.\nTo veri
 fy info please see https://apps.alexandriava.gov/Calendar/Detail.aspx?si=
 61996\n\nMeeting of the Supplemental Retirement Plan Pension Board. The B
 oard manages the investments of the pension plan assets. This plan provid
 es retirement benefits for eligible General Schedule employees\, Deputy S
 heriffs\, Medics\, and Fire Marshals. During the meeting the Board may re
 view the fund's investments and hear from current and potential investmen
 t managers. During each meeting there may be an education segment. The Bo
 ard may hear other matters brought to their attention. Some meetings are 
 joint meetings with the Firefighters and Police Officers Pension Plan Boa
 rd. The event end time is approximate. \n\nLocation: Del Pepper Community
  Resource Center\, 4850 Mark Center Drive\nAudience: Anyone may attend\nT
 ags: Pensions\, Supplemental Retirement Plan
DTEND:20260506T164500Z
DTSTAMP:20260106T152256Z
DTSTART:20260506T124500Z
LOCATION:Del Pepper Community Resource Center\, 4850 Mark Center Drive
SEQUENCE:6
STATUS:CONFIRMED
SUMMARY:Supplemental Retirement Plan Pension Board
TRANSP:TRANSPARENT
UID:ef8fe861-bfc1-4d9c-b6a9-1a7f80be1d43
X-ALT-DESC;FMTTYPE=text/html:Imported on Apr 22\, 2026\, 14 days before th
 e event.<br />To verify info please see <a href="https://apps.alexandriav
 a.gov/Calendar/Detail.aspx?si=61996">https://apps.alexandriava.gov/Calend
 ar/Detail.aspx?si=61996</a><br />\n<br />Meeting of the Supplemental Reti
 rement Plan Pension Board. The Board manages the investments of the pensi
 on plan assets. This plan provides retirement benefits for eligible Gener
 al Schedule employees\, Deputy Sheriffs\, Medics\, and Fire Marshals. Dur
 ing the meeting the Board may review the fund&#39\;s investments and hear
  from current and potential investment managers. During each meeting ther
 e may be an education segment. The Board may hear other matters brought t
 o their attention. Some meetings are joint meetings with the Firefighters
  and Police Officers Pension Plan Board. The event end time is approximat
 e. \n<br />\n<br />Location: Del Pepper Community Resource Center\, 4850 
 Mark Center Drive\n<br />Audience: Anyone may attend\n<br />Tags: Pension
 s\, Supplemental Retirement Plan
X-COA-DTSTAMP:20260106T152256Z
END:VEVENT
BEGIN:VEVENT
CATEGORIES:Pensions
CATEGORIES:Supplemental Retirement Plan
DESCRIPTION:Imported on Apr 22\, 2026\, 48 days before the event.\nTo veri
 fy info please see https://apps.alexandriava.gov/Calendar/Detail.aspx?si=
 61997\n\nMeeting of the Supplemental Retirement Plan Pension Board. The B
 oard manages the investments of the pension plan assets. This plan provid
 es retirement benefits for eligible General Schedule employees\, Deputy S
 heriffs\, Medics\, and Fire Marshals. During the meeting the Board may re
 view the fund's investments and hear from current and potential investmen
 t managers. During each meeting there may be an education segment. The Bo
 ard may hear other matters brought to their attention. Some meetings are 
 joint meetings with the Firefighters and Police Officers Pension Plan Boa
 rd. The event end time is approximate. \n\nLocation: Del Pepper Community
  Resource Center\, 4850 Mark Center Drive\nAudience: Anyone may attend\nT
 ags: Pensions\, Supplemental Retirement Plan
DTEND:20260609T164500Z
DTSTAMP:20260106T152256Z
DTSTART:20260609T124500Z
LOCATION:Del Pepper Community Resource Center\, 4850 Mark Center Drive
SEQUENCE:6
STATUS:CONFIRMED
SUMMARY:Supplemental Retirement Plan Pension Board
TRANSP:TRANSPARENT
UID:6d31c774-7753-42a8-8b75-33b1ae3e8158
X-ALT-DESC;FMTTYPE=text/html:Imported on Apr 22\, 2026\, 48 days before th
 e event.<br />To verify info please see <a href="https://apps.alexandriav
 a.gov/Calendar/Detail.aspx?si=61997">https://apps.alexandriava.gov/Calend
 ar/Detail.aspx?si=61997</a><br />\n<br />Meeting of the Supplemental Reti
 rement Plan Pension Board. The Board manages the investments of the pensi
 on plan assets. This plan provides retirement benefits for eligible Gener
 al Schedule employees\, Deputy Sheriffs\, Medics\, and Fire Marshals. Dur
 ing the meeting the Board may review the fund&#39\;s investments and hear
  from current and potential investment managers. During each meeting ther
 e may be an education segment. The Board may hear other matters brought t
 o their attention. Some meetings are joint meetings with the Firefighters
  and Police Officers Pension Plan Board. The event end time is approximat
 e. \n<br />\n<br />Location: Del Pepper Community Resource Center\, 4850 
 Mark Center Drive\n<br />Audience: Anyone may attend\n<br />Tags: Pension
 s\, Supplemental Retirement Plan
X-COA-DTSTAMP:20260106T152256Z
END:VEVENT
BEGIN:VEVENT
CATEGORIES:Pensions
CATEGORIES:Supplemental Retirement Plan
DESCRIPTION:Imported on Apr 22\, 2026\, 83 days before the event.\nTo veri
 fy info please see https://apps.alexandriava.gov/Calendar/Detail.aspx?si=
 61998\n\nMeeting of the Supplemental Retirement Plan Pension Board. The B
 oard manages the investments of the pension plan assets. This plan provid
 es retirement benefits for eligible General Schedule employees\, Deputy S
 heriffs\, Medics\, and Fire Marshals. During the meeting the Board may re
 view the fund's investments and hear from current and potential investmen
 t managers. During each meeting there may be an education segment. The Bo
 ard may hear other matters brought to their attention. Some meetings are 
 joint meetings with the Firefighters and Police Officers Pension Plan Boa
 rd. The event end time is approximate. \n\nLocation: Del Pepper Community
  Resource Center\, 4850 Mark Center Drive\nAudience: Anyone may attend\nT
 ags: Pensions\, Supplemental Retirement Plan
DTEND:20260714T164500Z
DTSTAMP:20260106T152256Z
DTSTART:20260714T124500Z
LOCATION:Del Pepper Community Resource Center\, 4850 Mark Center Drive
SEQUENCE:6
STATUS:CONFIRMED
SUMMARY:Supplemental Retirement Plan Pension Board
TRANSP:TRANSPARENT
UID:ed0af853-9e31-4e8e-8357-f68f875a887a
X-ALT-DESC;FMTTYPE=text/html:Imported on Apr 22\, 2026\, 83 days before th
 e event.<br />To verify info please see <a href="https://apps.alexandriav
 a.gov/Calendar/Detail.aspx?si=61998">https://apps.alexandriava.gov/Calend
 ar/Detail.aspx?si=61998</a><br />\n<br />Meeting of the Supplemental Reti
 rement Plan Pension Board. The Board manages the investments of the pensi
 on plan assets. This plan provides retirement benefits for eligible Gener
 al Schedule employees\, Deputy Sheriffs\, Medics\, and Fire Marshals. Dur
 ing the meeting the Board may review the fund&#39\;s investments and hear
  from current and potential investment managers. During each meeting ther
 e may be an education segment. The Board may hear other matters brought t
 o their attention. Some meetings are joint meetings with the Firefighters
  and Police Officers Pension Plan Board. The event end time is approximat
 e. \n<br />\n<br />Location: Del Pepper Community Resource Center\, 4850 
 Mark Center Drive\n<br />Audience: Anyone may attend\n<br />Tags: Pension
 s\, Supplemental Retirement Plan
X-COA-DTSTAMP:20260106T152256Z
END:VEVENT
BEGIN:VEVENT
CATEGORIES:Pensions
CATEGORIES:Supplemental Retirement Plan
DESCRIPTION:Imported on Apr 22\, 2026\, 105 days before the event.\nTo ver
 ify info please see https://apps.alexandriava.gov/Calendar/Detail.aspx?si
 =61999\n\nMeeting of the Supplemental Retirement Plan Pension Board. The 
 Board manages the investments of the pension plan assets. This plan provi
 des retirement benefits for eligible General Schedule employees\, Deputy 
 Sheriffs\, Medics\, and Fire Marshals. During the meeting the Board may r
 eview the fund's investments and hear from current and potential investme
 nt managers. During each meeting there may be an education segment. The B
 oard may hear other matters brought to their attention. Some meetings are
  joint meetings with the Firefighters and Police Officers Pension Plan Bo
 ard. The event end time is approximate. \n\nLocation: Del Pepper Communit
 y Resource Center\, 4850 Mark Center Drive\nAudience: Anyone may attend\n
 Tags: Pensions\, Supplemental Retirement Plan
DTEND:20260805T164500Z
DTSTAMP:20260106T152256Z
DTSTART:20260805T124500Z
LOCATION:Del Pepper Community Resource Center\, 4850 Mark Center Drive
SEQUENCE:6
STATUS:CONFIRMED
SUMMARY:Supplemental Retirement Plan Pension Board
TRANSP:TRANSPARENT
UID:f708882e-16b2-4a36-93aa-911b2ab6ef77
X-ALT-DESC;FMTTYPE=text/html:Imported on Apr 22\, 2026\, 105 days before t
 he event.<br />To verify info please see <a href="https://apps.alexandria
 va.gov/Calendar/Detail.aspx?si=61999">https://apps.alexandriava.gov/Calen
 dar/Detail.aspx?si=61999</a><br />\n<br />Meeting of the Supplemental Ret
 irement Plan Pension Board. The Board manages the investments of the pens
 ion plan assets. This plan provides retirement benefits for eligible Gene
 ral Schedule employees\, Deputy Sheriffs\, Medics\, and Fire Marshals. Du
 ring the meeting the Board may review the fund&#39\;s investments and hea
 r from current and potential investment managers. During each meeting the
 re may be an education segment. The Board may hear other matters brought 
 to their attention. Some meetings are joint meetings with the Firefighter
 s and Police Officers Pension Plan Board. The event end time is approxima
 te. \n<br />\n<br />Location: Del Pepper Community Resource Center\, 4850
  Mark Center Drive\n<br />Audience: Anyone may attend\n<br />Tags: Pensio
 ns\, Supplemental Retirement Plan
X-COA-DTSTAMP:20260106T152256Z
END:VEVENT
BEGIN:VEVENT
CATEGORIES:Pensions
CATEGORIES:Supplemental Retirement Plan
DESCRIPTION:Imported on Apr 22\, 2026\, 139 days before the event.\nTo ver
 ify info please see https://apps.alexandriava.gov/Calendar/Detail.aspx?si
 =62000\n\nMeeting of the Supplemental Retirement Plan Pension Board. The 
 Board manages the investments of the pension plan assets. This plan provi
 des retirement benefits for eligible General Schedule employees\, Deputy 
 Sheriffs\, Medics\, and Fire Marshals. During the meeting the Board may r
 eview the fund's investments and hear from current and potential investme
 nt managers. During each meeting there may be an education segment. The B
 oard may hear other matters brought to their attention. Some meetings are
  joint meetings with the Firefighters and Police Officers Pension Plan Bo
 ard. The event end time is approximate. \n\nLocation: Del Pepper Communit
 y Resource Center\, 4850 Mark Center Drive\nAudience: Anyone may attend\n
 Tags: Pensions\, Supplemental Retirement Plan
DTEND:20260908T164500Z
DTSTAMP:20260106T152256Z
DTSTART:20260908T124500Z
LOCATION:Del Pepper Community Resource Center\, 4850 Mark Center Drive
SEQUENCE:6
STATUS:CONFIRMED
SUMMARY:Supplemental Retirement Plan Pension Board
TRANSP:TRANSPARENT
UID:a5d0d383-d3a4-4072-b03e-bdfe7c72d5d2
X-ALT-DESC;FMTTYPE=text/html:Imported on Apr 22\, 2026\, 139 days before t
 he event.<br />To verify info please see <a href="https://apps.alexandria
 va.gov/Calendar/Detail.aspx?si=62000">https://apps.alexandriava.gov/Calen
 dar/Detail.aspx?si=62000</a><br />\n<br />Meeting of the Supplemental Ret
 irement Plan Pension Board. The Board manages the investments of the pens
 ion plan assets. This plan provides retirement benefits for eligible Gene
 ral Schedule employees\, Deputy Sheriffs\, Medics\, and Fire Marshals. Du
 ring the meeting the Board may review the fund&#39\;s investments and hea
 r from current and potential investment managers. During each meeting the
 re may be an education segment. The Board may hear other matters brought 
 to their attention. Some meetings are joint meetings with the Firefighter
 s and Police Officers Pension Plan Board. The event end time is approxima
 te. \n<br />\n<br />Location: Del Pepper Community Resource Center\, 4850
  Mark Center Drive\n<br />Audience: Anyone may attend\n<br />Tags: Pensio
 ns\, Supplemental Retirement Plan
X-COA-DTSTAMP:20260106T152256Z
END:VEVENT
BEGIN:VEVENT
CATEGORIES:Pensions
CATEGORIES:Supplemental Retirement Plan
DESCRIPTION:Imported on Apr 22\, 2026\, 168 days before the event.\nTo ver
 ify info please see https://apps.alexandriava.gov/Calendar/Detail.aspx?si
 =62001\n\nMeeting of the Supplemental Retirement Plan Pension Board. The 
 Board manages the investments of the pension plan assets. This plan provi
 des retirement benefits for eligible General Schedule employees\, Deputy 
 Sheriffs\, Medics\, and Fire Marshals. During the meeting the Board may r
 eview the fund's investments and hear from current and potential investme
 nt managers. During each meeting there may be an education segment. The B
 oard may hear other matters brought to their attention. Some meetings are
  joint meetings with the Firefighters and Police Officers Pension Plan Bo
 ard. The event end time is approximate. \n\nLocation: Del Pepper Communit
 y Resource Center\, 4850 Mark Center Drive\nAudience: Anyone may attend\n
 Tags: Pensions\, Supplemental Retirement Plan
DTEND:20261007T164500Z
DTSTAMP:20260106T152256Z
DTSTART:20261007T124500Z
LOCATION:Del Pepper Community Resource Center\, 4850 Mark Center Drive
SEQUENCE:6
STATUS:CONFIRMED
SUMMARY:Supplemental Retirement Plan Pension Board
TRANSP:TRANSPARENT
UID:b8aa30d4-27a3-44ac-82cf-5d363bd7084c
X-ALT-DESC;FMTTYPE=text/html:Imported on Apr 22\, 2026\, 168 days before t
 he event.<br />To verify info please see <a href="https://apps.alexandria
 va.gov/Calendar/Detail.aspx?si=62001">https://apps.alexandriava.gov/Calen
 dar/Detail.aspx?si=62001</a><br />\n<br />Meeting of the Supplemental Ret
 irement Plan Pension Board. The Board manages the investments of the pens
 ion plan assets. This plan provides retirement benefits for eligible Gene
 ral Schedule employees\, Deputy Sheriffs\, Medics\, and Fire Marshals. Du
 ring the meeting the Board may review the fund&#39\;s investments and hea
 r from current and potential investment managers. During each meeting the
 re may be an education segment. The Board may hear other matters brought 
 to their attention. Some meetings are joint meetings with the Firefighter
 s and Police Officers Pension Plan Board. The event end time is approxima
 te. \n<br />\n<br />Location: Del Pepper Community Resource Center\, 4850
  Mark Center Drive\n<br />Audience: Anyone may attend\n<br />Tags: Pensio
 ns\, Supplemental Retirement Plan
X-COA-DTSTAMP:20260106T152256Z
END:VEVENT
BEGIN:VEVENT
CATEGORIES:Pensions
CATEGORIES:Supplemental Retirement Plan
DESCRIPTION:Imported on Apr 22\, 2026\, 196 days before the event.\nTo ver
 ify info please see https://apps.alexandriava.gov/Calendar/Detail.aspx?si
 =62002\n\nMeeting of the Supplemental Retirement Plan Pension Board. The 
 Board manages the investments of the pension plan assets. This plan provi
 des retirement benefits for eligible General Schedule employees\, Deputy 
 Sheriffs\, Medics\, and Fire Marshals. During the meeting the Board may r
 eview the fund's investments and hear from current and potential investme
 nt managers. During each meeting there may be an education segment. The B
 oard may hear other matters brought to their attention. Some meetings are
  joint meetings with the Firefighters and Police Officers Pension Plan Bo
 ard. The event end time is approximate. \n\nLocation: Del Pepper Communit
 y Resource Center\, 4850 Mark Center Drive\nAudience: Anyone may attend\n
 Tags: Pensions\, Supplemental Retirement Plan
DTEND:20261104T174500Z
DTSTAMP:20260106T152256Z
DTSTART:20261104T134500Z
LOCATION:Del Pepper Community Resource Center\, 4850 Mark Center Drive
SEQUENCE:6
STATUS:CONFIRMED
SUMMARY:Supplemental Retirement Plan Pension Board
TRANSP:TRANSPARENT
UID:98770cfd-a21b-406e-b1d3-31b467cc116f
X-ALT-DESC;FMTTYPE=text/html:Imported on Apr 22\, 2026\, 196 days before t
 he event.<br />To verify info please see <a href="https://apps.alexandria
 va.gov/Calendar/Detail.aspx?si=62002">https://apps.alexandriava.gov/Calen
 dar/Detail.aspx?si=62002</a><br />\n<br />Meeting of the Supplemental Ret
 irement Plan Pension Board. The Board manages the investments of the pens
 ion plan assets. This plan provides retirement benefits for eligible Gene
 ral Schedule employees\, Deputy Sheriffs\, Medics\, and Fire Marshals. Du
 ring the meeting the Board may review the fund&#39\;s investments and hea
 r from current and potential investment managers. During each meeting the
 re may be an education segment. The Board may hear other matters brought 
 to their attention. Some meetings are joint meetings with the Firefighter
 s and Police Officers Pension Plan Board. The event end time is approxima
 te. \n<br />\n<br />Location: Del Pepper Community Resource Center\, 4850
  Mark Center Drive\n<br />Audience: Anyone may attend\n<br />Tags: Pensio
 ns\, Supplemental Retirement Plan
X-COA-DTSTAMP:20260106T152256Z
END:VEVENT
BEGIN:VEVENT
CATEGORIES:Pensions
CATEGORIES:Supplemental Retirement Plan
DESCRIPTION:Imported on Apr 22\, 2026\, 230 days before the event.\nTo ver
 ify info please see https://apps.alexandriava.gov/Calendar/Detail.aspx?si
 =62003\n\nMeeting of the Supplemental Retirement Plan Pension Board. The 
 Board manages the investments of the pension plan assets. This plan provi
 des retirement benefits for eligible General Schedule employees\, Deputy 
 Sheriffs\, Medics\, and Fire Marshals. During the meeting the Board may r
 eview the fund's investments and hear from current and potential investme
 nt managers. During each meeting there may be an education segment. The B
 oard may hear other matters brought to their attention. Some meetings are
  joint meetings with the Firefighters and Police Officers Pension Plan Bo
 ard. The event end time is approximate. \n\nLocation: Del Pepper Communit
 y Resource Center\, 4850 Mark Center Drive\nAudience: Anyone may attend\n
 Tags: Pensions\, Supplemental Retirement Plan
DTEND:20261208T174500Z
DTSTAMP:20260106T152256Z
DTSTART:20261208T134500Z
LOCATION:Del Pepper Community Resource Center\, 4850 Mark Center Drive
SEQUENCE:6
STATUS:CONFIRMED
SUMMARY:Supplemental Retirement Plan Pension Board
TRANSP:TRANSPARENT
UID:15ff12e6-ff05-4420-a2aa-1f585ebaa9d0
X-ALT-DESC;FMTTYPE=text/html:Imported on Apr 22\, 2026\, 230 days before t
 he event.<br />To verify info please see <a href="https://apps.alexandria
 va.gov/Calendar/Detail.aspx?si=62003">https://apps.alexandriava.gov/Calen
 dar/Detail.aspx?si=62003</a><br />\n<br />Meeting of the Supplemental Ret
 irement Plan Pension Board. The Board manages the investments of the pens
 ion plan assets. This plan provides retirement benefits for eligible Gene
 ral Schedule employees\, Deputy Sheriffs\, Medics\, and Fire Marshals. Du
 ring the meeting the Board may review the fund&#39\;s investments and hea
 r from current and potential investment managers. During each meeting the
 re may be an education segment. The Board may hear other matters brought 
 to their attention. Some meetings are joint meetings with the Firefighter
 s and Police Officers Pension Plan Board. The event end time is approxima
 te. \n<br />\n<br />Location: Del Pepper Community Resource Center\, 4850
  Mark Center Drive\n<br />Audience: Anyone may attend\n<br />Tags: Pensio
 ns\, Supplemental Retirement Plan
X-COA-DTSTAMP:20260106T152256Z
END:VEVENT
END:VCALENDAR
