BEGIN:VCALENDAR
CALSCALE:GREGORIAN
METHOD:PUBLISH
PRODID:-//github.com/ical-org/ical.net//NONSGML ical.net 4.0//EN
VERSION:2.0
X-WR-TIMEZONE:US/Eastern
BEGIN:VEVENT
CATEGORIES:Boards & Commissions
CATEGORIES:Fire and Police Pension
CATEGORIES:Fire and Police Pension Board
CATEGORIES:Pensions
DESCRIPTION:Imported on Apr 22\, 2026\, 19 days before the event.\nTo veri
 fy info please see https://apps.alexandriava.gov/Calendar/Detail.aspx?si=
 62007\n\nMeeting of the Firefighters and Police Officers Pension Plan Boa
 rd. The Board will review reports related to the investments of the pensi
 on fund The Board will also review related issues brought to their attent
 ion.\n\nLocation: Del Pepper Community Resource Center\, 4850 Mark Center
  Drive\nContact Person: Kadira Coley\nContact Phone: 703.746.3879\nContac
 t Email: kadira.coley@alexandriava.gov\nAudience: Anyone may attend\nTags
 : Boards & Commissions\, Fire and Police Pension\, Fire and Police Pensio
 n Board\, Pensions
DTEND:20260512T164500Z
DTSTAMP:20260106T151841Z
DTSTART:20260512T124500Z
LOCATION:Del Pepper Community Resource Center\, 4850 Mark Center Drive
SEQUENCE:5
STATUS:CONFIRMED
SUMMARY:Fire and Police Officers Pension Plan Board Meet
TRANSP:TRANSPARENT
UID:21bb19ff-f307-4f7b-860d-990fcbabe91c
X-ALT-DESC;FMTTYPE=text/html:Imported on Apr 22\, 2026\, 19 days before th
 e event.<br />To verify info please see <a href="https://apps.alexandriav
 a.gov/Calendar/Detail.aspx?si=62007">https://apps.alexandriava.gov/Calend
 ar/Detail.aspx?si=62007</a><br />\n<br />Meeting of the Firefighters and 
 Police Officers Pension Plan Board. The Board will review reports related
  to the investments of the pension fund The Board will also review relate
 d issues brought to their attention.\n<br />\n<br />Location: Del Pepper 
 Community Resource Center\, 4850 Mark Center Drive\n<br />Contact Person:
  Kadira Coley\n<br />Contact Phone: 703.746.3879\n<br />Contact Email: ka
 dira.coley@alexandriava.gov\n<br />Audience: Anyone may attend\n<br />Tag
 s: Boards &amp\; Commissions\, Fire and Police Pension\, Fire and Police 
 Pension Board\, Pensions
X-COA-DTSTAMP:20260106T151841Z
END:VEVENT
BEGIN:VEVENT
CATEGORIES:Boards & Commissions
CATEGORIES:Fire and Police Pension
CATEGORIES:Fire and Police Pension Board
CATEGORIES:Pensions
DESCRIPTION:Imported on Apr 22\, 2026\, 47 days before the event.\nTo veri
 fy info please see https://apps.alexandriava.gov/Calendar/Detail.aspx?si=
 62008\n\nMeeting of the Firefighters and Police Officers Pension Plan Boa
 rd. The Board will review reports related to the investments of the pensi
 on fund The Board will also review related issues brought to their attent
 ion.\n\nLocation: Del Pepper Community Resource Center\, 4850 Mark Center
  Drive\nContact Person: Kadira Coley\nContact Phone: 703.746.3879\nContac
 t Email: kadira.coley@alexandriava.gov\nAudience: Anyone may attend\nTags
 : Boards & Commissions\, Fire and Police Pension\, Fire and Police Pensio
 n Board\, Pensions
DTEND:20260609T164500Z
DTSTAMP:20260106T151904Z
DTSTART:20260609T124500Z
LOCATION:Del Pepper Community Resource Center\, 4850 Mark Center Drive
SEQUENCE:5
STATUS:CONFIRMED
SUMMARY:Fire and Police Officers Pension Plan Board Meet
TRANSP:TRANSPARENT
UID:747f5123-3855-43c6-81d1-2ca2640975fb
X-ALT-DESC;FMTTYPE=text/html:Imported on Apr 22\, 2026\, 47 days before th
 e event.<br />To verify info please see <a href="https://apps.alexandriav
 a.gov/Calendar/Detail.aspx?si=62008">https://apps.alexandriava.gov/Calend
 ar/Detail.aspx?si=62008</a><br />\n<br />Meeting of the Firefighters and 
 Police Officers Pension Plan Board. The Board will review reports related
  to the investments of the pension fund The Board will also review relate
 d issues brought to their attention.\n<br />\n<br />Location: Del Pepper 
 Community Resource Center\, 4850 Mark Center Drive\n<br />Contact Person:
  Kadira Coley\n<br />Contact Phone: 703.746.3879\n<br />Contact Email: ka
 dira.coley@alexandriava.gov\n<br />Audience: Anyone may attend\n<br />Tag
 s: Boards &amp\; Commissions\, Fire and Police Pension\, Fire and Police 
 Pension Board\, Pensions
X-COA-DTSTAMP:20260106T151904Z
END:VEVENT
BEGIN:VEVENT
CATEGORIES:Boards & Commissions
CATEGORIES:Fire and Police Pension
CATEGORIES:Fire and Police Pension Board
CATEGORIES:Pensions
DESCRIPTION:Imported on Apr 22\, 2026\, 82 days before the event.\nTo veri
 fy info please see https://apps.alexandriava.gov/Calendar/Detail.aspx?si=
 62009\n\nMeeting of the Firefighters and Police Officers Pension Plan Boa
 rd. The Board will review reports related to the investments of the pensi
 on fund The Board will also review related issues brought to their attent
 ion.\n\nLocation: Del Pepper Community Resource Center\, 4850 Mark Center
  Drive\nContact Person: Kadira Coley\nContact Phone: 703.746.3879\nContac
 t Email: kadira.coley@alexandriava.gov\nAudience: Anyone may attend\nTags
 : Boards & Commissions\, Fire and Police Pension\, Fire and Police Pensio
 n Board\, Pensions
DTEND:20260714T164500Z
DTSTAMP:20260106T151931Z
DTSTART:20260714T124500Z
LOCATION:Del Pepper Community Resource Center\, 4850 Mark Center Drive
SEQUENCE:5
STATUS:CONFIRMED
SUMMARY:Fire and Police Officers Pension Plan Board Meet
TRANSP:TRANSPARENT
UID:17e8f247-97bd-481b-9d47-be7a1dbe91f1
X-ALT-DESC;FMTTYPE=text/html:Imported on Apr 22\, 2026\, 82 days before th
 e event.<br />To verify info please see <a href="https://apps.alexandriav
 a.gov/Calendar/Detail.aspx?si=62009">https://apps.alexandriava.gov/Calend
 ar/Detail.aspx?si=62009</a><br />\n<br />Meeting of the Firefighters and 
 Police Officers Pension Plan Board. The Board will review reports related
  to the investments of the pension fund The Board will also review relate
 d issues brought to their attention.\n<br />\n<br />Location: Del Pepper 
 Community Resource Center\, 4850 Mark Center Drive\n<br />Contact Person:
  Kadira Coley\n<br />Contact Phone: 703.746.3879\n<br />Contact Email: ka
 dira.coley@alexandriava.gov\n<br />Audience: Anyone may attend\n<br />Tag
 s: Boards &amp\; Commissions\, Fire and Police Pension\, Fire and Police 
 Pension Board\, Pensions
X-COA-DTSTAMP:20260106T151931Z
END:VEVENT
BEGIN:VEVENT
CATEGORIES:Boards & Commissions
CATEGORIES:Fire and Police Pension
CATEGORIES:Fire and Police Pension Board
CATEGORIES:Pensions
DESCRIPTION:Imported on Apr 22\, 2026\, 110 days before the event.\nTo ver
 ify info please see https://apps.alexandriava.gov/Calendar/Detail.aspx?si
 =62010\n\nMeeting of the Firefighters and Police Officers Pension Plan Bo
 ard. The Board will review reports related to the investments of the pens
 ion fund The Board will also review related issues brought to their atten
 tion.\n\nLocation: Del Pepper Community Resource Center\, 4850 Mark Cente
 r Drive\nContact Person: Kadira Coley\nContact Phone: 703.746.3879\nConta
 ct Email: kadira.coley@alexandriava.gov\nAudience: Anyone may attend\nTag
 s: Boards & Commissions\, Fire and Police Pension\, Fire and Police Pensi
 on Board\, Pensions
DTEND:20260811T164500Z
DTSTAMP:20260106T151945Z
DTSTART:20260811T124500Z
LOCATION:Del Pepper Community Resource Center\, 4850 Mark Center Drive
SEQUENCE:5
STATUS:CONFIRMED
SUMMARY:Fire and Police Officers Pension Plan Board Meet
TRANSP:TRANSPARENT
UID:75c8eb69-06d9-4e53-8f37-a261172c7b56
X-ALT-DESC;FMTTYPE=text/html:Imported on Apr 22\, 2026\, 110 days before t
 he event.<br />To verify info please see <a href="https://apps.alexandria
 va.gov/Calendar/Detail.aspx?si=62010">https://apps.alexandriava.gov/Calen
 dar/Detail.aspx?si=62010</a><br />\n<br />Meeting of the Firefighters and
  Police Officers Pension Plan Board. The Board will review reports relate
 d to the investments of the pension fund The Board will also review relat
 ed issues brought to their attention.\n<br />\n<br />Location: Del Pepper
  Community Resource Center\, 4850 Mark Center Drive\n<br />Contact Person
 : Kadira Coley\n<br />Contact Phone: 703.746.3879\n<br />Contact Email: k
 adira.coley@alexandriava.gov\n<br />Audience: Anyone may attend\n<br />Ta
 gs: Boards &amp\; Commissions\, Fire and Police Pension\, Fire and Police
  Pension Board\, Pensions
X-COA-DTSTAMP:20260106T151945Z
END:VEVENT
BEGIN:VEVENT
CATEGORIES:Boards & Commissions
CATEGORIES:Fire and Police Pension
CATEGORIES:Fire and Police Pension Board
CATEGORIES:Pensions
DESCRIPTION:Imported on Apr 22\, 2026\, 138 days before the event.\nTo ver
 ify info please see https://apps.alexandriava.gov/Calendar/Detail.aspx?si
 =62011\n\nMeeting of the Firefighters and Police Officers Pension Plan Bo
 ard. The Board will review reports related to the investments of the pens
 ion fund The Board will also review related issues brought to their atten
 tion.\n\nLocation: Del Pepper Community Resource Center\, 4850 Mark Cente
 r Drive\nContact Person: Kadira Coley\nContact Phone: 703.746.3879\nConta
 ct Email: kadira.coley@alexandriava.gov\nAudience: Anyone may attend\nTag
 s: Boards & Commissions\, Fire and Police Pension\, Fire and Police Pensi
 on Board\, Pensions
DTEND:20260908T164500Z
DTSTAMP:20260106T152003Z
DTSTART:20260908T124500Z
LOCATION:Del Pepper Community Resource Center\, 4850 Mark Center Drive
SEQUENCE:5
STATUS:CONFIRMED
SUMMARY:Fire and Police Officers Pension Plan Board Meet
TRANSP:TRANSPARENT
UID:717c131b-77c9-4696-8cdb-595e597f4877
X-ALT-DESC;FMTTYPE=text/html:Imported on Apr 22\, 2026\, 138 days before t
 he event.<br />To verify info please see <a href="https://apps.alexandria
 va.gov/Calendar/Detail.aspx?si=62011">https://apps.alexandriava.gov/Calen
 dar/Detail.aspx?si=62011</a><br />\n<br />Meeting of the Firefighters and
  Police Officers Pension Plan Board. The Board will review reports relate
 d to the investments of the pension fund The Board will also review relat
 ed issues brought to their attention.\n<br />\n<br />Location: Del Pepper
  Community Resource Center\, 4850 Mark Center Drive\n<br />Contact Person
 : Kadira Coley\n<br />Contact Phone: 703.746.3879\n<br />Contact Email: k
 adira.coley@alexandriava.gov\n<br />Audience: Anyone may attend\n<br />Ta
 gs: Boards &amp\; Commissions\, Fire and Police Pension\, Fire and Police
  Pension Board\, Pensions
X-COA-DTSTAMP:20260106T152003Z
END:VEVENT
BEGIN:VEVENT
CATEGORIES:Boards & Commissions
CATEGORIES:Fire and Police Pension
CATEGORIES:Fire and Police Pension Board
CATEGORIES:Pensions
DESCRIPTION:Imported on Apr 22\, 2026\, 173 days before the event.\nTo ver
 ify info please see https://apps.alexandriava.gov/Calendar/Detail.aspx?si
 =62012\n\nMeeting of the Firefighters and Police Officers Pension Plan Bo
 ard. The Board will review reports related to the investments of the pens
 ion fund The Board will also review related issues brought to their atten
 tion.\n\nLocation: Del Pepper Community Resource Center\, 4850 Mark Cente
 r Drive\nContact Person: Kadira Coley\nContact Phone: 703.746.3879\nConta
 ct Email: kadira.coley@alexandriava.gov\nAudience: Anyone may attend\nTag
 s: Boards & Commissions\, Fire and Police Pension\, Fire and Police Pensi
 on Board\, Pensions
DTEND:20261013T164500Z
DTSTAMP:20260106T152056Z
DTSTART:20261013T124500Z
LOCATION:Del Pepper Community Resource Center\, 4850 Mark Center Drive
SEQUENCE:5
STATUS:CONFIRMED
SUMMARY:Fire and Police Officers Pension Plan Board Meet
TRANSP:TRANSPARENT
UID:9ab3c3c5-4c31-4f8c-9c2d-5c8b06923c94
X-ALT-DESC;FMTTYPE=text/html:Imported on Apr 22\, 2026\, 173 days before t
 he event.<br />To verify info please see <a href="https://apps.alexandria
 va.gov/Calendar/Detail.aspx?si=62012">https://apps.alexandriava.gov/Calen
 dar/Detail.aspx?si=62012</a><br />\n<br />Meeting of the Firefighters and
  Police Officers Pension Plan Board. The Board will review reports relate
 d to the investments of the pension fund The Board will also review relat
 ed issues brought to their attention.\n<br />\n<br />Location: Del Pepper
  Community Resource Center\, 4850 Mark Center Drive\n<br />Contact Person
 : Kadira Coley\n<br />Contact Phone: 703.746.3879\n<br />Contact Email: k
 adira.coley@alexandriava.gov\n<br />Audience: Anyone may attend\n<br />Ta
 gs: Boards &amp\; Commissions\, Fire and Police Pension\, Fire and Police
  Pension Board\, Pensions
X-COA-DTSTAMP:20260106T152056Z
END:VEVENT
BEGIN:VEVENT
CATEGORIES:Boards & Commissions
CATEGORIES:Fire and Police Pension
CATEGORIES:Fire and Police Pension Board
CATEGORIES:Pensions
DESCRIPTION:Imported on Apr 22\, 2026\, 201 days before the event.\nTo ver
 ify info please see https://apps.alexandriava.gov/Calendar/Detail.aspx?si
 =62013\n\nMeeting of the Firefighters and Police Officers Pension Plan Bo
 ard. The Board will review reports related to the investments of the pens
 ion fund The Board will also review related issues brought to their atten
 tion.\n\nLocation: Del Pepper Community Resource Center\, 4850 Mark Cente
 r Drive\nContact Person: Kadira Coley\nContact Phone: 703.746.3879\nConta
 ct Email: kadira.coley@alexandriava.gov\nAudience: Anyone may attend\nTag
 s: Boards & Commissions\, Fire and Police Pension\, Fire and Police Pensi
 on Board\, Pensions
DTEND:20261110T174500Z
DTSTAMP:20260106T152112Z
DTSTART:20261110T134500Z
LOCATION:Del Pepper Community Resource Center\, 4850 Mark Center Drive
SEQUENCE:5
STATUS:CONFIRMED
SUMMARY:Fire and Police Officers Pension Plan Board Meet
TRANSP:TRANSPARENT
UID:42a59d69-b523-45b7-a7a3-1a114ae11a92
X-ALT-DESC;FMTTYPE=text/html:Imported on Apr 22\, 2026\, 201 days before t
 he event.<br />To verify info please see <a href="https://apps.alexandria
 va.gov/Calendar/Detail.aspx?si=62013">https://apps.alexandriava.gov/Calen
 dar/Detail.aspx?si=62013</a><br />\n<br />Meeting of the Firefighters and
  Police Officers Pension Plan Board. The Board will review reports relate
 d to the investments of the pension fund The Board will also review relat
 ed issues brought to their attention.\n<br />\n<br />Location: Del Pepper
  Community Resource Center\, 4850 Mark Center Drive\n<br />Contact Person
 : Kadira Coley\n<br />Contact Phone: 703.746.3879\n<br />Contact Email: k
 adira.coley@alexandriava.gov\n<br />Audience: Anyone may attend\n<br />Ta
 gs: Boards &amp\; Commissions\, Fire and Police Pension\, Fire and Police
  Pension Board\, Pensions
X-COA-DTSTAMP:20260106T152112Z
END:VEVENT
BEGIN:VEVENT
CATEGORIES:Boards & Commissions
CATEGORIES:Fire and Police Pension
CATEGORIES:Fire and Police Pension Board
CATEGORIES:Pensions
DESCRIPTION:Imported on Apr 22\, 2026\, 229 days before the event.\nTo ver
 ify info please see https://apps.alexandriava.gov/Calendar/Detail.aspx?si
 =62014\n\nMeeting of the Firefighters and Police Officers Pension Plan Bo
 ard. The Board will review reports related to the investments of the pens
 ion fund The Board will also review related issues brought to their atten
 tion.\n\nLocation: Del Pepper Community Resource Center\, 4850 Mark Cente
 r Drive\nContact Person: Kadira Coley\nContact Phone: 703.746.3879\nConta
 ct Email: kadira.coley@alexandriava.gov\nAudience: Anyone may attend\nTag
 s: Boards & Commissions\, Fire and Police Pension\, Fire and Police Pensi
 on Board\, Pensions
DTEND:20261208T174500Z
DTSTAMP:20260106T152139Z
DTSTART:20261208T134500Z
LOCATION:Del Pepper Community Resource Center\, 4850 Mark Center Drive
SEQUENCE:5
STATUS:CONFIRMED
SUMMARY:Fire and Police Officers Pension Plan Board Meet
TRANSP:TRANSPARENT
UID:27e15abf-b2c6-4c4e-b417-ec7b75a22006
X-ALT-DESC;FMTTYPE=text/html:Imported on Apr 22\, 2026\, 229 days before t
 he event.<br />To verify info please see <a href="https://apps.alexandria
 va.gov/Calendar/Detail.aspx?si=62014">https://apps.alexandriava.gov/Calen
 dar/Detail.aspx?si=62014</a><br />\n<br />Meeting of the Firefighters and
  Police Officers Pension Plan Board. The Board will review reports relate
 d to the investments of the pension fund The Board will also review relat
 ed issues brought to their attention.\n<br />\n<br />Location: Del Pepper
  Community Resource Center\, 4850 Mark Center Drive\n<br />Contact Person
 : Kadira Coley\n<br />Contact Phone: 703.746.3879\n<br />Contact Email: k
 adira.coley@alexandriava.gov\n<br />Audience: Anyone may attend\n<br />Ta
 gs: Boards &amp\; Commissions\, Fire and Police Pension\, Fire and Police
  Pension Board\, Pensions
X-COA-DTSTAMP:20260106T152139Z
END:VEVENT
END:VCALENDAR
