BEGIN:VCALENDAR
CALSCALE:GREGORIAN
METHOD:PUBLISH
PRODID:-//github.com/ical-org/ical.net//NONSGML ical.net 4.0//EN
VERSION:2.0
X-WR-TIMEZONE:US/Eastern
BEGIN:VEVENT
CATEGORIES:Board of Zoning Appeals
CATEGORIES:Boards & Commissions
CATEGORIES:Cablecast
CATEGORIES:Planning Boards and Commissions
CATEGORIES:Planning Meeting
DESCRIPTION:Imported on Apr 23\, 2026\, 18 days before the event.\nTo veri
 fy info please see https://apps.alexandriava.gov/Calendar/Detail.aspx?si=
 61519\n\nBoard of Zoning Appeals Regularly scheduled hearing.*Hearing end
  times are approximate.\n\nLocation: 4850 Mark Center Drive\, 4850 Mark C
 enter Drive\nContact Person: Ted Alberon\nContact Phone: 703.746.4666\nCo
 ntact Email: ted.alberon@alexandriava.gov\nAudience: The same as NULL val
 ue.\nTags: Board of Zoning Appeals\, Boards & Commissions\, Cablecast\, P
 lanning Boards and Commissions\, Planning Meeting
DTEND:20260512T030000Z
DTSTAMP:20251114T153450Z
DTSTART:20260511T230000Z
LOCATION:4850 Mark Center Drive\, 4850 Mark Center Drive
SEQUENCE:5
STATUS:CONFIRMED
SUMMARY:Board of Zoning Appeals Public Hearing
TRANSP:TRANSPARENT
UID:70c4f31b-4cab-4b66-bdd0-6bf9b0c61a86
X-ALT-DESC;FMTTYPE=text/html:Imported on Apr 23\, 2026\, 18 days before th
 e event.<br />To verify info please see <a href="https://apps.alexandriav
 a.gov/Calendar/Detail.aspx?si=61519">https://apps.alexandriava.gov/Calend
 ar/Detail.aspx?si=61519</a><br />\n<br />Board of Zoning Appeals Regularl
 y scheduled hearing.*Hearing end times are approximate.\n<br />\n<br />Lo
 cation: 4850 Mark Center Drive\, 4850 Mark Center Drive\n<br />Contact Pe
 rson: Ted Alberon\n<br />Contact Phone: 703.746.4666\n<br />Contact Email
 : ted.alberon@alexandriava.gov\n<br />Audience: The same as NULL value.\n
 <br />Tags: Board of Zoning Appeals\, Boards &amp\; Commissions\, Cableca
 st\, Planning Boards and Commissions\, Planning Meeting
X-COA-DTSTAMP:20251114T153450Z
END:VEVENT
BEGIN:VEVENT
CATEGORIES:Board of Zoning Appeals
CATEGORIES:Boards & Commissions
CATEGORIES:Cablecast
CATEGORIES:Planning Boards and Commissions
CATEGORIES:Planning Meeting
DESCRIPTION:Imported on Apr 23\, 2026\, 46 days before the event.\nTo veri
 fy info please see https://apps.alexandriava.gov/Calendar/Detail.aspx?si=
 61520\n\nBoard of Zoning Appeals Regularly scheduled hearing.*Hearing end
  times are approximate.\n\nLocation: 4850 Mark Center Drive\, 4850 Mark C
 enter Drive\nContact Person: Ted Alberon\nContact Phone: 703.746.4666\nCo
 ntact Email: ted.alberon@alexandriava.gov\nAudience: The same as NULL val
 ue.\nTags: Board of Zoning Appeals\, Boards & Commissions\, Cablecast\, P
 lanning Boards and Commissions\, Planning Meeting
DTEND:20260609T030000Z
DTSTAMP:20251114T153450Z
DTSTART:20260608T230000Z
LOCATION:4850 Mark Center Drive\, 4850 Mark Center Drive
SEQUENCE:5
STATUS:CONFIRMED
SUMMARY:Board of Zoning Appeals Public Hearing
TRANSP:TRANSPARENT
UID:824913ef-0ae8-4803-941c-a3378fe2edde
X-ALT-DESC;FMTTYPE=text/html:Imported on Apr 23\, 2026\, 46 days before th
 e event.<br />To verify info please see <a href="https://apps.alexandriav
 a.gov/Calendar/Detail.aspx?si=61520">https://apps.alexandriava.gov/Calend
 ar/Detail.aspx?si=61520</a><br />\n<br />Board of Zoning Appeals Regularl
 y scheduled hearing.*Hearing end times are approximate.\n<br />\n<br />Lo
 cation: 4850 Mark Center Drive\, 4850 Mark Center Drive\n<br />Contact Pe
 rson: Ted Alberon\n<br />Contact Phone: 703.746.4666\n<br />Contact Email
 : ted.alberon@alexandriava.gov\n<br />Audience: The same as NULL value.\n
 <br />Tags: Board of Zoning Appeals\, Boards &amp\; Commissions\, Cableca
 st\, Planning Boards and Commissions\, Planning Meeting
X-COA-DTSTAMP:20251114T153450Z
END:VEVENT
BEGIN:VEVENT
CATEGORIES:Board of Zoning Appeals
CATEGORIES:Boards & Commissions
CATEGORIES:Cablecast
CATEGORIES:Planning Boards and Commissions
CATEGORIES:Planning Meeting
DESCRIPTION:Imported on Apr 23\, 2026\, 81 days before the event.\nTo veri
 fy info please see https://apps.alexandriava.gov/Calendar/Detail.aspx?si=
 61521\n\nBoard of Zoning Appeals Regularly scheduled hearing.*Hearing end
  times are approximate.\n\nLocation: 4850 Mark Center Drive\, 4850 Mark C
 enter Drive\nContact Person: Ted Alberon\nContact Phone: 703.746.4666\nCo
 ntact Email: ted.alberon@alexandriava.gov\nAudience: The same as NULL val
 ue.\nTags: Board of Zoning Appeals\, Boards & Commissions\, Cablecast\, P
 lanning Boards and Commissions\, Planning Meeting
DTEND:20260714T030000Z
DTSTAMP:20251114T153450Z
DTSTART:20260713T230000Z
LOCATION:4850 Mark Center Drive\, 4850 Mark Center Drive
SEQUENCE:5
STATUS:CONFIRMED
SUMMARY:Board of Zoning Appeals Public Hearing
TRANSP:TRANSPARENT
UID:57c6b555-8fc9-4090-b131-c189f57337cc
X-ALT-DESC;FMTTYPE=text/html:Imported on Apr 23\, 2026\, 81 days before th
 e event.<br />To verify info please see <a href="https://apps.alexandriav
 a.gov/Calendar/Detail.aspx?si=61521">https://apps.alexandriava.gov/Calend
 ar/Detail.aspx?si=61521</a><br />\n<br />Board of Zoning Appeals Regularl
 y scheduled hearing.*Hearing end times are approximate.\n<br />\n<br />Lo
 cation: 4850 Mark Center Drive\, 4850 Mark Center Drive\n<br />Contact Pe
 rson: Ted Alberon\n<br />Contact Phone: 703.746.4666\n<br />Contact Email
 : ted.alberon@alexandriava.gov\n<br />Audience: The same as NULL value.\n
 <br />Tags: Board of Zoning Appeals\, Boards &amp\; Commissions\, Cableca
 st\, Planning Boards and Commissions\, Planning Meeting
X-COA-DTSTAMP:20251114T153450Z
END:VEVENT
BEGIN:VEVENT
CATEGORIES:Board of Zoning Appeals
CATEGORIES:Boards & Commissions
CATEGORIES:Cablecast
CATEGORIES:Planning Boards and Commissions
CATEGORIES:Planning Meeting
DESCRIPTION:Imported on Apr 23\, 2026\, 144 days before the event.\nTo ver
 ify info please see https://apps.alexandriava.gov/Calendar/Detail.aspx?si
 =61522\n\nBoard of Zoning Appeals Regularly scheduled hearing.*Hearing en
 d times are approximate.\n\nLocation: 4850 Mark Center Drive\, 4850 Mark 
 Center Drive\nContact Person: Ted Alberon\nContact Phone: 703.746.4666\nC
 ontact Email: ted.alberon@alexandriava.gov\nAudience: The same as NULL va
 lue.\nTags: Board of Zoning Appeals\, Boards & Commissions\, Cablecast\, 
 Planning Boards and Commissions\, Planning Meeting
DTEND:20260915T030000Z
DTSTAMP:20251114T153450Z
DTSTART:20260914T230000Z
LOCATION:4850 Mark Center Drive\, 4850 Mark Center Drive
SEQUENCE:5
STATUS:CONFIRMED
SUMMARY:Board of Zoning Appeals Public Hearing
TRANSP:TRANSPARENT
UID:7c4449dd-682b-47c8-943b-7699e763ba97
X-ALT-DESC;FMTTYPE=text/html:Imported on Apr 23\, 2026\, 144 days before t
 he event.<br />To verify info please see <a href="https://apps.alexandria
 va.gov/Calendar/Detail.aspx?si=61522">https://apps.alexandriava.gov/Calen
 dar/Detail.aspx?si=61522</a><br />\n<br />Board of Zoning Appeals Regular
 ly scheduled hearing.*Hearing end times are approximate.\n<br />\n<br />L
 ocation: 4850 Mark Center Drive\, 4850 Mark Center Drive\n<br />Contact P
 erson: Ted Alberon\n<br />Contact Phone: 703.746.4666\n<br />Contact Emai
 l: ted.alberon@alexandriava.gov\n<br />Audience: The same as NULL value.\
 n<br />Tags: Board of Zoning Appeals\, Boards &amp\; Commissions\, Cablec
 ast\, Planning Boards and Commissions\, Planning Meeting
X-COA-DTSTAMP:20251114T153450Z
END:VEVENT
BEGIN:VEVENT
CATEGORIES:Board of Zoning Appeals
CATEGORIES:Boards & Commissions
CATEGORIES:Cablecast
CATEGORIES:Planning Boards and Commissions
CATEGORIES:Planning Meeting
DESCRIPTION:Imported on Apr 23\, 2026\, 179 days before the event.\nTo ver
 ify info please see https://apps.alexandriava.gov/Calendar/Detail.aspx?si
 =61523\n\nBoard of Zoning Appeals Regularly scheduled hearing.*Hearing en
 d times are approximate.\n\nLocation: 4850 Mark Center Drive\, 4850 Mark 
 Center Drive\nContact Person: Ted Alberon\nContact Phone: 703.746.4666\nC
 ontact Email: ted.alberon@alexandriava.gov\nAudience: The same as NULL va
 lue.\nTags: Board of Zoning Appeals\, Boards & Commissions\, Cablecast\, 
 Planning Boards and Commissions\, Planning Meeting
DTEND:20261020T030000Z
DTSTAMP:20251114T153450Z
DTSTART:20261019T230000Z
LOCATION:4850 Mark Center Drive\, 4850 Mark Center Drive
SEQUENCE:5
STATUS:CONFIRMED
SUMMARY:Board of Zoning Appeals Public Hearing
TRANSP:TRANSPARENT
UID:e4d57901-fa7e-4aa1-8aa5-efaedd642cf8
X-ALT-DESC;FMTTYPE=text/html:Imported on Apr 23\, 2026\, 179 days before t
 he event.<br />To verify info please see <a href="https://apps.alexandria
 va.gov/Calendar/Detail.aspx?si=61523">https://apps.alexandriava.gov/Calen
 dar/Detail.aspx?si=61523</a><br />\n<br />Board of Zoning Appeals Regular
 ly scheduled hearing.*Hearing end times are approximate.\n<br />\n<br />L
 ocation: 4850 Mark Center Drive\, 4850 Mark Center Drive\n<br />Contact P
 erson: Ted Alberon\n<br />Contact Phone: 703.746.4666\n<br />Contact Emai
 l: ted.alberon@alexandriava.gov\n<br />Audience: The same as NULL value.\
 n<br />Tags: Board of Zoning Appeals\, Boards &amp\; Commissions\, Cablec
 ast\, Planning Boards and Commissions\, Planning Meeting
X-COA-DTSTAMP:20251114T153450Z
END:VEVENT
BEGIN:VEVENT
CATEGORIES:Board of Zoning Appeals
CATEGORIES:Boards & Commissions
CATEGORIES:Cablecast
CATEGORIES:Planning Boards and Commissions
CATEGORIES:Planning Meeting
DESCRIPTION:Imported on Apr 23\, 2026\, 200 days before the event.\nTo ver
 ify info please see https://apps.alexandriava.gov/Calendar/Detail.aspx?si
 =61524\n\nBoard of Zoning Appeals Regularly scheduled hearing.*Hearing en
 d times are approximate.\n\nLocation: 4850 Mark Center Drive\, 4850 Mark 
 Center Drive\nContact Person: Ted Alberon\nContact Phone: 703.746.4666\nC
 ontact Email: ted.alberon@alexandriava.gov\nAudience: The same as NULL va
 lue.\nTags: Board of Zoning Appeals\, Boards & Commissions\, Cablecast\, 
 Planning Boards and Commissions\, Planning Meeting
DTEND:20261110T040000Z
DTSTAMP:20251114T153450Z
DTSTART:20261110T000001Z
LOCATION:4850 Mark Center Drive\, 4850 Mark Center Drive
SEQUENCE:5
STATUS:CONFIRMED
SUMMARY:Board of Zoning Appeals Public Hearing
TRANSP:TRANSPARENT
UID:8f9c0fff-fcb0-45a2-b79f-25eb3efc78e5
X-ALT-DESC;FMTTYPE=text/html:Imported on Apr 23\, 2026\, 200 days before t
 he event.<br />To verify info please see <a href="https://apps.alexandria
 va.gov/Calendar/Detail.aspx?si=61524">https://apps.alexandriava.gov/Calen
 dar/Detail.aspx?si=61524</a><br />\n<br />Board of Zoning Appeals Regular
 ly scheduled hearing.*Hearing end times are approximate.\n<br />\n<br />L
 ocation: 4850 Mark Center Drive\, 4850 Mark Center Drive\n<br />Contact P
 erson: Ted Alberon\n<br />Contact Phone: 703.746.4666\n<br />Contact Emai
 l: ted.alberon@alexandriava.gov\n<br />Audience: The same as NULL value.\
 n<br />Tags: Board of Zoning Appeals\, Boards &amp\; Commissions\, Cablec
 ast\, Planning Boards and Commissions\, Planning Meeting
X-COA-DTSTAMP:20251114T153450Z
END:VEVENT
BEGIN:VEVENT
CATEGORIES:Board of Zoning Appeals
CATEGORIES:Boards & Commissions
CATEGORIES:Cablecast
CATEGORIES:Planning Boards and Commissions
CATEGORIES:Planning Meeting
DESCRIPTION:Imported on Apr 23\, 2026\, 235 days before the event.\nTo ver
 ify info please see https://apps.alexandriava.gov/Calendar/Detail.aspx?si
 =61525\n\nBoard of Zoning Appeals Regularly scheduled hearing.*Hearing en
 d times are approximate.\n\nLocation: 4850 Mark Center Drive\, 4850 Mark 
 Center Drive\nContact Person: Ted Alberon\nContact Phone: 703.746.4666\nC
 ontact Email: ted.alberon@alexandriava.gov\nAudience: The same as NULL va
 lue.\nTags: Board of Zoning Appeals\, Boards & Commissions\, Cablecast\, 
 Planning Boards and Commissions\, Planning Meeting
DTEND:20261215T040000Z
DTSTAMP:20251114T153450Z
DTSTART:20261215T000001Z
LOCATION:4850 Mark Center Drive\, 4850 Mark Center Drive
SEQUENCE:5
STATUS:CONFIRMED
SUMMARY:Board of Zoning Appeals Public Hearing
TRANSP:TRANSPARENT
UID:a5e8cd31-dcac-4e03-8e94-37b235ccfe16
X-ALT-DESC;FMTTYPE=text/html:Imported on Apr 23\, 2026\, 235 days before t
 he event.<br />To verify info please see <a href="https://apps.alexandria
 va.gov/Calendar/Detail.aspx?si=61525">https://apps.alexandriava.gov/Calen
 dar/Detail.aspx?si=61525</a><br />\n<br />Board of Zoning Appeals Regular
 ly scheduled hearing.*Hearing end times are approximate.\n<br />\n<br />L
 ocation: 4850 Mark Center Drive\, 4850 Mark Center Drive\n<br />Contact P
 erson: Ted Alberon\n<br />Contact Phone: 703.746.4666\n<br />Contact Emai
 l: ted.alberon@alexandriava.gov\n<br />Audience: The same as NULL value.\
 n<br />Tags: Board of Zoning Appeals\, Boards &amp\; Commissions\, Cablec
 ast\, Planning Boards and Commissions\, Planning Meeting
X-COA-DTSTAMP:20251114T153450Z
END:VEVENT
END:VCALENDAR
