BEGIN:VCALENDAR
CALSCALE:GREGORIAN
METHOD:PUBLISH
PRODID:-//github.com/ical-org/ical.net//NONSGML ical.net 4.0//EN
VERSION:2.0
X-WR-TIMEZONE:US/Eastern
BEGIN:VEVENT
CATEGORIES:Awareness Month
CATEGORIES:City Council
CATEGORIES:City Council Calendar
CATEGORIES:City Hall
CATEGORIES:Holiday Event
DESCRIPTION:To verify info please see https://apps.alexandriava.gov/Calend
 arTest/Detail.aspx?si=49180\n\nThe City invites the community to join May
 or Justin Wilson and a host of friends to the annual Holiday Tree Lightin
 g Ceremony on Saturday\, November 19\, at 6 p.m. in Market Square (301 Ki
 ng St.).\n\nBring your family to celebrate the start of Alexandria's holi
 day season. \n\nThe Town Crier welcomes visitors followed by holiday musi
 c as Santa Claus rides into town on Alexandria's iconic King Street Troll
 ey. Help count down to the lighting of the tree to ring in the city's off
 icial start to the Holiday Season. Admission is free\, and the event will
  occur rain or shine.\n\nThe public is encouraged to take public transit 
 or walk to the event. \n\nFor DASH schedule information\, call 703.746.DA
 SH (3274) or visit dashbus.com.\n\nFor Metrobus schedule information\, ca
 ll 202.637.7000 or visit wmata.com.\n\nFor parking information\, visit al
 exandriava.gov/Parking.\n\nLocation: Market Square\, 301 King St.\nContac
 t Person: Daniel Guzman\nContact Phone: 703.746.5592\nContact Email: dani
 el.guzman@alexandriava.gov\nAudience: Anyone may attend\nTags: Awareness 
 Month\, City Council\, City Council Calendar\, City Hall\, Holiday Event
DTEND:20221120T000001Z
DTSTAMP:20221116T202626Z
DTSTART:20221119T230000Z
GEO:38.804935;-77.042978
LOCATION:Market Square\, 301 King St.
SEQUENCE:8
STATUS:CONFIRMED
SUMMARY:2022 Holiday Tree Lighting Ceremony
TRANSP:TRANSPARENT
UID:6dd7969e-5817-45d0-872b-2c1e1f2512a8
X-ALT-DESC;FMTTYPE=text/html:To verify info please see <a href="https://ap
 ps.alexandriava.gov/CalendarTest/Detail.aspx?si=49180">https://apps.alexa
 ndriava.gov/CalendarTest/Detail.aspx?si=49180</a><br />\n<br />The City i
 nvites the community to join Mayor Justin Wilson and a host of friends to
  the annual Holiday Tree Lighting Ceremony on Saturday\, November 19\, at
  6 p.m. in Market Square (301 King St.).\n<br />\n<br />Bring your family
  to celebrate the start of Alexandria&#39\;s holiday season. \n<br />\n<b
 r />The Town Crier welcomes visitors followed by holiday music as Santa C
 laus rides into town on Alexandria?s iconic King Street Trolley. Help cou
 nt down to the lighting of the tree to ring in the city?s official start 
 to the Holiday Season. Admission is free\, and the event will occur rain 
 or shine.\n<br />\n<br />The public is encouraged to take public transit 
 or walk to the event. \n<br />\n<br />For DASH schedule information\, cal
 l 703.746.DASH (3274) or visit dashbus.com.\n<br />\n<br />For Metrobus s
 chedule information\, call 202.637.7000 or visit wmata.com.\n<br />\n<br 
 />For parking information\, visit alexandriava.gov/Parking.\n<br />\n<br 
 />Location: Market Square\, 301 King St.\n<br />Contact Person: Daniel Gu
 zman\n<br />Contact Phone: 703.746.5592\n<br />Contact Email: daniel.guzm
 an@alexandriava.gov\n<br />Audience: Anyone may attend\n<br />Tags: Aware
 ness Month\, City Council\, City Council Calendar\, City Hall\, Holiday E
 vent
X-COA-DTSTAMP:20221116T202626Z
END:VEVENT
END:VCALENDAR
