BEGIN:VCALENDAR
CALSCALE:GREGORIAN
METHOD:PUBLISH
PRODID:-//github.com/ical-org/ical.net//NONSGML ical.net 4.0//EN
VERSION:2.0
X-WR-TIMEZONE:US/Eastern
BEGIN:VEVENT
CATEGORIES:Boards & Commissions
CATEGORIES:Commission Meeting
CATEGORIES:Old & Historic Alexandria
CATEGORIES:Regular Meeting
DESCRIPTION:To verify info please see https://apps.alexandriava.gov/Calend
 ar/Detail.aspx?si=9367\n\nRegular monthly meeting \n\nLocation: Lyceum\nC
 ontact Person: Lance Mallamo\nContact Phone: 703.746.4554\nAudience: Anyo
 ne may attend\nTags: Boards & Commissions\, Commission Meeting\, Old & Hi
 storic Alexandria\, Regular Meeting\n\nWeb resources:\n\nhttp://alexandri
 ava.gov/boards/info/default.aspx?id=36578\n
DTEND:20141119T013000Z
DTSTAMP:20141028T195053Z
DTSTART:20141119T003000Z
LOCATION:Lyceum
SEQUENCE:6
STATUS:CONFIRMED
SUMMARY:Historic Alexandria Resources Comm
TRANSP:OPAQUE
UID:528f9ca4-0b33-474f-a09a-667c304a8538
URL:http://alexandriava.gov/boards/info/default.aspx?id=36578
X-ALT-DESC;FMTTYPE=text/html:To verify info please see <a href="https://ap
 ps.alexandriava.gov/Calendar/Detail.aspx?si=9367">https://apps.alexandria
 va.gov/Calendar/Detail.aspx?si=9367</a><br />\n<br />Regular monthly meet
 ing \n<br />\n<br />Location: Lyceum\n<br />Contact Person: Lance Mallamo
 \n<br />Contact Phone: 703.746.4554\n<br />Audience: Anyone may attend\n<
 br />Tags: Boards &amp\; Commissions\, Commission Meeting\, Old &amp\; Hi
 storic Alexandria\, Regular Meeting<br>\n<a href="http://alexandriava.gov
 /boards/info/default.aspx?id=36578">http://alexandriava.gov/boards/info/d
 efault.aspx?id=36578</a><br>\n
X-COA-DTSTAMP:20141028T195053Z
END:VEVENT
END:VCALENDAR
