BEGIN:VCALENDAR
CALSCALE:GREGORIAN
METHOD:PUBLISH
PRODID:-//github.com/ical-org/ical.net//NONSGML ical.net 4.0//EN
VERSION:2.0
X-WR-TIMEZONE:US/Eastern
BEGIN:VEVENT
CATEGORIES:Gadsby's Tavern
DESCRIPTION:To verify info please see https://apps.alexandriava.gov/Calend
 ar/Detail.aspx?si=9281\n\nJoin Port City Brewery and Gadsby's Tavern Muse
 um as we celebrate the release of the Long Black Veil\, a special craft b
 eer inspired by the famous tale of the Female Stranger\, who died at Gads
 by's Tavern on October 14\, 1816.  Be one of the first to taste this beer
  on the Female Stranger's death day and visit the room where she died!\n\
 nIncludes a tasting of the Black IPA\, as well as tavern inspired food\, 
 presentation by Port City Brewing Company Founder Bill Butcher\, and tour
 s that unravel the tale of the Female Stranger. Event will be held in Gad
 sby's Courtyard. \n\nDoors open at 6 p.m. with special remarks at 7 p.m. 
 and tours at 7:30\, 7:45\, 8:00\, and 8:15 p.m.  Ticket includes one beer
 \, food\, a tour\, and a special Port City glass. Other beers available f
 or purchase through a cash bar include Monumental IPA and Optimal Wit. $2
 5 per person in advance\, $30 at the door.  \n\n\nLocation: Gadsby's Tave
 rn Museum\, 134 N. Royal St.\nFees: Tickets can be purchased online at Th
 e Alexandria Shop\, at the Event Link above.\nAudience: Anyone may attend
 \nTags: Gadsby's Tavern\n\nWeb resources:\n\nhttps://shop.alexandriava.go
 v/Events.aspx	\n
DTEND:20141015T010000Z
DTSTAMP:20141007T131913Z
DTSTART:20141014T220000Z
GEO:38.805577;-77.043493
LOCATION:Gadsby's Tavern Museum\, 134 N. Royal St.
SEQUENCE:6
STATUS:CONFIRMED
SUMMARY:Port City's Long Black Veil Release Happy Hour
TRANSP:OPAQUE
UID:1be8464c-6501-4daf-ac80-ce5036918739
URL:https://shop.alexandriava.gov/Events.aspx
X-ALT-DESC;FMTTYPE=text/html:To verify info please see <a href="https://ap
 ps.alexandriava.gov/Calendar/Detail.aspx?si=9281">https://apps.alexandria
 va.gov/Calendar/Detail.aspx?si=9281</a><br />\n<br />Join Port City Brewe
 ry and Gadsby?s Tavern Museum as we celebrate the release of the Long Bla
 ck Veil\, a special craft beer inspired by the famous tale of the Female 
 Stranger\, who died at Gadsby?s Tavern on October 14\, 1816.  Be one of t
 he first to taste this beer on the Female Stranger?s death day and visit 
 the room where she died!\n<br />\n<br />Includes a tasting of the Black I
 PA\, as well as tavern inspired food\, presentation by Port City Brewing 
 Company Founder Bill Butcher\, and tours that unravel the tale of the Fem
 ale Stranger. Event will be held in Gadsby&#39\;s Courtyard. \n<br />\n<b
 r />Doors open at 6 p.m. with special remarks at 7 p.m. and tours at 7:30
 \, 7:45\, 8:00\, and 8:15 p.m.  Ticket includes one beer\, food\, a tour\
 , and a special Port City glass. Other beers available for purchase throu
 gh a cash bar include Monumental IPA and Optimal Wit. $25 per person in a
 dvance\, $30 at the door.  \n<br />\n<br />\n<br />Location: Gadsby&#39\;
 s Tavern Museum\, 134 N. Royal St.\n<br />Fees: Tickets can be purchased 
 online at The Alexandria Shop\, at the Event Link above.\n<br />Audience:
  Anyone may attend\n<br />Tags: Gadsby&#39\;s Tavern<br>\n<a href="https:
 //shop.alexandriava.gov/Events.aspx	">https://shop.alexandriava.gov/Event
 s.aspx	</a><br>\n
X-COA-DTSTAMP:20141007T131913Z
END:VEVENT
END:VCALENDAR
