BEGIN:VCALENDAR
CALSCALE:GREGORIAN
METHOD:PUBLISH
PRODID:-//github.com/ical-org/ical.net//NONSGML ical.net 4.0//EN
VERSION:2.0
X-WR-TIMEZONE:US/Eastern
BEGIN:VEVENT
CATEGORIES:Potomac Yard
CATEGORIES:Public Transportation
CATEGORIES:Transportation
DESCRIPTION:To verify info please see https://apps.alexandriava.gov/Calend
 ar/Detail.aspx?si=8730\n\nJoin us to celebrate the opening of the first s
 egment of the Crystal City Potomac Yard Transitway. On August 24\, the Ci
 ty of Alexandria\, Arlington County\, and the Washington Metropolitan Are
 a Transit Authority will introduce Metroway\, the first bus rapid transit
  system in the region. Metroway's branded blue buses will run 7 days a we
 ek from Braddock Road Metrorail station to Crystal City Metrorail Station
 .  Location: Intersection of Route 1 & Swann Avenue.  Shuttle buses will 
 leave Braddock Road Metrorail station at 9 AM and 9:15 AM. Look for the b
 lue Metroway bus.\n\nLocation: Potomac Yard Transitway\nContact Person: L
 ee Farmer\nContact Phone: 703.746.4146\nAudience: Anyone may attend\nTags
 : Potomac Yard\, Public Transportation\, Transportation\n\nWeb resources:
 \n\nhttp://alexandriava.gov/tes/info/default.aspx?id=58644\n
DTEND:20140823T143000Z
DTSTAMP:20140820T131837Z
DTSTART:20140823T133000Z
LOCATION:Potomac Yard Transitway
SEQUENCE:11
STATUS:CONFIRMED
SUMMARY:Potomac Yard Transitway Ribbon Cutting
TRANSP:OPAQUE
UID:c351635b-22c5-426d-ad05-4cad2db3bc1e
URL:http://alexandriava.gov/tes/info/default.aspx?id=58644
X-ALT-DESC;FMTTYPE=text/html:To verify info please see <a href="https://ap
 ps.alexandriava.gov/Calendar/Detail.aspx?si=8730">https://apps.alexandria
 va.gov/Calendar/Detail.aspx?si=8730</a><br />\n<br />Join us to celebrate
  the opening of the first segment of the Crystal City Potomac Yard Transi
 tway. On August 24\, the City of Alexandria\, Arlington County\, and the 
 Washington Metropolitan Area Transit Authority will introduce Metroway\, 
 the first bus rapid transit system in the region. Metroway?s branded blue
  buses will run 7 days a week from Braddock Road Metrorail station to Cry
 stal City Metrorail Station.  Location: Intersection of Route 1 &amp\; Sw
 ann Avenue.  Shuttle buses will leave Braddock Road Metrorail station at 
 9 AM and 9:15 AM. Look for the blue Metroway bus.\n<br />\n<br />Location
 : Potomac Yard Transitway\n<br />Contact Person: Lee Farmer\n<br />Contac
 t Phone: 703.746.4146\n<br />Audience: Anyone may attend\n<br />Tags: Pot
 omac Yard\, Public Transportation\, Transportation<br>\n<a href="http://a
 lexandriava.gov/tes/info/default.aspx?id=58644">http://alexandriava.gov/t
 es/info/default.aspx?id=58644</a><br>\n
X-COA-DTSTAMP:20140820T131837Z
END:VEVENT
END:VCALENDAR
