BEGIN:VCALENDAR
CALSCALE:GREGORIAN
METHOD:PUBLISH
PRODID:-//github.com/ical-org/ical.net//NONSGML ical.net 4.0//EN
VERSION:2.0
X-WR-TIMEZONE:US/Eastern
BEGIN:VEVENT
CATEGORIES:Braddock East
CATEGORIES:Braddock Metro
CATEGORIES:Community Meeting
CATEGORIES:Development
CATEGORIES:Parker Gray
CATEGORIES:Planning Meeting
CATEGORIES:Public Transportation
CATEGORIES:Transportation
CATEGORIES:Zoning
DESCRIPTION:To verify info please see https://apps.alexandriava.gov/Calend
 ar/Detail.aspx?si=8454\n\nThe Metropolitan Washington Area Transit Author
 ity (WMATA) is planning to redevelop the Braddock Road Metro Station.  A 
 community meeting will be held to discuss WMATA's planning and developmen
 t process\, project timeframes\, current and future operational requireme
 nts\, and relevant City guidelines (per the City-adopted Braddock Metro N
 eighborhood Plan and other City policies and plans).  WMATA and City staf
 f will solicit feedback from the community and gather input that will inf
 orm the redevelopment of the metro station site.\n\nLocation: Charles Hou
 ston Recreation Center\, 901 Wythe St.\nContact Person: Brandi Collins\nC
 ontact Phone: 703.746.3854\nContact Email: brandi.collins@alexandriava.go
 v\nAudience: Anyone may attend\nTags: Braddock East\, Braddock Metro\, Co
 mmunity Meeting\, Development\, Parker Gray\, Planning Meeting\, Public T
 ransportation\, Transportation\, Zoning\n\nWeb resources:\n\nhttp://alexa
 ndriava.gov/braddock\n
DTEND:20140627T003000Z
DTSTAMP:20140513T185819Z
DTSTART:20140626T230000Z
GEO:38.812326;-77.048213
LOCATION:Charles Houston Recreation Center\, 901 Wythe St.
SEQUENCE:5
STATUS:CONFIRMED
SUMMARY:Braddock Metro Station Redevelopment
TRANSP:OPAQUE
UID:1a6b35c6-4baf-4dcc-9f7e-2fc219abc682
URL:http://alexandriava.gov/braddock
X-ALT-DESC;FMTTYPE=text/html:To verify info please see <a href="https://ap
 ps.alexandriava.gov/Calendar/Detail.aspx?si=8454">https://apps.alexandria
 va.gov/Calendar/Detail.aspx?si=8454</a><br />\n<br />The Metropolitan Was
 hington Area Transit Authority (WMATA) is planning to redevelop the Bradd
 ock Road Metro Station.  A community meeting will be held to discuss WMAT
 A&#39\;s planning and development process\, project timeframes\, current 
 and future operational requirements\, and relevant City guidelines (per t
 he City-adopted Braddock Metro Neighborhood Plan and other City policies 
 and plans).  WMATA and City staff will solicit feedback from the communit
 y and gather input that will inform the redevelopment of the metro statio
 n site.\n<br />\n<br />Location: Charles Houston Recreation Center\, 901 
 Wythe St.\n<br />Contact Person: Brandi Collins\n<br />Contact Phone: 703
 .746.3854\n<br />Contact Email: brandi.collins@alexandriava.gov\n<br />Au
 dience: Anyone may attend\n<br />Tags: Braddock East\, Braddock Metro\, C
 ommunity Meeting\, Development\, Parker Gray\, Planning Meeting\, Public 
 Transportation\, Transportation\, Zoning<br>\n<a href="http://alexandriav
 a.gov/braddock">http://alexandriava.gov/braddock</a><br>\n
X-COA-DTSTAMP:20140513T185819Z
END:VEVENT
END:VCALENDAR
