BEGIN:VCALENDAR
CALSCALE:GREGORIAN
METHOD:PUBLISH
PRODID:-//github.com/ical-org/ical.net//NONSGML ical.net 4.0//EN
VERSION:2.0
X-WR-TIMEZONE:US/Eastern
BEGIN:VEVENT
CATEGORIES:Criminal Justice
CATEGORIES:King Street
CATEGORIES:Old & Historic Alexandria
CATEGORIES:Old Town
CATEGORIES:Parks
CATEGORIES:Public Safety
CATEGORIES:Waterfront
DESCRIPTION:To verify info please see https://apps.alexandriava.gov/Calend
 ar/Detail.aspx?si=7896\n\nDuring National Correctional Officers and Emplo
 yees Week and in honor of National Police Week\, the Alexandria Retired P
 olice\, Fire and Sheriff Association\, the Alexandria Police Department a
 nd the Alexandria Sheriff's Office will hold a wreath-laying ceremony at 
 the fallen law enforcement officer memorial at Waterfront Park at The Str
 and and Prince Street. Nineteen Alexandria law enforcement officers are k
 nown to have died in the line of duty.\n\nLocation: Waterfront Park\, 1 P
 rince St.\nContact Person: Officer Charles Lloyd\nContact Phone: 703.746.
 6838\nAudience: Anyone may attend\nTags: Criminal Justice\, King Street\,
  Old & Historic Alexandria\, Old Town\, Parks\, Public Safety\, Waterfron
 t
DTEND:20140505T143000Z
DTSTAMP:20140402T142643Z
DTSTART:20140505T140000Z
GEO:38.803380;-77.039641
LOCATION:Waterfront Park\, 1 Prince St.
SEQUENCE:7
STATUS:CONFIRMED
SUMMARY:Fallen Officer Wreath Laying Ceremony
TRANSP:OPAQUE
UID:ab315ee8-4417-4a1b-9bb2-e9ca42492a64
X-ALT-DESC;FMTTYPE=text/html:To verify info please see <a href="https://ap
 ps.alexandriava.gov/Calendar/Detail.aspx?si=7896">https://apps.alexandria
 va.gov/Calendar/Detail.aspx?si=7896</a><br />\n<br />During National Corr
 ectional Officers and Employees Week and in honor of National Police Week
 \, the Alexandria Retired Police\, Fire and Sheriff Association\, the Ale
 xandria Police Department and the Alexandria Sheriff?s Office will hold a
  wreath-laying ceremony at the fallen law enforcement officer memorial at
  Waterfront Park at The Strand and Prince Street. Nineteen Alexandria law
  enforcement officers are known to have died in the line of duty.\n<br />
 \n<br />Location: Waterfront Park\, 1 Prince St.\n<br />Contact Person: O
 fficer Charles Lloyd\n<br />Contact Phone: 703.746.6838\n<br />Audience: 
 Anyone may attend\n<br />Tags: Criminal Justice\, King Street\, Old &amp\
 ; Historic Alexandria\, Old Town\, Parks\, Public Safety\, Waterfront
X-COA-DTSTAMP:20140402T142643Z
END:VEVENT
END:VCALENDAR
