BEGIN:VCALENDAR
CALSCALE:GREGORIAN
METHOD:PUBLISH
PRODID:-//github.com/ical-org/ical.net//NONSGML ical.net 4.0//EN
VERSION:2.0
X-WR-TIMEZONE:US/Eastern
BEGIN:VEVENT
CATEGORIES:Family
CATEGORIES:Food
CATEGORIES:Holiday Event
CATEGORIES:Old Town
CATEGORIES:Parks
CATEGORIES:Performing Arts
CATEGORIES:Recreation
CATEGORIES:Waterfront
DESCRIPTION:To verify info please see https://apps.alexandriava.gov/Calend
 ar/Detail.aspx?si=7760\n\nCelebration of the United States and the City o
 f Alexandria's birthdays.  Food & beverage sales\, birthday cake distribu
 tion\, awards presentation\, musical performance and fireworks display.\n
 \nLocation: Oronoco Bay Park\, 100 Madison St.\nContact Person: Special E
 vents Hotline\nContact Phone: 703.746.5592\nAudience: Anyone may attend\n
 Tags: Family\, Food\, Holiday Event\, Old Town\, Parks\, Performing Arts\
 , Recreation\, Waterfront\n\nWeb resources:\n\nhttp://www.alexandriava.go
 v//uploadedFiles/recreation/WebBoxes/CityBirthdayFlyer.pdf\n
DTEND:20140713T020000Z
DTSTAMP:20140621T223627Z
DTSTART:20140712T230000Z
GEO:38.811314;-77.039566
LOCATION:Oronoco Bay Park\, 100 Madison St.
SEQUENCE:11
STATUS:CONFIRMED
SUMMARY:USA/Alexandria Birthday Celebration
TRANSP:TRANSPARENT
UID:98b62990-69f7-49db-baea-5c5b0e94137b
URL:http://www.alexandriava.gov//uploadedFiles/recreation/WebBoxes/CityBir
 thdayFlyer.pdf
X-ALT-DESC;FMTTYPE=text/html:To verify info please see <a href="https://ap
 ps.alexandriava.gov/Calendar/Detail.aspx?si=7760">https://apps.alexandria
 va.gov/Calendar/Detail.aspx?si=7760</a><br />\n<br />Celebration of the U
 nited States and the City of Alexandria&#39\;s birthdays.  Food &amp\; be
 verage sales\, birthday cake distribution\, awards presentation\, musical
  performance and fireworks display.\n<br />\n<br />Location: Oronoco Bay 
 Park\, 100 Madison St.\n<br />Contact Person: Special Events Hotline\n<br
  />Contact Phone: 703.746.5592\n<br />Audience: Anyone may attend\n<br />
 Tags: Family\, Food\, Holiday Event\, Old Town\, Parks\, Performing Arts\
 , Recreation\, Waterfront<br>\n<a href="http://www.alexandriava.gov//uplo
 adedFiles/recreation/WebBoxes/CityBirthdayFlyer.pdf">http://www.alexandri
 ava.gov//uploadedFiles/recreation/WebBoxes/CityBirthdayFlyer.pdf</a><br>\
 n
X-COA-DTSTAMP:20140621T223627Z
END:VEVENT
END:VCALENDAR
