BEGIN:VCALENDAR
CALSCALE:GREGORIAN
METHOD:PUBLISH
PRODID:-//github.com/ical-org/ical.net//NONSGML ical.net 4.0//EN
VERSION:2.0
X-WR-TIMEZONE:US/Eastern
BEGIN:VEVENT
CATEGORIES:Concerts
CATEGORIES:Family
CATEGORIES:Food
CATEGORIES:Holiday Event
CATEGORIES:Old Town
CATEGORIES:Parks
CATEGORIES:Recreation
CATEGORIES:Waterfront
DESCRIPTION:To verify info please see https://apps.alexandriava.gov/Calend
 ar/Detail.aspx?si=7759\n\n37th Annual Memorial Day Jazz Festival commemor
 ating Memorial Day.  Performances by a variety of Jazz Artists\, with foo
 d and beverage sales. The U.S. Army Blues\, from The U.S Army Band "Persh
 ing's Own" will kick off the festival\, followed by Ocho De Bastos featur
 ing Latin Fusion\; Earl Carter featuring Phillip Martin\, with Smooth Jaz
 z\; then the Blue Crescent Syncopators with Dixieland Jazz and concluding
  with Seth Kibel & Bay Jazz Project with Straight Ahead and Swing.\n\nLoc
 ation: Waterfront Park\, 1 Prince St.\nContact Person: Special Events Hot
 line\nContact Phone: 703.746.5592\nAudience: Anyone may attend\nTags: Con
 certs\, Family\, Food\, Holiday Event\, Old Town\, Parks\, Recreation\, W
 aterfront\n\nWeb resources:\n\nhttp://www.alexandriava.gov/uploadedFiles/
 recreation/JazzFestival.pdf \n
DTEND:20140526T220000Z
DTSTAMP:20140501T014118Z
DTSTART:20140526T170000Z
GEO:38.803380;-77.039641
LOCATION:Waterfront Park\, 1 Prince St.
SEQUENCE:15
STATUS:CONFIRMED
SUMMARY:City of Alexandria Memorial Day Jazz Festival
TRANSP:TRANSPARENT
UID:ea798d30-8ee0-4d92-a127-7c325d4fa270
URL:http://www.alexandriava.gov/uploadedFiles/recreation/JazzFestival.pdf
X-ALT-DESC;FMTTYPE=text/html:To verify info please see <a href="https://ap
 ps.alexandriava.gov/Calendar/Detail.aspx?si=7759">https://apps.alexandria
 va.gov/Calendar/Detail.aspx?si=7759</a><br />\n<br />37th Annual Memorial
  Day Jazz Festival commemorating Memorial Day.  Performances by a variety
  of Jazz Artists\, with food and beverage sales. The U.S. Army Blues\, fr
 om The U.S Army Band &quot\;Pershing&#39\;s Own&quot\; will kick off the 
 festival\, followed by Ocho De Bastos featuring Latin Fusion\; Earl Carte
 r featuring Phillip Martin\, with Smooth Jazz\; then the Blue Crescent Sy
 ncopators with Dixieland Jazz and concluding with Seth Kibel &amp\; Bay J
 azz Project with Straight Ahead and Swing.\n<br />\n<br />Location: Water
 front Park\, 1 Prince St.\n<br />Contact Person: Special Events Hotline\n
 <br />Contact Phone: 703.746.5592\n<br />Audience: Anyone may attend\n<br
  />Tags: Concerts\, Family\, Food\, Holiday Event\, Old Town\, Parks\, Re
 creation\, Waterfront<br>\n<a href="http://www.alexandriava.gov/uploadedF
 iles/recreation/JazzFestival.pdf ">http://www.alexandriava.gov/uploadedFi
 les/recreation/JazzFestival.pdf </a><br>\n
X-COA-DTSTAMP:20140501T014118Z
END:VEVENT
END:VCALENDAR
