BEGIN:VCALENDAR
CALSCALE:GREGORIAN
METHOD:PUBLISH
PRODID:-//github.com/ical-org/ical.net//NONSGML ical.net 4.0//EN
VERSION:2.0
X-WR-TIMEZONE:US/Eastern
BEGIN:VEVENT
CATEGORIES:Cleanup
CATEGORIES:Community Event
CATEGORIES:Eco-City
CATEGORIES:Environment
CATEGORIES:Parks
CATEGORIES:Streams
CATEGORIES:Water
DESCRIPTION:To verify info please see https://apps.alexandriava.gov/Calend
 ar/Detail.aspx?si=7193\n\nVolunteer to cleanup Holmes Run this Saturday\,
  October 26. Volunteers will meet at Beatley Bridge in Holmes Run Park\, 
 located at the intersection of North Pickett Street and Holmes Run Parkwa
 y.  Garbage bags will be provided.  Please bring your own work gloves\, b
 oots\, and other gear that might help during the cleanup.  Join others to
  make a difference in our community.\n\nLocation: Holmes Run Park\, South
 eastern corner of Beauregard St and Morgan St\nAudience: Anyone may atten
 d\nTags: Cleanup\, Community Event\, Eco-City\, Environment\, Parks\, Str
 eams\, Water
DTEND:20131026T170000Z
DTSTAMP:20131018T213727Z
DTSTART:20131026T140000Z
GEO:38.824835;-77.132142
LOCATION:Holmes Run Park\, Southeastern corner of Beauregard St and Morgan
  St
SEQUENCE:7
STATUS:CONFIRMED
SUMMARY:Holmes Run Fall Cleanup
TRANSP:OPAQUE
UID:afb27fa1-2fe0-46df-997d-91c778c59814
X-ALT-DESC;FMTTYPE=text/html:To verify info please see <a href="https://ap
 ps.alexandriava.gov/Calendar/Detail.aspx?si=7193">https://apps.alexandria
 va.gov/Calendar/Detail.aspx?si=7193</a><br />\n<br />Volunteer to cleanup
  Holmes Run this Saturday\, October 26. Volunteers will meet at Beatley B
 ridge in Holmes Run Park\, located at the intersection of North Pickett S
 treet and Holmes Run Parkway.  Garbage bags will be provided.  Please bri
 ng your own work gloves\, boots\, and other gear that might help during t
 he cleanup.  Join others to make a difference in our community.\n<br />\n
 <br />Location: Holmes Run Park\, Southeastern corner of Beauregard St an
 d Morgan St\n<br />Audience: Anyone may attend\n<br />Tags: Cleanup\, Com
 munity Event\, Eco-City\, Environment\, Parks\, Streams\, Water
X-COA-DTSTAMP:20131018T213727Z
END:VEVENT
END:VCALENDAR
