BEGIN:VCALENDAR
CALSCALE:GREGORIAN
METHOD:PUBLISH
PRODID:-//github.com/ical-org/ical.net//NONSGML ical.net 4.0//EN
VERSION:2.0
X-WR-TIMEZONE:US/Eastern
BEGIN:VEVENT
CATEGORIES:Adult
CATEGORIES:Tour
DESCRIPTION:To verify info please see https://apps.alexandriava.gov/Calend
 ar/Detail.aspx?si=6869\n\nFriends of Fort Ward bus tour on "The John Wilk
 es Booth Escape Route\," Pre-registration required. Tour guide David Heib
 y will trace the movements of Booth's escape from Ford's Theatre followin
 g his assassination of President Abraham Lincoln on April 14\, 1865.  The
  tour will visit sites in D.C. and southern Maryland\, such as Mary Surra
 tt's Boarding House\, Surratt's Tavern\, Dr. Samuel Mudd's House\, and Po
 pe's Creek.  A Civil War commemorative event.\n\nLocation: Fort Ward Muse
 um\, 4301 W. Braddock Rd.\nContact Phone: 703.746.4848\nContact Email: fo
 rtwardmuseum@alexandriava.gov\nFees: FFW members/$95\; non-members/$110. 
 Pre-registration required. \nAudience: Anyone may attend\nTags: Adult\, T
 our
DTEND:20131019T220000Z
DTSTAMP:20130829T160820Z
DTSTART:20131019T120000Z
GEO:38.829553;-77.101740
LOCATION:Fort Ward Museum\, 4301 W. Braddock Rd.
SEQUENCE:7
STATUS:CONFIRMED
SUMMARY:Friends of Fort Ward Bus Tour
TRANSP:OPAQUE
UID:0b81c6e3-9347-4c9d-b467-1e4ac040b8eb
X-ALT-DESC;FMTTYPE=text/html:To verify info please see <a href="https://ap
 ps.alexandriava.gov/Calendar/Detail.aspx?si=6869">https://apps.alexandria
 va.gov/Calendar/Detail.aspx?si=6869</a><br />\n<br />Friends of Fort Ward
  bus tour on &quot\;The John Wilkes Booth Escape Route\,&quot\; Pre-regis
 tration required. Tour guide David Heiby will trace the movements of Boot
 h&#39\;s escape from Ford&#39\;s Theatre following his assassination of P
 resident Abraham Lincoln on April 14\, 1865.  The tour will visit sites i
 n D.C. and southern Maryland\, such as Mary Surratt&#39\;s Boarding House
 \, Surratt&#39\;s Tavern\, Dr. Samuel Mudd&#39\;s House\, and Pope&#39\;s
  Creek.  A Civil War commemorative event.\n<br />\n<br />Location: Fort W
 ard Museum\, 4301 W. Braddock Rd.\n<br />Contact Phone: 703.746.4848\n<br
  />Contact Email: fortwardmuseum@alexandriava.gov\n<br />Fees: FFW member
 s/$95\; non-members/$110. Pre-registration required. \n<br />Audience: An
 yone may attend\n<br />Tags: Adult\, Tour
X-COA-DTSTAMP:20130829T160820Z
END:VEVENT
END:VCALENDAR
