BEGIN:VCALENDAR
CALSCALE:GREGORIAN
METHOD:PUBLISH
PRODID:-//github.com/ical-org/ical.net//NONSGML ical.net 4.0//EN
VERSION:2.0
X-WR-TIMEZONE:US/Eastern
BEGIN:VEVENT
CATEGORIES:Bicycle
CATEGORIES:King Street
DESCRIPTION:To verify info please see https://apps.alexandriava.gov/Calend
 ar/Detail.aspx?si=6807\n\nThe public is invited to a meeting to discuss a
  proposal to install bicycle lanes on King Street between Janney's Lane a
 nd Russell Road in conjunction with the resurfacing of the roadway \n\nLo
 cation: Naomi L. Brooks Elementary School\, 600 Russell Road\nContact Per
 son: Hillary Poole\nContact Phone: 703.746.4017\nContact Email: hillary.p
 oole@alexandriava.gov\nAudience: Anyone may attend\nTags: Bicycle\, King 
 Street\n\nWeb resources:\n\nhttp://alexandriava.gov/localmotion/info/defa
 ult.aspx?id=74320\n
DTEND:20130919T010000Z
DTSTAMP:20130917T154556Z
DTSTART:20130918T230000Z
LOCATION:Naomi L. Brooks Elementary School\, 600 Russell Road
SEQUENCE:8
STATUS:CONFIRMED
SUMMARY:Proposed Bicycle Facilities on King Street
TRANSP:OPAQUE
UID:ae561fd3-2b1e-4ea0-bb95-44cac17943a4
URL:http://alexandriava.gov/localmotion/info/default.aspx?id=74320
X-ALT-DESC;FMTTYPE=text/html:To verify info please see <a href="https://ap
 ps.alexandriava.gov/Calendar/Detail.aspx?si=6807">https://apps.alexandria
 va.gov/Calendar/Detail.aspx?si=6807</a><br />\n<br />The public is invite
 d to a meeting to discuss a proposal to install bicycle lanes on King Str
 eet between Janney?s Lane and Russell Road in conjunction with the resurf
 acing of the roadway \n<br />\n<br />Location: Naomi L. Brooks Elementary
  School\, 600 Russell Road\n<br />Contact Person: Hillary Poole\n<br />Co
 ntact Phone: 703.746.4017\n<br />Contact Email: hillary.poole@alexandriav
 a.gov\n<br />Audience: Anyone may attend\n<br />Tags: Bicycle\, King Stre
 et<br>\n<a href="http://alexandriava.gov/localmotion/info/default.aspx?id
 =74320">http://alexandriava.gov/localmotion/info/default.aspx?id=74320</a
 ><br>\n
X-COA-DTSTAMP:20130917T154556Z
END:VEVENT
END:VCALENDAR
