BEGIN:VCALENDAR
CALSCALE:GREGORIAN
METHOD:PUBLISH
PRODID:-//github.com/ical-org/ical.net//NONSGML ical.net 4.0//EN
VERSION:2.0
X-WR-TIMEZONE:US/Eastern
BEGIN:VEVENT
CATEGORIES:Museums
CATEGORIES:Old & Historic Alexandria
CATEGORIES:Old Town
CATEGORIES:Sister Cities
DESCRIPTION:To verify info please see https://apps.alexandriava.gov/Calend
 ar/Detail.aspx?si=62565\n\nAn in-person meeting of the Sister Cities Comm
 ittee's Swedish Coffee Subcommittee. \n\n\n\nLocation: La Madeleine\, 500
  King St.\nAudience: Anyone may attend\nTags: Museums\, Old & Historic Al
 exandria\, Old Town\, Sister Cities\n\nWeb resources:\n\nMeeting Agenda\n
 https://www.alexandriava.gov/sites/default/files/2026-04/SSCSubcommitteeA
 genda20260418.pdf\n
DTEND:20260418T160000Z
DTSTAMP:20260414T192243Z
DTSTART:20260418T150000Z
GEO:38.804651;-77.045038
LOCATION:La Madeleine\, 500 King St.
SEQUENCE:7
STATUS:CONFIRMED
SUMMARY:Sister Cities Swedish Coffee Subcommitte
TRANSP:OPAQUE
UID:4ddf1081-1dda-4db6-b29f-0a7ee2ddaace
URL:https://www.alexandriava.gov/sites/default/files/2026-04/SSCSubcommitt
 eeAgenda20260418.pdf
X-ALT-DESC;FMTTYPE=text/html:To verify info please see <a href="https://ap
 ps.alexandriava.gov/Calendar/Detail.aspx?si=62565">https://apps.alexandri
 ava.gov/Calendar/Detail.aspx?si=62565</a><br />\n<br />An in-person meeti
 ng of the Sister Cities Committee&#39\;s Swedish Coffee Subcommittee. \n<
 br />\n<br />\n<br />\n<br />Location: La Madeleine\, 500 King St.\n<br /
 >Audience: Anyone may attend\n<br />Tags: Museums\, Old &amp\; Historic A
 lexandria\, Old Town\, Sister Cities<br>\n<a href="https://www.alexandria
 va.gov/sites/default/files/2026-04/SSCSubcommitteeAgenda20260418.pdf">Mee
 ting Agenda</a><br>\n
X-COA-DTSTAMP:20260414T192243Z
END:VEVENT
END:VCALENDAR
