BEGIN:VCALENDAR
CALSCALE:GREGORIAN
METHOD:PUBLISH
PRODID:-//github.com/ical-org/ical.net//NONSGML ical.net 4.0//EN
VERSION:2.0
X-WR-TIMEZONE:US/Eastern
BEGIN:VEVENT
CATEGORIES:Museums
CATEGORIES:Old & Historic Alexandria
CATEGORIES:Old Town
CATEGORIES:Sister Cities
DESCRIPTION:To verify info please see https://apps.alexandriava.gov/Calend
 ar/Detail.aspx?si=62369\n\nA meeting of the Alexandria-Caen Sister City C
 ommittee. \n\nLocation: Lloyd House\, 220 N. Washington St.\nAudience: An
 yone may attend\nTags: Museums\, Old & Historic Alexandria\, Old Town\, S
 ister Cities\n\nWeb resources:\n\nMeeting Agenda\nhttps://media.alexandri
 ava.gov/content/oha/ACSCCAgenda20260309.pdf\n
DTEND:20260310T010000Z
DTSTAMP:20260227T235604Z
DTSTART:20260309T230000Z
GEO:38.807209;-77.046797
LOCATION:Lloyd House\, 220 N. Washington St.
SEQUENCE:5
STATUS:CONFIRMED
SUMMARY:Alexandria-Caen Sister City Committee
TRANSP:OPAQUE
UID:3275e69c-1151-493f-ba0c-b90a5aadb9ed
URL:https://media.alexandriava.gov/content/oha/ACSCCAgenda20260309.pdf
X-ALT-DESC;FMTTYPE=text/html:To verify info please see <a href="https://ap
 ps.alexandriava.gov/Calendar/Detail.aspx?si=62369">https://apps.alexandri
 ava.gov/Calendar/Detail.aspx?si=62369</a><br />\n<br />A meeting of the A
 lexandria-Caen Sister City Committee. \n<br />\n<br />Location: Lloyd Hou
 se\, 220 N. Washington St.\n<br />Audience: Anyone may attend\n<br />Tags
 : Museums\, Old &amp\; Historic Alexandria\, Old Town\, Sister Cities<br>
 \n<a href="https://media.alexandriava.gov/content/oha/ACSCCAgenda20260309
 .pdf">Meeting Agenda</a><br>\n
X-COA-DTSTAMP:20260227T235604Z
END:VEVENT
END:VCALENDAR
