BEGIN:VCALENDAR
CALSCALE:GREGORIAN
METHOD:PUBLISH
PRODID:-//github.com/ical-org/ical.net//NONSGML ical.net 4.0//EN
VERSION:2.0
X-WR-TIMEZONE:US/Eastern
BEGIN:VEVENT
CATEGORIES:Boards & Commissions
CATEGORIES:Museums
CATEGORIES:Sister Cities
DESCRIPTION:To verify info please see https://apps.alexandriava.gov/Calend
 ar/Detail.aspx?si=62364\n\nAn in-person meeting of the Dundee Visit Subco
 mmittee. This meeting will be held at Misha's Coffee House (second floor)
 \, 6 Prince Street\, Alexandria.\n\nLocation: Misha's Coffee House\, 102 
 S.Patrick St.\nAudience: The same as NULL value.\nTags: Boards & Commissi
 ons\, Museums\, Sister Cities\n\nWeb resources:\n\nMeeting Agenda\nhttps:
 //www.alexandriava.gov/sites/default/files/2026-02/SSCSubCommitteeAgenda2
 0260308.pdf\n
DTEND:20260308T173000Z
DTSTAMP:20260226T152017Z
DTSTART:20260308T160000Z
LOCATION:Misha's Coffee House\, 102 S.Patrick St.
SEQUENCE:5
STATUS:CONFIRMED
SUMMARY:Dundee Visit Subcommittee Meeting
TRANSP:OPAQUE
UID:411500e6-421d-4518-a4a5-21c0695da07a
URL:https://www.alexandriava.gov/sites/default/files/2026-02/SSCSubCommitt
 eeAgenda20260308.pdf
X-ALT-DESC;FMTTYPE=text/html:To verify info please see <a href="https://ap
 ps.alexandriava.gov/Calendar/Detail.aspx?si=62364">https://apps.alexandri
 ava.gov/Calendar/Detail.aspx?si=62364</a><br />\n<br />An in-person meeti
 ng of the Dundee Visit Subcommittee. This meeting will be held at Misha&#
 39\;s Coffee House (second floor)\, 6 Prince Street\, Alexandria.\n<br />
 \n<br />Location: Misha&#39\;s Coffee House\, 102 S.Patrick St.\n<br />Au
 dience: The same as NULL value.\n<br />Tags: Boards &amp\; Commissions\, 
 Museums\, Sister Cities<br>\n<a href="https://www.alexandriava.gov/sites/
 default/files/2026-02/SSCSubCommitteeAgenda20260308.pdf">Meeting Agenda</
 a><br>\n
X-COA-DTSTAMP:20260226T152017Z
END:VEVENT
END:VCALENDAR
