BEGIN:VCALENDAR
CALSCALE:GREGORIAN
METHOD:PUBLISH
PRODID:-//github.com/ical-org/ical.net//NONSGML ical.net 4.0//EN
VERSION:2.0
X-WR-TIMEZONE:US/Eastern
BEGIN:VEVENT
CATEGORIES:T&ES Events
CATEGORIES:Transportation
DESCRIPTION:To verify info please see https://apps.alexandriava.gov/Calend
 ar/Detail.aspx?si=58969\n\nBike to Work Day is a region-wide event promot
 ing bicycle commuting as a safe\, zero-emissions option for getting to an
 d from work\, school\, and other daily destinations. The Old Town at City
  Hall pit stop\, sponsored by GO Alex\, will include speakers\, local ven
 dors\, giveaways\, and music from a live DJ to get the morning started.\n
 \nLocation: Market Square\, 301 King St.\nContact Person: Hamzat Sani\nCo
 ntact Phone: 703.213.7460\nContact Email: hamzat.sani@alexandriava.gov\nA
 udience: Anyone may attend\nTags: T&ES Events\, Transportation\n\nWeb res
 ources:\n\nBike to Work Day 2025\nhttps://www.alexandriava.gov/public-tra
 nsportation/bike-to-work-day\nLearn more about Bike to Work Day at the Ci
 ty Hall pit stop and other pit stops located in Alexandria\, and register
  for the 2025 event.\n
DTEND:20250515T133000Z
DTSTAMP:20250415T153152Z
DTSTART:20250515T113000Z
GEO:38.804935;-77.042978
LOCATION:Market Square\, 301 King St.
SEQUENCE:5
STATUS:CONFIRMED
SUMMARY:Bike to Work Day 2025
TRANSP:OPAQUE
UID:c4a036c3-f66f-42bd-a3b7-9dbea6d1fd8d
URL:https://www.alexandriava.gov/public-transportation/bike-to-work-day
X-ALT-DESC;FMTTYPE=text/html:To verify info please see <a href="https://ap
 ps.alexandriava.gov/Calendar/Detail.aspx?si=58969">https://apps.alexandri
 ava.gov/Calendar/Detail.aspx?si=58969</a><br />\n<br />Bike to Work Day i
 s a region-wide event promoting bicycle commuting as a safe\, zero-emissi
 ons option for getting to and from work\, school\, and other daily destin
 ations. The Old Town at City Hall pit stop\, sponsored by GO Alex\, will 
 include speakers\, local vendors\, giveaways\, and music from a live DJ t
 o get the morning started.\n<br />\n<br />Location: Market Square\, 301 K
 ing St.\n<br />Contact Person: Hamzat Sani\n<br />Contact Phone: 703.213.
 7460\n<br />Contact Email: hamzat.sani@alexandriava.gov\n<br />Audience: 
 Anyone may attend\n<br />Tags: T&amp\;ES Events\, Transportation<br>\n<a 
 href="https://www.alexandriava.gov/public-transportation/bike-to-work-day
 ">Bike to Work Day 2025</a><br>\nLearn more about Bike to Work Day at the
  City Hall pit stop and other pit stops located in Alexandria\, and regis
 ter for the 2025 event.<br>\n
X-COA-DTSTAMP:20250415T153152Z
END:VEVENT
END:VCALENDAR
