BEGIN:VCALENDAR
CALSCALE:GREGORIAN
METHOD:PUBLISH
PRODID:-//github.com/ical-org/ical.net//NONSGML ical.net 4.0//EN
VERSION:2.0
X-WR-TIMEZONE:US/Eastern
BEGIN:VEVENT
CATEGORIES:Arts
CATEGORIES:Public Art & Memorials
CATEGORIES:Waterfront
DESCRIPTION:To verify info please see https://apps.alexandriava.gov/Calend
 ar/Detail.aspx?si=58844\n\nJoin the City of Alexandria's Office of the Ar
 ts and artist Nekisha Durrett for the opening celebration of "Break Water
 " the 7th installation in the Site See: New Views in Old Town annual publ
 ic art series for the opening of Break Water on Saturday\, March 22 from 
 1 to 4 p.m. at Waterfront Park (1 Prince Street) with artist remarks at 1
 :30 p.m.\n\n"Break Water" draws inspiration from Alexandria's waterfront 
 being a place where natural forces and human activity intersect\, often w
 ith profound consequences. DC-based artist Nekisha Durrett employs the vi
 sual language of mass media to bring forward histories that places\, obje
 cts\, and words embody\, but are not often celebrated. Through deep resea
 rch and material investigation\, she finds historical traces in the prese
 nt that are filled with stories easily overlooked. \n\nTo learn more abou
 t this and other public art projects\, visit www.alexandriava.gov/publica
 rt\n\nLocation: Waterfront Park\, 1 Prince St.\nContact Person: Diane Rug
 giero\nContact Phone: 703.746.5590\nContact Email: diane.ruggiero@alexand
 riava.gov\nAudience: Anyone may attend\nTags: Arts\, Public Art & Memoria
 ls\, Waterfront
DTEND:20250322T200000Z
DTSTAMP:20250320T132206Z
DTSTART:20250322T170000Z
GEO:38.803380;-77.039641
LOCATION:Waterfront Park\, 1 Prince St.
SEQUENCE:5
STATUS:CONFIRMED
SUMMARY:Opening Reception: Break Water by Nekisha Durrett
TRANSP:TRANSPARENT
UID:bfd65fea-c128-41a1-8861-93b4950ff783
X-ALT-DESC;FMTTYPE=text/html:To verify info please see <a href="https://ap
 ps.alexandriava.gov/Calendar/Detail.aspx?si=58844">https://apps.alexandri
 ava.gov/Calendar/Detail.aspx?si=58844</a><br />\n<br />Join the City of A
 lexandria?s Office of the Arts and artist Nekisha Durrett for the opening
  celebration of &quot\;Break Water&quot\; the 7th installation in the Sit
 e See: New Views in Old Town annual public art series for the opening of 
 Break Water on Saturday\, March 22 from 1 to 4 p.m. at Waterfront Park (1
  Prince Street) with artist remarks at 1:30 p.m.\n<br />\n<br />&quot\;Br
 eak Water&quot\; draws inspiration from Alexandria?s waterfront being a p
 lace where natural forces and human activity intersect\, often with profo
 und consequences. DC-based artist Nekisha Durrett employs the visual lang
 uage of mass media to bring forward histories that places\, objects\, and
  words embody\, but are not often celebrated. Through deep research and m
 aterial investigation\, she finds historical traces in the present that a
 re filled with stories easily overlooked. \n<br />\n<br />To learn more a
 bout this and other public art projects\, visit www.alexandriava.gov/publ
 icart\n<br />\n<br />Location: Waterfront Park\, 1 Prince St.\n<br />Cont
 act Person: Diane Ruggiero\n<br />Contact Phone: 703.746.5590\n<br />Cont
 act Email: diane.ruggiero@alexandriava.gov\n<br />Audience: Anyone may at
 tend\n<br />Tags: Arts\, Public Art &amp\; Memorials\, Waterfront
X-COA-DTSTAMP:20250320T132206Z
END:VEVENT
END:VCALENDAR
