BEGIN:VCALENDAR
CALSCALE:GREGORIAN
METHOD:PUBLISH
PRODID:-//github.com/ical-org/ical.net//NONSGML ical.net 4.0//EN
VERSION:2.0
X-WR-TIMEZONE:US/Eastern
BEGIN:VEVENT
CATEGORIES:Boards & Commissions
CATEGORIES:Parents
CATEGORIES:Teens
CATEGORIES:Toddlers
CATEGORIES:Youth
DESCRIPTION:To verify info please see https://apps.alexandriava.gov/Calend
 ar/Detail.aspx?si=56970\n\nGoal Group 1 will meeting virtually.\n\nLocati
 on:  Virtual Only\nContact Person: Noraine Buttar\nContact Phone: 703.746
 .3436\nContact Email: noraine.buttar@alexandriava.gov\nAudience: Anyone m
 ay attend\nTags: Boards & Commissions\, Parents\, Teens\, Toddlers\, Yout
 h
DTEND:20240103T233000Z
DTSTAMP:20231230T031141Z
DTSTART:20240103T223000Z
LOCATION: Virtual Only
SEQUENCE:5
STATUS:CONFIRMED
SUMMARY:Child\, Youth Fam. Coll. Comm. Goal Group 1 Mtg
TRANSP:OPAQUE
UID:79508dca-2bbb-41ff-b929-f4fd45cd5221
X-ALT-DESC;FMTTYPE=text/html:To verify info please see <a href="https://ap
 ps.alexandriava.gov/Calendar/Detail.aspx?si=56970">https://apps.alexandri
 ava.gov/Calendar/Detail.aspx?si=56970</a><br />\n<br />Goal Group 1 will 
 meeting virtually.\n<br />\n<br />Location:  Virtual Only\n<br />Contact 
 Person: Noraine Buttar\n<br />Contact Phone: 703.746.3436\n<br />Contact 
 Email: noraine.buttar@alexandriava.gov\n<br />Audience: Anyone may attend
 \n<br />Tags: Boards &amp\; Commissions\, Parents\, Teens\, Toddlers\, Yo
 uth
X-COA-DTSTAMP:20231230T031141Z
END:VEVENT
END:VCALENDAR
