BEGIN:VCALENDAR
CALSCALE:GREGORIAN
METHOD:PUBLISH
PRODID:-//github.com/ical-org/ical.net//NONSGML ical.net 4.0//EN
VERSION:2.0
X-WR-TIMEZONE:US/Eastern
BEGIN:VEVENT
CATEGORIES:Adult
CATEGORIES:Aging
CATEGORIES:Boards & Commissions
CATEGORIES:City Council
CATEGORIES:DCHS
CATEGORIES:Seniors
DESCRIPTION:To verify info please see https://apps.alexandriava.gov/Calend
 ar/Detail.aspx?si=56947\n\nHybrid meeting: In-person at MCD\, 9th floor\,
  room 9208 or virtually: https://zoom.us/j/97262502330\nMeeting ID: 972 6
 250 2330\nPassword: 968693\nPhone In number: +1 301 715 8592  \n\n\nLocat
 ion: 4850 Mark Center Drive\, 4850 Mark Center Drive\nContact Person: Ash
 ley Johnson\nContact Phone: 703.746.3389\nContact Email: ashley.johnson@a
 lexandriava.gov\nAudience: Anyone may attend\nTags: Adult\, Aging\, Board
 s & Commissions\, City Council\, DCHS\, Seniors
DTEND:20240411T220000Z
DTSTAMP:20231222T152915Z
DTSTART:20240411T200000Z
LOCATION:4850 Mark Center Drive\, 4850 Mark Center Drive
SEQUENCE:5
STATUS:CONFIRMED
SUMMARY:Commission on Aging
TRANSP:TRANSPARENT
UID:2baa4bed-b0e5-4830-b4fd-61548a92068c
X-ALT-DESC;FMTTYPE=text/html:To verify info please see <a href="https://ap
 ps.alexandriava.gov/Calendar/Detail.aspx?si=56947">https://apps.alexandri
 ava.gov/Calendar/Detail.aspx?si=56947</a><br />\n<br />Hybrid meeting: In
 -person at MCD\, 9th floor\, room 9208 or virtually: https://zoom.us/j/97
 262502330\n<br />Meeting ID: 972 6250 2330\n<br />Password: 968693\n<br /
 >Phone In number: +1 301 715 8592  \n<br />\n<br />\n<br />Location: 4850
  Mark Center Drive\, 4850 Mark Center Drive\n<br />Contact Person: Ashley
  Johnson\n<br />Contact Phone: 703.746.3389\n<br />Contact Email: ashley.
 johnson@alexandriava.gov\n<br />Audience: Anyone may attend\n<br />Tags: 
 Adult\, Aging\, Boards &amp\; Commissions\, City Council\, DCHS\, Seniors
X-COA-DTSTAMP:20231222T152915Z
END:VEVENT
END:VCALENDAR
