BEGIN:VCALENDAR
CALSCALE:GREGORIAN
METHOD:PUBLISH
PRODID:-//github.com/ical-org/ical.net//NONSGML ical.net 4.0//EN
VERSION:2.0
X-WR-TIMEZONE:US/Eastern
BEGIN:VEVENT
CATEGORIES:Budget
CATEGORIES:Budget2025
CATEGORIES:City Council
CATEGORIES:City Council Calendar
CATEGORIES:City Hall
CATEGORIES:Council Meeting
CATEGORIES:Webcast
CATEGORIES:Work Session
DESCRIPTION:To verify info please see https://apps.alexandriava.gov/Calend
 ar/Detail.aspx?si=54564\n\nThe March 20th\, 2024 Budget Work Session of t
 he Alexandria City Council is being held in the City Hall Sister Cities R
 oom 1101 (301 King Street\, Alexandria\, Virginia\, 22314) and electronic
 ally. Members of the City Council and staff are participating either in p
 erson or from a remote location through a video conference call on Zoom. 
 The meeting can be accessed by the public in the City Hall Sister Cities 
 Room 1101 and can be accessed via Zoom.\n\nZoom Registration\nIf you wish
  to use Zoom to watch this meeting\, you must register first using the "R
 egistration Link" provided in the Links section below. If you use the Zoo
 m webinar application\, please be sure you have updated the application t
 o the latest version for the best results. If you are unable to access Zo
 om\, you can use the Dial-in number to access the meeting.\n\nWebinar ID:
  913 4349 0734\nWebinar Passcode:   667197\nDial-in number: 301-715-8592\
 n\nThe meeting will be webcast live and video and audio recordings will b
 e available a few days after the meeting.\n\nIndividuals with disabilitie
 s who require assistance or special arrangements to participate in the Ci
 ty Council meeting may call the City Clerk and Clerk of Council's Office 
 at 703.746.4550 (TTY/TDD 838.5056). We request that you provide a 48-hour
  notice so that the proper arrangements may be made.\n\nBudget work sessi
 ons are closed-captioned for the hearing impaired.\n\nIndividuals requiri
 ng translation services should contact the City Clerk and Clerk of Counci
 l at gloria.sitton@alexandriava.gov or at 703.746.4550. We request that y
 ou provide 24-to-48-hour notice so that the proper arrangements may be ma
 de. Please specify the language for translation when you make the request
 .\n\n \n\nLocation: City Hall\, Sister Cities Room 1101\, 301 King St.\nC
 ontact Person: Pelin Tekneci\nContact Phone: 703.746.3736\nContact Email:
  pelin.tekneci@alexandriava.gov\nAudience: Anyone may attend\nTags: Budge
 t\, Budget2025\, City Council\, City Council Calendar\, City Hall\, Counc
 il Meeting\, Webcast\, Work Session\n\nWeb resources:\n\nPresentation\nht
 tps://www.alexandriava.gov/sites/default/files/2024-03/work_session_4_pre
 sentation_final.pdf\n\nAgenda\nhttps://www.alexandriava.gov/sites/default
 /files/2024-03/worksession_4_agenda.pdf\n
DTEND:20240321T010000Z
DTSTAMP:20240319T223312Z
DTSTART:20240320T230000Z
GEO:38.805537;-77.042758
LOCATION:City Hall\, Sister Cities Room 1101\, 301 King St.
SEQUENCE:18
STATUS:CONFIRMED
SUMMARY:FY 2025 Budget Work Session # 4:
TRANSP:TRANSPARENT
UID:718a0468-66de-4475-ab2a-6f12dbffbf3e
URL:https://www.alexandriava.gov/sites/default/files/2024-03/work_session_
 4_presentation_final.pdf
X-ALT-DESC;FMTTYPE=text/html:To verify info please see <a href="https://ap
 ps.alexandriava.gov/Calendar/Detail.aspx?si=54564">https://apps.alexandri
 ava.gov/Calendar/Detail.aspx?si=54564</a><br />\n<br />The March 20th\, 2
 024 Budget Work Session of the Alexandria City Council is being held in t
 he City Hall Sister Cities Room 1101 (301 King Street\, Alexandria\, Virg
 inia\, 22314) and electronically. Members of the City Council and staff a
 re participating either in person or from a remote location through a vid
 eo conference call on Zoom. The meeting can be accessed by the public in 
 the City Hall Sister Cities Room 1101 and can be accessed via Zoom.\n<br 
 />\n<br />Zoom Registration\n<br />If you wish to use Zoom to watch this 
 meeting\, you must register first using the &quot\;Registration Link&quot
 \; provided in the Links section below. If you use the Zoom webinar appli
 cation\, please be sure you have updated the application to the latest ve
 rsion for the best results. If you are unable to access Zoom\, you can us
 e the Dial-in number to access the meeting.\n<br />\n<br />Webinar ID: 91
 3 4349 0734\n<br />Webinar Passcode:   667197\n<br />Dial-in number: 301-
 715-8592\n<br />\n<br />The meeting will be webcast live and video and au
 dio recordings will be available a few days after the meeting.\n<br />\n<
 br />Individuals with disabilities who require assistance or special arra
 ngements to participate in the City Council meeting may call the City Cle
 rk and Clerk of Council&#39\;s Office at 703.746.4550 (TTY/TDD 838.5056).
  We request that you provide a 48-hour notice so that the proper arrangem
 ents may be made.\n<br />\n<br />Budget work sessions are closed-captione
 d for the hearing impaired.\n<br />\n<br />Individuals requiring translat
 ion services should contact the City Clerk and Clerk of Council at gloria
 .sitton@alexandriava.gov or at 703.746.4550. We request that you provide 
 24-to-48-hour notice so that the proper arrangements may be made. Please 
 specify the language for translation when you make the request.\n<br />\n
 <br /> \n<br />\n<br />Location: City Hall\, Sister Cities Room 1101\, 30
 1 King St.\n<br />Contact Person: Pelin Tekneci\n<br />Contact Phone: 703
 .746.3736\n<br />Contact Email: pelin.tekneci@alexandriava.gov\n<br />Aud
 ience: Anyone may attend\n<br />Tags: Budget\, Budget2025\, City Council\
 , City Council Calendar\, City Hall\, Council Meeting\, Webcast\, Work Se
 ssion<br>\n<a href="https://www.alexandriava.gov/sites/default/files/2024
 -03/work_session_4_presentation_final.pdf">Presentation</a><br>\n<a href=
 "https://www.alexandriava.gov/sites/default/files/2024-03/worksession_4_a
 genda.pdf">Agenda</a><br>\n
X-COA-DTSTAMP:20240319T223312Z
END:VEVENT
END:VCALENDAR
