BEGIN:VCALENDAR
CALSCALE:GREGORIAN
METHOD:PUBLISH
PRODID:-//github.com/ical-org/ical.net//NONSGML ical.net 4.0//EN
VERSION:2.0
X-WR-TIMEZONE:US/Eastern
BEGIN:VEVENT
CATEGORIES:Boards & Commissions
CATEGORIES:Commission Meeting
CATEGORIES:Court Services
CATEGORIES:West End
CATEGORIES:Youth
DESCRIPTION:To verify info please see https://apps.alexandriava.gov/Calend
 ar/Detail.aspx?si=51997\n\nPublic Meeting\nThis is a virtual only meeting
 . To attend virtually link is provided below.\n\nLocation:  Virtual Only\
 nContact Person: Jahi Banks\nContact Phone: 703.842.2290\nContact Email: 
 jbanks@jdcnv.org\nAudience: Anyone may attend\nTags: Boards & Commissions
 \, Commission Meeting\, Court Services\, West End\, Youth\n\nWeb resource
 s:\n\n Northern Virginia Juvenile Detention Center\nhttps://www.jdcnv.org
 /\n
DTEND:20230808T223000Z
DTSTAMP:20230510T195353Z
DTSTART:20230808T203000Z
LOCATION: Virtual Only
SEQUENCE:5
STATUS:CONFIRMED
SUMMARY:VIRTUAL: Northern Virginia  Juvenile Detention Commission
TRANSP:TRANSPARENT
UID:436e0db0-d29a-46f1-a6b4-99527b2369e4
URL:https://www.jdcnv.org/
X-ALT-DESC;FMTTYPE=text/html:To verify info please see <a href="https://ap
 ps.alexandriava.gov/Calendar/Detail.aspx?si=51997">https://apps.alexandri
 ava.gov/Calendar/Detail.aspx?si=51997</a><br />\n<br />Public Meeting\n<b
 r />This is a virtual only meeting. To attend virtually link is provided 
 below.\n<br />\n<br />Location:  Virtual Only\n<br />Contact Person: Jahi
  Banks\n<br />Contact Phone: 703.842.2290\n<br />Contact Email: jbanks@jd
 cnv.org\n<br />Audience: Anyone may attend\n<br />Tags: Boards &amp\; Com
 missions\, Commission Meeting\, Court Services\, West End\, Youth<br>\n<a
  href="https://www.jdcnv.org/"> Northern Virginia Juvenile Detention Cent
 er</a><br>\n
X-COA-DTSTAMP:20230510T195353Z
END:VEVENT
END:VCALENDAR
