BEGIN:VCALENDAR
CALSCALE:GREGORIAN
METHOD:PUBLISH
PRODID:-//github.com/ical-org/ical.net//NONSGML ical.net 4.0//EN
VERSION:2.0
X-WR-TIMEZONE:US/Eastern
BEGIN:VEVENT
CATEGORIES:Concerts
DESCRIPTION:To verify info please see https://apps.alexandriava.gov/Calend
 ar/Detail.aspx?si=5052\n\nThe Colonial English Handbell Ringers present t
 heir 2012 Christmas concert\, "12 Ringers Ringing Peace & Harmony\," feat
 uring several stunning set pieces from across the globe\, selections from
  "The Nutcracker\," a classic carol sing-a-long\, some original arrangeme
 nts from one of our very own ringers\, and a hilarious take on a beloved 
 holiday tune! Please join us for a fun\, festive\, merry and melodious ho
 liday treat!Identical performances at both 2 PM and also 4  PM.\n\nLocati
 on: The Lyceum\, 201 S. Washington St.\nContact Phone: 703.746.4994\nFees
 : Free\, but RESERVATIONS REQUIRED - call the Lyceum at 703.746.4994. Sea
 ting capacity is limited.\n\n\nAudience: Anyone may attend\nTags: Concert
 s
DTEND:20121216T200000Z
DTSTAMP:20130619T220000Z
DTSTART:20121216T190000Z
GEO:38.803564;-77.047425
LOCATION:The Lyceum\, 201 S. Washington St.
SEQUENCE:6
STATUS:CONFIRMED
SUMMARY:Colonial English Handbell Ringers
TRANSP:OPAQUE
UID:996af3c2-8b2e-41d1-af18-8f24861b85f2
X-ALT-DESC;FMTTYPE=text/html:To verify info please see <a href="https://ap
 ps.alexandriava.gov/Calendar/Detail.aspx?si=5052">https://apps.alexandria
 va.gov/Calendar/Detail.aspx?si=5052</a><br />\n<br />The Colonial English
  Handbell Ringers present their 2012 Christmas concert\, &quot\;12 Ringer
 s Ringing Peace &amp\; Harmony\,&quot\; featuring several stunning set pi
 eces from across the globe\, selections from &quot\;The Nutcracker\,&quot
 \; a classic carol sing-a-long\, some original arrangements from one of o
 ur very own ringers\, and a hilarious take on a beloved holiday tune! Ple
 ase join us for a fun\, festive\, merry and melodious holiday treat!Ident
 ical performances at both 2 PM and also 4  PM.\n<br />\n<br />Location: T
 he Lyceum\, 201 S. Washington St.\n<br />Contact Phone: 703.746.4994\n<br
  />Fees: Free\, but RESERVATIONS REQUIRED ? call the Lyceum at 703.746.49
 94. Seating capacity is limited.\n<br />\n<br />\n<br />Audience: Anyone 
 may attend\n<br />Tags: Concerts
X-COA-DTSTAMP:20121113T205853Z
END:VEVENT
END:VCALENDAR
