BEGIN:VCALENDAR
CALSCALE:GREGORIAN
METHOD:PUBLISH
PRODID:-//github.com/ical-org/ical.net//NONSGML ical.net 4.0//EN
VERSION:2.0
X-WR-TIMEZONE:US/Eastern
BEGIN:VEVENT
CATEGORIES:Boards & Commissions
CATEGORIES:Regular Meeting
CATEGORIES:T&ES Events
CATEGORIES:Water
DESCRIPTION:To verify info please see https://apps.alexandriava.gov/Calend
 ar/Detail.aspx?si=50449\n\nAlexandria Renew Enterprises Board of Director
 s. Submission of written statements is encouraged. Written statements may
  be emailed to the Board Secretary at lorna.huff@alexrenew.com\n\nMembers
  of the Board and staff are participating in person. The meeting can be a
 ccessed by the public in person at the Ed Semonian Boardroom or through t
 he live broadcast on YouTube. Meeting link is below.\n\nLocation: AlexRen
 ew Education Center & Meeting Space \, 1800 Limerick Street\nContact Pers
 on: Lorna Huff\nContact Phone: 703.549.3381\, ext. 2260\nContact Email: l
 orna.huff@alexrenew.com\nAudience: Anyone may attend\nTags: Boards & Comm
 issions\, Regular Meeting\, T&ES Events\, Water\n\nWeb resources:\n\nLive
  Meeting Broadcast\n http://board.alexrenew.org\n\nAlexandria Renew Enter
 prises\nhttp://www.alexrenew.com\nAlexandria Renew Enterprises\n
DTEND:20230517T000001Z
DTSTAMP:20221220T194942Z
DTSTART:20230516T220000Z
LOCATION:AlexRenew Education Center & Meeting Space \, 1800 Limerick Street
SEQUENCE:5
STATUS:CONFIRMED
SUMMARY:Alex. Renew Enterprises Board of Directors
TRANSP:TRANSPARENT
UID:9e0f912a-2cbc-4972-904c-87cbd08976a1
URL: http://board.alexrenew.org
X-ALT-DESC;FMTTYPE=text/html:To verify info please see <a href="https://ap
 ps.alexandriava.gov/Calendar/Detail.aspx?si=50449">https://apps.alexandri
 ava.gov/Calendar/Detail.aspx?si=50449</a><br />\n<br />Alexandria Renew E
 nterprises Board of Directors. Submission of written statements is encour
 aged. Written statements may be emailed to the Board Secretary at lorna.h
 uff@alexrenew.com\n<br />\n<br />Members of the Board and staff are parti
 cipating in person. The meeting can be accessed by the public in person a
 t the Ed Semonian Boardroom or through the live broadcast on YouTube. Mee
 ting link is below.\n<br />\n<br />Location: AlexRenew Education Center &
 amp\; Meeting Space \, 1800 Limerick Street\n<br />Contact Person: Lorna 
 Huff\n<br />Contact Phone: 703.549.3381\, ext. 2260\n<br />Contact Email:
  lorna.huff@alexrenew.com\n<br />Audience: Anyone may attend\n<br />Tags:
  Boards &amp\; Commissions\, Regular Meeting\, T&amp\;ES Events\, Water<b
 r>\n<a href=" http://board.alexrenew.org">Live Meeting Broadcast</a><br>\
 n<a href="http://www.alexrenew.com">Alexandria Renew Enterprises</a><br>\
 nAlexandria Renew Enterprises<br>\n
X-COA-DTSTAMP:20221220T194942Z
END:VEVENT
END:VCALENDAR
