BEGIN:VCALENDAR
CALSCALE:GREGORIAN
METHOD:PUBLISH
PRODID:-//github.com/ical-org/ical.net//NONSGML ical.net 4.0//EN
VERSION:2.0
X-WR-TIMEZONE:US/Eastern
BEGIN:VEVENT
CATEGORIES:Adult
CATEGORIES:Aging
CATEGORIES:Boards & Commissions
CATEGORIES:Commission Meeting
CATEGORIES:DCHS
CATEGORIES:Seniors
DESCRIPTION:To verify info please see https://apps.alexandriava.gov/Calend
 ar/Detail.aspx?si=49047\n\nMeeting held in-person at Goodwin Living\, 480
 0 Fillmore Avenue\, Resident Conference Room\n\nLocation: Goodwin Living 
 Alexandria\, 4800 Fillmore Ave\nContact Person: Pamela Austin\nContact Ph
 one: 703.746.5738\nContact Email: pamela.austin@alexandriava.gov\nAudienc
 e: Anyone may attend\nTags: Adult\, Aging\, Boards & Commissions\, Commis
 sion Meeting\, DCHS\, Seniors
DTEND:20230525T163000Z
DTSTAMP:20230519T163531Z
DTSTART:20230525T153000Z
LOCATION:Goodwin Living Alexandria\, 4800 Fillmore Ave
SEQUENCE:8
STATUS:CONFIRMED
SUMMARY:Commission on Aging - Outreach Committee
TRANSP:TRANSPARENT
UID:cc486e12-2171-4826-bf0c-f86cf4251720
X-ALT-DESC;FMTTYPE=text/html:To verify info please see <a href="https://ap
 ps.alexandriava.gov/Calendar/Detail.aspx?si=49047">https://apps.alexandri
 ava.gov/Calendar/Detail.aspx?si=49047</a><br />\n<br />Meeting held in-pe
 rson at Goodwin Living\, 4800 Fillmore Avenue\, Resident Conference Room\
 n<br />\n<br />Location: Goodwin Living Alexandria\, 4800 Fillmore Ave\n<
 br />Contact Person: Pamela Austin\n<br />Contact Phone: 703.746.5738\n<b
 r />Contact Email: pamela.austin@alexandriava.gov\n<br />Audience: Anyone
  may attend\n<br />Tags: Adult\, Aging\, Boards &amp\; Commissions\, Comm
 ission Meeting\, DCHS\, Seniors
X-COA-DTSTAMP:20230519T163531Z
END:VEVENT
END:VCALENDAR
