BEGIN:VCALENDAR
CALSCALE:GREGORIAN
METHOD:PUBLISH
PRODID:-//github.com/ical-org/ical.net//NONSGML ical.net 4.0//EN
VERSION:2.0
X-WR-TIMEZONE:US/Eastern
BEGIN:VEVENT
CATEGORIES:Commission Meeting
CATEGORIES:Marina
CATEGORIES:Parks
CATEGORIES:Recreation
CATEGORIES:Waterfront
DESCRIPTION:To verify info please see https://apps.alexandriava.gov/Calend
 ar/Detail.aspx?si=47968\n\nRegular Meetings\n\nLocation: City Hall\, Sist
 er Cities Room 1101\, 301 King St.\nContact Person: Jack Browand\nContact
  Phone: 703.746.5504\nContact Email: jack.browand@alexandriava.gov\nAudie
 nce: Anyone may attend\nTags: Commission Meeting\, Marina\, Parks\, Recre
 ation\, Waterfront\n\nWeb resources:\n\nWaterfront Commision\nhttps://www
 .alexandriava.gov/rpca/alexandria-waterfront-commission\n
DTEND:20221018T133000Z
DTSTAMP:20220914T094905Z
DTSTART:20221018T113000Z
GEO:38.805537;-77.042758
LOCATION:City Hall\, Sister Cities Room 1101\, 301 King St.
SEQUENCE:5
STATUS:CONFIRMED
SUMMARY:Waterfront Commission
TRANSP:TRANSPARENT
UID:d39fa0d7-18a2-4123-abde-018d9ed2a633
URL:https://www.alexandriava.gov/rpca/alexandria-waterfront-commission
X-ALT-DESC;FMTTYPE=text/html:To verify info please see <a href="https://ap
 ps.alexandriava.gov/Calendar/Detail.aspx?si=47968">https://apps.alexandri
 ava.gov/Calendar/Detail.aspx?si=47968</a><br />\n<br />Regular Meetings\n
 <br />\n<br />Location: City Hall\, Sister Cities Room 1101\, 301 King St
 .\n<br />Contact Person: Jack Browand\n<br />Contact Phone: 703.746.5504\
 n<br />Contact Email: jack.browand@alexandriava.gov\n<br />Audience: Anyo
 ne may attend\n<br />Tags: Commission Meeting\, Marina\, Parks\, Recreati
 on\, Waterfront<br>\n<a href="https://www.alexandriava.gov/rpca/alexandri
 a-waterfront-commission">Waterfront Commision</a><br>\n
X-COA-DTSTAMP:20220914T094905Z
END:VEVENT
END:VCALENDAR
