BEGIN:VCALENDAR
CALSCALE:GREGORIAN
METHOD:PUBLISH
PRODID:-//github.com/ical-org/ical.net//NONSGML ical.net 4.0//EN
VERSION:2.0
X-WR-TIMEZONE:US/Eastern
BEGIN:VEVENT
CATEGORIES:Cablecast
CATEGORIES:City Council
CATEGORIES:City Council Calendar
CATEGORIES:City Hall
CATEGORIES:Council Meeting
CATEGORIES:Live Closed Captioning
CATEGORIES:Webcast
DESCRIPTION:To verify info please see https://apps.alexandriava.gov/Calend
 ar/Detail.aspx?si=44428\n\nThe March 14\, 2023 Legislative Meeting of the
  Alexandria City Council is being held in the Council Chamber (301 King S
 treet\, Alexandria\, Virginia\, 22314) and electronically. Members of Cit
 y Council and staff are participating either in-person or from a remote l
 ocation through video conference call on Zoom webinar. The meeting can be
  accessed by government channel 70\, streaming on the City's website\, an
 d\ncan be accessed via Zoom by the following link:\n\nRegistration : http
 s://zoom.us/webinar/register/WN_4Rb5kqIDToufz2ST8ZEb_g\nWebinar ID: 910 6
 236 0859\nWebinar Passcode:  035133\nDial-in number: 301-715-8592\n\nIf y
 ou use the Zoom webinar application\, please be sure you have updated the
  application to the latest version for the best results. If you are unabl
 e to access the Zoom webinar\, please use the Dial-In number to access th
 e meeting.\n\n***PLEASE LOG-IN EARLY IF POSSIBLE***\n\nLinks:\nMeeting Ag
 enda and Live Webcast\n\nThe meeting will be webcast live and video and a
 udio recordings will be available a few days after the meeting.\n\nZoom R
 egistration Form\nIf you wish to use Zoom to watch the meeting or to addr
 ess Council\, you must register first.\n\nSubmission of written statement
 s is encouraged. Please sign up after the docket is created and posted an
 d you are able to verify the meeting date on the City's website.\n\nIf Yo
 u have prepared statement or a written comments for the record you may em
 ail it to the City Clerk at CouncilComment@alexandriava.gov.\n\n*****\nIn
 dividuals requiring translation services should contact the City Clerk an
 d Clerk of Council at gloria.sitton@alexandriava.gov or at 703.746.4550. 
 We request that you provide a 48-hour notice so that the proper arrangeme
 nts may be made. Please specify the language for translation when you mak
 e the request.\n\n\nLocation: City Hall\, Council Chamber\, 301 King St.\
 nContact Person: Gloria Sitton\nContact Phone: 703.746.4500\nContact Emai
 l: gloria.sitton@alexandriava.gov\nAudience: Anyone may attend\nTags: Cab
 lecast\, City Council\, City Council Calendar\, City Hall\, Council Meeti
 ng\, Live Closed Captioning\, Webcast\n\nWeb resources:\n\nMeeting Agenda
 \nhttps://legistar.granicus.com/alexandria/meetings/2023/3/2375_A_City_Co
 uncil_Legislative_Meeting_23-03-14_Docket.pdf?id=8093d480-6499-46c5-9b32-
 77238fba0c33\n
DTEND:20230315T010000Z
DTSTAMP:20230308T201209Z
DTSTART:20230314T230000Z
GEO:38.805393;-77.043273
LOCATION:City Hall\, Council Chamber\, 301 King St.
SEQUENCE:6
STATUS:CONFIRMED
SUMMARY:City Council First Legislative Meeting
TRANSP:TRANSPARENT
UID:c443b9b8-a74a-4856-966c-f03187a09ac7
URL:https://legistar.granicus.com/alexandria/meetings/2023/3/2375_A_City_C
 ouncil_Legislative_Meeting_23-03-14_Docket.pdf?id=8093d480-6499-46c5-9b32
 -77238fba0c33
X-ALT-DESC;FMTTYPE=text/html:To verify info please see <a href="https://ap
 ps.alexandriava.gov/Calendar/Detail.aspx?si=44428">https://apps.alexandri
 ava.gov/Calendar/Detail.aspx?si=44428</a><br />\n<br />The March 14\, 202
 3 Legislative Meeting of the Alexandria City Council is being held in the
  Council Chamber (301 King Street\, Alexandria\, Virginia\, 22314) and el
 ectronically. Members of City Council and staff are participating either 
 in-person or from a remote location through video conference call on Zoom
  webinar. The meeting can be accessed by government channel 70\, streamin
 g on the City&#39\;s website\, and\n<br />can be accessed via Zoom by the
  following link:\n<br />\n<br />Registration : https://zoom.us/webinar/re
 gister/WN_4Rb5kqIDToufz2ST8ZEb_g\n<br />Webinar ID: 910 6236 0859\n<br />
 Webinar Passcode:  035133\n<br />Dial-in number: 301-715-8592\n<br />\n<b
 r />If you use the Zoom webinar application\, please be sure you have upd
 ated the application to the latest version for the best results. If you a
 re unable to access the Zoom webinar\, please use the Dial-In number to a
 ccess the meeting.\n<br />\n<br />***PLEASE LOG-IN EARLY IF POSSIBLE***\n
 <br />\n<br />Links:\n<br />Meeting Agenda and Live Webcast\n<br />\n<br 
 />The meeting will be webcast live and video and audio recordings will be
  available a few days after the meeting.\n<br />\n<br />Zoom Registration
  Form\n<br />If you wish to use Zoom to watch the meeting or to address C
 ouncil\, you must register first.\n<br />\n<br />Submission of written st
 atements is encouraged. Please sign up after the docket is created and po
 sted and you are able to verify the meeting date on the City&#39\;s websi
 te.\n<br />\n<br />If You have prepared statement or a written comments f
 or the record you may email it to the City Clerk at CouncilComment@alexan
 driava.gov.\n<br />\n<br />*****\n<br />Individuals requiring translation
  services should contact the City Clerk and Clerk of Council at gloria.si
 tton@alexandriava.gov or at 703.746.4550. We request that you provide a 4
 8-hour notice so that the proper arrangements may be made. Please specify
  the language for translation when you make the request.\n<br />\n<br />\
 n<br />Location: City Hall\, Council Chamber\, 301 King St.\n<br />Contac
 t Person: Gloria Sitton\n<br />Contact Phone: 703.746.4500\n<br />Contact
  Email: gloria.sitton@alexandriava.gov\n<br />Audience: Anyone may attend
 \n<br />Tags: Cablecast\, City Council\, City Council Calendar\, City Hal
 l\, Council Meeting\, Live Closed Captioning\, Webcast<br>\n<a href="http
 s://legistar.granicus.com/alexandria/meetings/2023/3/2375_A_City_Council_
 Legislative_Meeting_23-03-14_Docket.pdf?id=8093d480-6499-46c5-9b32-77238f
 ba0c33">Meeting Agenda</a><br>\n
X-COA-DTSTAMP:20230308T201209Z
END:VEVENT
END:VCALENDAR
