BEGIN:VCALENDAR
CALSCALE:GREGORIAN
METHOD:PUBLISH
PRODID:-//github.com/ical-org/ical.net//NONSGML ical.net 4.0//EN
VERSION:2.0
X-WR-TIMEZONE:US/Eastern
BEGIN:VEVENT
CATEGORIES:Adult
CATEGORIES:Gadsby's Tavern
CATEGORIES:Museums
CATEGORIES:Old & Historic Alexandria
CATEGORIES:Old Town
DESCRIPTION:To verify info please see https://apps.alexandriava.gov/Calend
 ar/Detail.aspx?si=4290\n\nTaking tea has never been such a historic affai
 r! Sip the Museum's special blend of tea and eat period-inspired delicaci
 es with your 21st century friends and 18th century hostess. \n\nLocation:
  Gadsby's Tavern Museum\, 134 N. Royal St.\nContact Phone: 703.746.4242\n
 Contact Email: gadsbys.tavern@alexandriava.gov\nFees: $35 per person\, in
 clusive. Reservations required\nAudience: Anyone may attend\nTags: Adult\
 , Gadsby's Tavern\, Museums\, Old & Historic Alexandria\, Old Town\n\nWeb
  resources:\n\nhttps://cheyenne.alexandriava.gov/cgi-bin/oha_shop/scan/st
 =db/co=yes/sf=category/tf=category/se=Tea%20Parties/va=banner_image=/va=b
 anner_text=.html\n
DTEND:20121216T213000Z
DTSTAMP:20130619T220000Z
DTSTART:20121216T200000Z
GEO:38.805577;-77.043493
LOCATION:Gadsby's Tavern Museum\, 134 N. Royal St.
SEQUENCE:6
STATUS:CONFIRMED
SUMMARY:Ladies Tea
TRANSP:OPAQUE
UID:afcf0a42-09d8-4019-bff7-fd0e88da3843
URL:https://cheyenne.alexandriava.gov/cgi-bin/oha_shop/scan/st=db/co=yes/s
 f=category/tf=category/se=Tea%20Parties/va=banner_image=/va=banner_text=.
 html
X-ALT-DESC;FMTTYPE=text/html:To verify info please see <a href="https://ap
 ps.alexandriava.gov/Calendar/Detail.aspx?si=4290">https://apps.alexandria
 va.gov/Calendar/Detail.aspx?si=4290</a><br />\n<br />Taking tea has never
  been such a historic affair! Sip the Museum?s special blend of tea and e
 at period-inspired delicacies with your 21st century friends and 18th cen
 tury hostess. \n<br />\n<br />Location: Gadsby&#39\;s Tavern Museum\, 134
  N. Royal St.\n<br />Contact Phone: 703.746.4242\n<br />Contact Email: ga
 dsbys.tavern@alexandriava.gov\n<br />Fees: $35 per person\, inclusive. Re
 servations required\n<br />Audience: Anyone may attend\n<br />Tags: Adult
 \, Gadsby&#39\;s Tavern\, Museums\, Old &amp\; Historic Alexandria\, Old 
 Town<br>\n<a href="https://cheyenne.alexandriava.gov/cgi-bin/oha_shop/sca
 n/st=db/co=yes/sf=category/tf=category/se=Tea%20Parties/va=banner_image=/
 va=banner_text=.html">https://cheyenne.alexandriava.gov/cgi-bin/oha_shop/
 scan/st=db/co=yes/sf=category/tf=category/se=Tea%20Parties/va=banner_imag
 e=/va=banner_text=.html</a><br>\n
X-COA-DTSTAMP:20120706T145214Z
END:VEVENT
END:VCALENDAR
