BEGIN:VCALENDAR
CALSCALE:GREGORIAN
METHOD:PUBLISH
PRODID:-//github.com/ical-org/ical.net//NONSGML ical.net 4.0//EN
VERSION:2.0
X-WR-TIMEZONE:US/Eastern
BEGIN:VEVENT
CATEGORIES:Eisenhower West
CATEGORIES:Family
CATEGORIES:Food
CATEGORIES:Holiday Event
CATEGORIES:Parks
CATEGORIES:Performing Arts
CATEGORIES:Recreation
CATEGORIES:Volunteer
CATEGORIES:West End
DESCRIPTION:To verify info please see https://apps.alexandriava.gov/Calend
 ar/Detail.aspx?si=4256\n\nHeld at Armistead L. Boothe Park\, 520 Cameron 
 Station Blvd.\, next to Samuel Tucker School. Program includes children's
  activities such as scarecrow making\; pumpkin and face painting\; moonbo
 unce\; puppet show\; band performance\; pony rides\; exhibits and food sa
 les.\n\nLocation: See Details\nContact Person: Special Events\nContact Ph
 one: 703.746.5592\nFees: Ticket Sales for some activities\nAudience: Anyo
 ne may attend\nTags: Eisenhower West\, Family\, Food\, Holiday Event\, Pa
 rks\, Performing Arts\, Recreation\, Volunteer\, West End\n\nWeb resource
 s:\n\nhttp://alexandriava.gov/uploadedFiles/recreation/info/FallFestivalF
 lyer.pdf\n
DTEND:20121013T180000Z
DTSTAMP:20130619T220000Z
DTSTART:20121013T140000Z
LOCATION:See Details
SEQUENCE:10
STATUS:CONFIRMED
SUMMARY:Family Fall Festival
TRANSP:TRANSPARENT
UID:32faf302-a9b2-438b-b84e-c8e06e42b768
URL:http://alexandriava.gov/uploadedFiles/recreation/info/FallFestivalFlye
 r.pdf
X-ALT-DESC;FMTTYPE=text/html:To verify info please see <a href="https://ap
 ps.alexandriava.gov/Calendar/Detail.aspx?si=4256">https://apps.alexandria
 va.gov/Calendar/Detail.aspx?si=4256</a><br />\n<br />Held at Armistead L.
  Boothe Park\, 520 Cameron Station Blvd.\, next to Samuel Tucker School. 
 Program includes children?s activities such as scarecrow making\; pumpkin
  and face painting\; moonbounce\; puppet show\; band performance\; pony r
 ides\; exhibits and food sales.\n<br />\n<br />Location: See Details\n<br
  />Contact Person: Special Events\n<br />Contact Phone: 703.746.5592\n<br
  />Fees: Ticket Sales for some activities\n<br />Audience: Anyone may att
 end\n<br />Tags: Eisenhower West\, Family\, Food\, Holiday Event\, Parks\
 , Performing Arts\, Recreation\, Volunteer\, West End<br>\n<a href="http:
 //alexandriava.gov/uploadedFiles/recreation/info/FallFestivalFlyer.pdf">h
 ttp://alexandriava.gov/uploadedFiles/recreation/info/FallFestivalFlyer.pd
 f</a><br>\n
X-COA-DTSTAMP:20121010T201026Z
END:VEVENT
END:VCALENDAR
