BEGIN:VCALENDAR
CALSCALE:GREGORIAN
METHOD:PUBLISH
PRODID:-//github.com/ical-org/ical.net//NONSGML ical.net 4.0//EN
VERSION:2.0
X-WR-TIMEZONE:US/Eastern
BEGIN:VEVENT
CATEGORIES:Community Event
CATEGORIES:Food
CATEGORIES:Mt. Vernon Ave.
CATEGORIES:Recreation
CATEGORIES:Recreation Centers
CATEGORIES:Volunteer
DESCRIPTION:To verify info please see https://apps.alexandriava.gov/Calend
 ar/Detail.aspx?si=4069\n\nPart of a 4-day celebration where the focus is 
 on philanthropy and service to Alexandria- where we work\, play\, live an
 d give. Collection of donations of clothing\, furniture and electronics. 
 Food vendors\, exhibitors and music.\n\nLocation: Mt. Vernon Rec Center\,
  2701 Commonwealth Ave.\nContact Person: Marilyn Patterson\nContact Email
 : springforalexandria@gmail.com\nFees: Free\nAudience: Anyone may attend\
 nTags: Community Event\, Food\, Mt. Vernon Ave.\, Recreation\, Recreation
  Centers\, Volunteer\n\nWeb resources:\n\nhttp://springforalexandria.org\
 n
DTEND:20130504T200000Z
DTSTAMP:20130619T220000Z
DTSTART:20130504T140000Z
GEO:38.828709;-77.060096
LOCATION:Mt. Vernon Rec Center\, 2701 Commonwealth Ave.
SEQUENCE:6
STATUS:CONFIRMED
SUMMARY:Spring for Alexandria/Alexandria Gives
TRANSP:TRANSPARENT
UID:682f35d2-6c68-4e3b-af0d-d81e0781dd66
URL:http://springforalexandria.org
X-ALT-DESC;FMTTYPE=text/html:To verify info please see <a href="https://ap
 ps.alexandriava.gov/Calendar/Detail.aspx?si=4069">https://apps.alexandria
 va.gov/Calendar/Detail.aspx?si=4069</a><br />\n<br />Part of a 4-day cele
 bration where the focus is on philanthropy and service to Alexandria- whe
 re we work\, play\, live and give. Collection of donations of clothing\, 
 furniture and electronics. Food vendors\, exhibitors and music.\n<br />\n
 <br />Location: Mt. Vernon Rec Center\, 2701 Commonwealth Ave.\n<br />Con
 tact Person: Marilyn Patterson\n<br />Contact Email: springforalexandria@
 gmail.com\n<br />Fees: Free\n<br />Audience: Anyone may attend\n<br />Tag
 s: Community Event\, Food\, Mt. Vernon Ave.\, Recreation\, Recreation Cen
 ters\, Volunteer<br>\n<a href="http://springforalexandria.org">http://spr
 ingforalexandria.org</a><br>\n
X-COA-DTSTAMP:20120605T214216Z
END:VEVENT
END:VCALENDAR
