BEGIN:VCALENDAR
CALSCALE:GREGORIAN
METHOD:PUBLISH
PRODID:-//github.com/ical-org/ical.net//NONSGML ical.net 4.0//EN
VERSION:2.0
X-WR-TIMEZONE:US/Eastern
BEGIN:VEVENT
CATEGORIES:Boards & Commissions
CATEGORIES:City Hall
CATEGORIES:Commission Meeting
CATEGORIES:Eco-City
CATEGORIES:Regular Meeting
DESCRIPTION:To verify info please see https://apps.alexandriava.gov/Calend
 ar/Detail.aspx?si=4050\n\nScheduled Work Session\n\nLocation: City Hall\,
  Sister Cities Room 1101\, 301 King St.\nContact Person: Bill Skrabak\nCo
 ntact Phone: 703.746.4065\nAudience: Anyone may attend\nTags: Boards & Co
 mmissions\, City Hall\, Commission Meeting\, Eco-City\, Regular Meeting\n
 \nWeb resources:\n\nhttp://alexandriava.gov/EnvironmentalPolicyCommission
 \n
DTEND:20120605T013000Z
DTSTAMP:20130619T220000Z
DTSTART:20120604T233000Z
GEO:38.805537;-77.042758
LOCATION:City Hall\, Sister Cities Room 1101\, 301 King St.
SEQUENCE:5
STATUS:CONFIRMED
SUMMARY:Environmental Policy Commission
TRANSP:OPAQUE
UID:fa99b6ce-c96a-4214-8380-bb0f88f1aabf
URL:http://alexandriava.gov/EnvironmentalPolicyCommission
X-ALT-DESC;FMTTYPE=text/html:To verify info please see <a href="https://ap
 ps.alexandriava.gov/Calendar/Detail.aspx?si=4050">https://apps.alexandria
 va.gov/Calendar/Detail.aspx?si=4050</a><br />\n<br />Scheduled Work Sessi
 on\n<br />\n<br />Location: City Hall\, Sister Cities Room 1101\, 301 Kin
 g St.\n<br />Contact Person: Bill Skrabak\n<br />Contact Phone: 703.746.4
 065\n<br />Audience: Anyone may attend\n<br />Tags: Boards &amp\; Commiss
 ions\, City Hall\, Commission Meeting\, Eco-City\, Regular Meeting<br>\n<
 a href="http://alexandriava.gov/EnvironmentalPolicyCommission">http://ale
 xandriava.gov/EnvironmentalPolicyCommission</a><br>\n
X-COA-DTSTAMP:20120521T201818Z
END:VEVENT
END:VCALENDAR
