BEGIN:VCALENDAR
CALSCALE:GREGORIAN
METHOD:PUBLISH
PRODID:-//github.com/ical-org/ical.net//NONSGML ical.net 4.0//EN
VERSION:2.0
X-WR-TIMEZONE:US/Eastern
BEGIN:VEVENT
CATEGORIES:City Hall
CATEGORIES:Concerts
CATEGORIES:Family
CATEGORIES:King Street
CATEGORIES:Old Town
CATEGORIES:Performing Arts
CATEGORIES:Recreation
DESCRIPTION:To verify info please see https://apps.alexandriava.gov/Calend
 ar/Detail.aspx?si=4022\n\nThe Alexandria Harmonizers\, men's barbershop g
 roup\, perform a variety of musical harmony. Sit around Market Square on 
 bench seating\, or bring a folding chair to enjoy the music.\n\nLocation:
  Market Square\, 301 King St.\nContact Person: Special Events Hotline\nCo
 ntact Phone: 703.746.5592\nFees: Free\nAudience: Anyone may attend\nTags:
  City Hall\, Concerts\, Family\, King Street\, Old Town\, Performing Arts
 \, Recreation
DTEND:20120818T003000Z
DTSTAMP:20130619T220000Z
DTSTART:20120817T233000Z
GEO:38.804935;-77.042978
LOCATION:Market Square\, 301 King St.
SEQUENCE:6
STATUS:CONFIRMED
SUMMARY:Alexandria Harmonizers Concert
TRANSP:TRANSPARENT
UID:4363430a-fed3-42cd-be10-53cf3281d6db
X-ALT-DESC;FMTTYPE=text/html:To verify info please see <a href="https://ap
 ps.alexandriava.gov/Calendar/Detail.aspx?si=4022">https://apps.alexandria
 va.gov/Calendar/Detail.aspx?si=4022</a><br />\n<br />The Alexandria Harmo
 nizers\, men&#39\;s barbershop group\, perform a variety of musical harmo
 ny. Sit around Market Square on bench seating\, or bring a folding chair 
 to enjoy the music.\n<br />\n<br />Location: Market Square\, 301 King St.
 \n<br />Contact Person: Special Events Hotline\n<br />Contact Phone: 703.
 746.5592\n<br />Fees: Free\n<br />Audience: Anyone may attend\n<br />Tags
 : City Hall\, Concerts\, Family\, King Street\, Old Town\, Performing Art
 s\, Recreation
X-COA-DTSTAMP:20120517T163919Z
END:VEVENT
END:VCALENDAR
