BEGIN:VCALENDAR
CALSCALE:GREGORIAN
METHOD:PUBLISH
PRODID:-//github.com/ical-org/ical.net//NONSGML ical.net 4.0//EN
VERSION:2.0
X-WR-TIMEZONE:US/Eastern
BEGIN:VEVENT
CATEGORIES:City Hall
CATEGORIES:Concerts
CATEGORIES:Family
CATEGORIES:King Street
CATEGORIES:Old Town
CATEGORIES:Performing Arts
CATEGORIES:Recreation
DESCRIPTION:To verify info please see https://apps.alexandriava.gov/Calend
 ar/Detail.aspx?si=4018\n\nThe Alexandria Citizens Band\, the City's Oldes
 t Performing Arts Organization\, is celebrating 100 years!!  You are invi
 ted to join them in front of City Hall and enjoy the wide variety of musi
 c including marches\, jazz\, classical\, patriotic and others.  \n\nLocat
 ion: Market Square\, 301 King St.\nContact Person: Special Events Hotline
 \nContact Phone: 703.746.5592\nFees: Free\nAudience: Anyone may attend\nT
 ags: City Hall\, Concerts\, Family\, King Street\, Old Town\, Performing 
 Arts\, Recreation
DTEND:20120623T003000Z
DTSTAMP:20130619T220000Z
DTSTART:20120622T233000Z
GEO:38.804935;-77.042978
LOCATION:Market Square\, 301 King St.
SEQUENCE:6
STATUS:CANCELLED
SUMMARY:CANCELLED : Alexandria Citizens Band Concerts
TRANSP:TRANSPARENT
UID:7cbedc76-e44e-4e94-afd7-0006a6740860
X-ALT-DESC;FMTTYPE=text/html:To verify info please see <a href="https://ap
 ps.alexandriava.gov/Calendar/Detail.aspx?si=4018">https://apps.alexandria
 va.gov/Calendar/Detail.aspx?si=4018</a><br />\n<br />The Alexandria Citiz
 ens Band\, the City&#39\;s Oldest Performing Arts Organization\, is celeb
 rating 100 years!!  You are invited to join them in front of City Hall an
 d enjoy the wide variety of music including marches\, jazz\, classical\, 
 patriotic and others.  \n<br />\n<br />Location: Market Square\, 301 King
  St.\n<br />Contact Person: Special Events Hotline\n<br />Contact Phone: 
 703.746.5592\n<br />Fees: Free\n<br />Audience: Anyone may attend\n<br />
 Tags: City Hall\, Concerts\, Family\, King Street\, Old Town\, Performing
  Arts\, Recreation
X-COA-DTSTAMP:20120622T195022Z
END:VEVENT
END:VCALENDAR
