BEGIN:VCALENDAR
CALSCALE:GREGORIAN
METHOD:PUBLISH
PRODID:-//github.com/ical-org/ical.net//NONSGML ical.net 4.0//EN
VERSION:2.0
X-WR-TIMEZONE:US/Eastern
BEGIN:VEVENT
CATEGORIES:Community Event
CATEGORIES:Del Ray
CATEGORIES:Food
CATEGORIES:Mt. Vernon Ave.
CATEGORIES:Recreation
DESCRIPTION:To verify info please see https://apps.alexandriava.gov/Calend
 ar/Detail.aspx?si=4011\n\nNightly performances from a variety of groups l
 eading up to the Del Ray Music Festival. \n\nLocation: Mt. Vernon Avenue\
 nContact Person: Kate Moran \nContact Phone: 703.346.1468\nContact Email:
  info@DelRayMusicFestival.com\nAudience: Anyone may attend\nTags: Communi
 ty Event\, Del Ray\, Food\, Mt. Vernon Ave.\, Recreation\n\nWeb resources
 :\n\nhttp://www.delraymusicfestival.com/\n
DTEND:20120620T010000Z
DTSTAMP:20130619T220000Z
DTSTART:20120619T210000Z
GEO:38.823193;-77.058191
LOCATION:Mt. Vernon Avenue
SEQUENCE:6
STATUS:CONFIRMED
SUMMARY:Del Ray Music Week
TRANSP:TRANSPARENT
UID:f978f0c8-0a43-4e32-8c49-c86cb59a7c47
URL:http://www.delraymusicfestival.com/
X-ALT-DESC;FMTTYPE=text/html:To verify info please see <a href="https://ap
 ps.alexandriava.gov/Calendar/Detail.aspx?si=4011">https://apps.alexandria
 va.gov/Calendar/Detail.aspx?si=4011</a><br />\n<br />Nightly performances
  from a variety of groups leading up to the Del Ray Music Festival. \n<br
  />\n<br />Location: Mt. Vernon Avenue\n<br />Contact Person: Kate Moran 
 \n<br />Contact Phone: 703.346.1468\n<br />Contact Email: info@DelRayMusi
 cFestival.com\n<br />Audience: Anyone may attend\n<br />Tags: Community E
 vent\, Del Ray\, Food\, Mt. Vernon Ave.\, Recreation<br>\n<a href="http:/
 /www.delraymusicfestival.com/">http://www.delraymusicfestival.com/</a><br
 >\n
X-COA-DTSTAMP:20120530T164102Z
END:VEVENT
END:VCALENDAR
