BEGIN:VCALENDAR
CALSCALE:GREGORIAN
METHOD:PUBLISH
PRODID:-//github.com/ical-org/ical.net//NONSGML ical.net 4.0//EN
VERSION:2.0
X-WR-TIMEZONE:US/Eastern
BEGIN:VEVENT
CATEGORIES:Carlyle Eisenhower East
CATEGORIES:Concerts
CATEGORIES:Family
CATEGORIES:Recreation
DESCRIPTION:To verify info please see https://apps.alexandriava.gov/Calend
 ar/Detail.aspx?si=4008\n\nThe Hot Society Orchestra of Washington\, featu
 ring 1920's-1940's Jazz.\n\nLocation: John Carlyle Park\, 300 John Carlyl
 e St.\nContact Person: Special Events Office\nContact Phone: 703.746.5418
 \nFees: Free\nAudience: Anyone may attend\nTags: Carlyle Eisenhower East\
 , Concerts\, Family\, Recreation
DTEND:20120803T003000Z
DTSTAMP:20130619T220000Z
DTSTART:20120802T233000Z
GEO:38.803698;-77.061582
LOCATION:John Carlyle Park\, 300 John Carlyle St.
SEQUENCE:5
STATUS:CONFIRMED
SUMMARY:Music At Twilight Concert-John Carlyle Square Park
TRANSP:TRANSPARENT
UID:daf8e96c-c273-4a6d-89b9-3e98b8e974c8
X-ALT-DESC;FMTTYPE=text/html:To verify info please see <a href="https://ap
 ps.alexandriava.gov/Calendar/Detail.aspx?si=4008">https://apps.alexandria
 va.gov/Calendar/Detail.aspx?si=4008</a><br />\n<br />The Hot Society Orch
 estra of Washington\, featuring 1920&#39\;s-1940&#39\;s Jazz.\n<br />\n<b
 r />Location: John Carlyle Park\, 300 John Carlyle St.\n<br />Contact Per
 son: Special Events Office\n<br />Contact Phone: 703.746.5418\n<br />Fees
 : Free\n<br />Audience: Anyone may attend\n<br />Tags: Carlyle Eisenhower
  East\, Concerts\, Family\, Recreation
X-COA-DTSTAMP:20120516T182536Z
END:VEVENT
END:VCALENDAR
