BEGIN:VCALENDAR
CALSCALE:GREGORIAN
METHOD:PUBLISH
PRODID:-//github.com/ical-org/ical.net//NONSGML ical.net 4.0//EN
VERSION:2.0
X-WR-TIMEZONE:US/Eastern
BEGIN:VEVENT
CATEGORIES:Carlyle Eisenhower East
CATEGORIES:Concerts
CATEGORIES:Family
CATEGORIES:Recreation
DESCRIPTION:To verify info please see https://apps.alexandriava.gov/Calend
 ar/Detail.aspx?si=4007\n\nNew Location.  Musical performance by the Alexa
 ndria Harmonizers\, featuring men's barbershop.\n\nLocation: John Carlyle
  Park\, 300 John Carlyle St.\nContact Person: Special Events Office\nCont
 act Phone: 703.746.5418\nFees: Free\nAudience: Anyone may attend\nTags: C
 arlyle Eisenhower East\, Concerts\, Family\, Recreation
DTEND:20120727T003000Z
DTSTAMP:20130619T220000Z
DTSTART:20120726T233000Z
GEO:38.803698;-77.061582
LOCATION:John Carlyle Park\, 300 John Carlyle St.
SEQUENCE:5
STATUS:CONFIRMED
SUMMARY:Music At Twilight Concert-John Carlyle Square Park
TRANSP:TRANSPARENT
UID:8d4363cf-036a-4756-8f1a-c6cbe1521c6d
X-ALT-DESC;FMTTYPE=text/html:To verify info please see <a href="https://ap
 ps.alexandriava.gov/Calendar/Detail.aspx?si=4007">https://apps.alexandria
 va.gov/Calendar/Detail.aspx?si=4007</a><br />\n<br />New Location.  Music
 al performance by the Alexandria Harmonizers\, featuring men&#39\;s barbe
 rshop.\n<br />\n<br />Location: John Carlyle Park\, 300 John Carlyle St.\
 n<br />Contact Person: Special Events Office\n<br />Contact Phone: 703.74
 6.5418\n<br />Fees: Free\n<br />Audience: Anyone may attend\n<br />Tags: 
 Carlyle Eisenhower East\, Concerts\, Family\, Recreation
X-COA-DTSTAMP:20120516T182339Z
END:VEVENT
END:VCALENDAR
