BEGIN:VCALENDAR
CALSCALE:GREGORIAN
METHOD:PUBLISH
PRODID:-//github.com/ical-org/ical.net//NONSGML ical.net 4.0//EN
VERSION:2.0
X-WR-TIMEZONE:US/Eastern
BEGIN:VEVENT
CATEGORIES:Carlyle Eisenhower East
CATEGORIES:Concerts
CATEGORIES:Family
CATEGORIES:Recreation
DESCRIPTION:To verify info please see https://apps.alexandriava.gov/Calend
 ar/Detail.aspx?si=4006\n\nNew Location.  Musical performance by Lesson Ze
 ro\, featuring roots rock covers & originals.\n\nLocation: John Carlyle P
 ark\, 300 John Carlyle St.\nContact Person: Special Events Office\nContac
 t Phone: 703.746.5418\nFees: Free\nAudience: Anyone may attend\nTags: Car
 lyle Eisenhower East\, Concerts\, Family\, Recreation
DTEND:20120713T003000Z
DTSTAMP:20130619T220000Z
DTSTART:20120712T233000Z
GEO:38.803698;-77.061582
LOCATION:John Carlyle Park\, 300 John Carlyle St.
SEQUENCE:5
STATUS:CONFIRMED
SUMMARY:Music At Twilight Concert-John Carlyle Square Park
TRANSP:TRANSPARENT
UID:a476e47a-8142-4a15-bc89-d0d3dc0cc29e
X-ALT-DESC;FMTTYPE=text/html:To verify info please see <a href="https://ap
 ps.alexandriava.gov/Calendar/Detail.aspx?si=4006">https://apps.alexandria
 va.gov/Calendar/Detail.aspx?si=4006</a><br />\n<br />New Location.  Music
 al performance by Lesson Zero\, featuring roots rock covers &amp\; origin
 als.\n<br />\n<br />Location: John Carlyle Park\, 300 John Carlyle St.\n<
 br />Contact Person: Special Events Office\n<br />Contact Phone: 703.746.
 5418\n<br />Fees: Free\n<br />Audience: Anyone may attend\n<br />Tags: Ca
 rlyle Eisenhower East\, Concerts\, Family\, Recreation
X-COA-DTSTAMP:20120516T182210Z
END:VEVENT
END:VCALENDAR
