BEGIN:VCALENDAR
CALSCALE:GREGORIAN
METHOD:PUBLISH
PRODID:-//github.com/ical-org/ical.net//NONSGML ical.net 4.0//EN
VERSION:2.0
X-WR-TIMEZONE:US/Eastern
BEGIN:VEVENT
CATEGORIES:Carlyle Eisenhower East
CATEGORIES:Concerts
CATEGORIES:Family
CATEGORIES:Recreation
DESCRIPTION:To verify info please see https://apps.alexandriava.gov/Calend
 ar/Detail.aspx?si=4005\n\nNew Location.  Musical performance by the Alexa
 ndria Singers\, featuring pop choral.\n\nLocation: John Carlyle Park\, 30
 0 John Carlyle St.\nContact Person: Special Events Office\nContact Phone:
  703.746.5418\nFees: Free\nAudience: Anyone may attend\nTags: Carlyle Eis
 enhower East\, Concerts\, Family\, Recreation
DTEND:20120622T003000Z
DTSTAMP:20130619T220000Z
DTSTART:20120621T233000Z
GEO:38.803698;-77.061582
LOCATION:John Carlyle Park\, 300 John Carlyle St.
SEQUENCE:5
STATUS:CONFIRMED
SUMMARY:Music At Twilight Concert-John Carlyle Square Park
TRANSP:TRANSPARENT
UID:5718a3db-4e68-489c-ba38-356c5ff472e0
X-ALT-DESC;FMTTYPE=text/html:To verify info please see <a href="https://ap
 ps.alexandriava.gov/Calendar/Detail.aspx?si=4005">https://apps.alexandria
 va.gov/Calendar/Detail.aspx?si=4005</a><br />\n<br />New Location.  Music
 al performance by the Alexandria Singers\, featuring pop choral.\n<br />\
 n<br />Location: John Carlyle Park\, 300 John Carlyle St.\n<br />Contact 
 Person: Special Events Office\n<br />Contact Phone: 703.746.5418\n<br />F
 ees: Free\n<br />Audience: Anyone may attend\n<br />Tags: Carlyle Eisenho
 wer East\, Concerts\, Family\, Recreation
X-COA-DTSTAMP:20120516T182003Z
END:VEVENT
END:VCALENDAR
