BEGIN:VCALENDAR
CALSCALE:GREGORIAN
METHOD:PUBLISH
PRODID:-//github.com/ical-org/ical.net//NONSGML ical.net 4.0//EN
VERSION:2.0
X-WR-TIMEZONE:US/Eastern
BEGIN:VEVENT
CATEGORIES:Carlyle Eisenhower East
CATEGORIES:Concerts
CATEGORIES:Family
CATEGORIES:Recreation
DESCRIPTION:To verify info please see https://apps.alexandriava.gov/Calend
 ar/Detail.aspx?si=4004\n\nNew Location.  Musical performance by Dulcie Ta
 ylor\, featuring original Americana. Lawn seating\, you are welcome to br
 ing a blanket or folding chair to enjoy the music.\n\nLocation: John Carl
 yle Park\, 300 John Carlyle St.\nContact Person: Special Events Office\nC
 ontact Phone: 703.746.5418\nFees: Free\nAudience: Anyone may attend\nTags
 : Carlyle Eisenhower East\, Concerts\, Family\, Recreation
DTEND:20120608T003000Z
DTSTAMP:20130619T220000Z
DTSTART:20120607T233000Z
GEO:38.803698;-77.061582
LOCATION:John Carlyle Park\, 300 John Carlyle St.
SEQUENCE:6
STATUS:CONFIRMED
SUMMARY:Music At Twilight Concert-John Carlyle Square Park
TRANSP:TRANSPARENT
UID:ac748df9-d8e8-433d-a38e-1aab78b7623b
X-ALT-DESC;FMTTYPE=text/html:To verify info please see <a href="https://ap
 ps.alexandriava.gov/Calendar/Detail.aspx?si=4004">https://apps.alexandria
 va.gov/Calendar/Detail.aspx?si=4004</a><br />\n<br />New Location.  Music
 al performance by Dulcie Taylor\, featuring original Americana. Lawn seat
 ing\, you are welcome to bring a blanket or folding chair to enjoy the mu
 sic.\n<br />\n<br />Location: John Carlyle Park\, 300 John Carlyle St.\n<
 br />Contact Person: Special Events Office\n<br />Contact Phone: 703.746.
 5418\n<br />Fees: Free\n<br />Audience: Anyone may attend\n<br />Tags: Ca
 rlyle Eisenhower East\, Concerts\, Family\, Recreation
X-COA-DTSTAMP:20120517T164502Z
END:VEVENT
END:VCALENDAR
