BEGIN:VCALENDAR
CALSCALE:GREGORIAN
METHOD:PUBLISH
PRODID:-//github.com/ical-org/ical.net//NONSGML ical.net 4.0//EN
VERSION:2.0
X-WR-TIMEZONE:US/Eastern
BEGIN:VEVENT
CATEGORIES:Concerts
CATEGORIES:Family
CATEGORIES:Recreation
CATEGORIES:Waterfront
DESCRIPTION:To verify info please see https://apps.alexandriava.gov/Calend
 ar/Detail.aspx?si=4002\n\nMusical performance by Project Natale\, featuri
 ng "real" jazz\, series held in partnership with Tishman Speyer.\n\nLocat
 ion: Canal Center Plaza\, 44 Canal Center Plaza.\nContact Person: Special
  Events Office\nContact Phone: 703.746.5418\nFees: Free\nAudience: Anyone
  may attend\nTags: Concerts\, Family\, Recreation\, Waterfront
DTEND:20120808T170000Z
DTSTAMP:20130619T220000Z
DTSTART:20120808T160000Z
GEO:38.814215;-77.038364
LOCATION:Canal Center Plaza\, 44 Canal Center Plaza.
SEQUENCE:5
STATUS:CONFIRMED
SUMMARY:Lunch Bunch Concert:  Project Natale
TRANSP:TRANSPARENT
UID:8c201213-67dd-44d2-b63c-af80c457704e
X-ALT-DESC;FMTTYPE=text/html:To verify info please see <a href="https://ap
 ps.alexandriava.gov/Calendar/Detail.aspx?si=4002">https://apps.alexandria
 va.gov/Calendar/Detail.aspx?si=4002</a><br />\n<br />Musical performance 
 by Project Natale\, featuring &quot\;real&quot\; jazz\, series held in pa
 rtnership with Tishman Speyer.\n<br />\n<br />Location: Canal Center Plaz
 a\, 44 Canal Center Plaza.\n<br />Contact Person: Special Events Office\n
 <br />Contact Phone: 703.746.5418\n<br />Fees: Free\n<br />Audience: Anyo
 ne may attend\n<br />Tags: Concerts\, Family\, Recreation\, Waterfront
X-COA-DTSTAMP:20120516T174515Z
END:VEVENT
END:VCALENDAR
