BEGIN:VCALENDAR
CALSCALE:GREGORIAN
METHOD:PUBLISH
PRODID:-//github.com/ical-org/ical.net//NONSGML ical.net 4.0//EN
VERSION:2.0
X-WR-TIMEZONE:US/Eastern
BEGIN:VEVENT
CATEGORIES:Concerts
CATEGORIES:Family
CATEGORIES:Recreation
CATEGORIES:Waterfront
DESCRIPTION:To verify info please see https://apps.alexandriava.gov/Calend
 ar/Detail.aspx?si=4001\n\nMusical performance by Matthew Mills\, featurin
 g contemporary acoustic & flamenco\, series held in partnership with Tish
 man Speyer.\n\nLocation: Canal Center Plaza\, 44 Canal Center Plaza.\nCon
 tact Person: Maureen Sturgill\nContact Phone: 703.746.5420\nFees: Free\nA
 udience: Anyone may attend\nTags: Concerts\, Family\, Recreation\, Waterf
 ront
DTEND:20120725T170000Z
DTSTAMP:20130619T220000Z
DTSTART:20120725T160000Z
GEO:38.814215;-77.038364
LOCATION:Canal Center Plaza\, 44 Canal Center Plaza.
SEQUENCE:5
STATUS:CONFIRMED
SUMMARY:Lunch Bunch Concert:  Matthew Mills
TRANSP:TRANSPARENT
UID:21a20a17-4cb6-48f3-bb5c-2d9d896de7e1
X-ALT-DESC;FMTTYPE=text/html:To verify info please see <a href="https://ap
 ps.alexandriava.gov/Calendar/Detail.aspx?si=4001">https://apps.alexandria
 va.gov/Calendar/Detail.aspx?si=4001</a><br />\n<br />Musical performance 
 by Matthew Mills\, featuring contemporary acoustic &amp\; flamenco\, seri
 es held in partnership with Tishman Speyer.\n<br />\n<br />Location: Cana
 l Center Plaza\, 44 Canal Center Plaza.\n<br />Contact Person: Maureen St
 urgill\n<br />Contact Phone: 703.746.5420\n<br />Fees: Free\n<br />Audien
 ce: Anyone may attend\n<br />Tags: Concerts\, Family\, Recreation\, Water
 front
X-COA-DTSTAMP:20120516T173451Z
END:VEVENT
END:VCALENDAR
