BEGIN:VCALENDAR
CALSCALE:GREGORIAN
METHOD:PUBLISH
PRODID:-//github.com/ical-org/ical.net//NONSGML ical.net 4.0//EN
VERSION:2.0
X-WR-TIMEZONE:US/Eastern
BEGIN:VEVENT
CATEGORIES:Concerts
CATEGORIES:Family
CATEGORIES:Recreation
CATEGORIES:Waterfront
DESCRIPTION:To verify info please see https://apps.alexandriava.gov/Calend
 ar/Detail.aspx?si=3999\n\nMusical performance by Lea\, featuring folk & c
 ontemporary acoustic music\, series held in partnership with Tishman Spey
 er.\n\nLocation: Canal Center Plaza\, 44 Canal Center Plaza.\nContact Per
 son: Special Events Hotline\nContact Phone: 703.746.5592\nFees: Free\nAud
 ience: Anyone may attend\nTags: Concerts\, Family\, Recreation\, Waterfro
 nt
DTEND:20120711T170000Z
DTSTAMP:20130619T220000Z
DTSTART:20120711T160000Z
GEO:38.814215;-77.038364
LOCATION:Canal Center Plaza\, 44 Canal Center Plaza.
SEQUENCE:5
STATUS:CONFIRMED
SUMMARY:Lunch Bunch Concert:  Lea
TRANSP:TRANSPARENT
UID:608cbbd1-506c-42b9-879f-7494b6949b46
X-ALT-DESC;FMTTYPE=text/html:To verify info please see <a href="https://ap
 ps.alexandriava.gov/Calendar/Detail.aspx?si=3999">https://apps.alexandria
 va.gov/Calendar/Detail.aspx?si=3999</a><br />\n<br />Musical performance 
 by Lea\, featuring folk &amp\; contemporary acoustic music\, series held 
 in partnership with Tishman Speyer.\n<br />\n<br />Location: Canal Center
  Plaza\, 44 Canal Center Plaza.\n<br />Contact Person: Special Events Hot
 line\n<br />Contact Phone: 703.746.5592\n<br />Fees: Free\n<br />Audience
 : Anyone may attend\n<br />Tags: Concerts\, Family\, Recreation\, Waterfr
 ont
X-COA-DTSTAMP:20120516T160300Z
END:VEVENT
END:VCALENDAR
