BEGIN:VCALENDAR
CALSCALE:GREGORIAN
METHOD:PUBLISH
PRODID:-//github.com/ical-org/ical.net//NONSGML ical.net 4.0//EN
VERSION:2.0
X-WR-TIMEZONE:US/Eastern
BEGIN:VEVENT
CATEGORIES:Concerts
CATEGORIES:Family
CATEGORIES:Recreation
CATEGORIES:Waterfront
DESCRIPTION:To verify info please see https://apps.alexandriava.gov/Calend
 ar/Detail.aspx?si=3998\n\nMusical performance by The Russkie Musikanti\, 
 an ensemble of the Washington Balalaika Society\, featuring Russian folk 
 music\, series held in partnership with Tishman Speyer.\n\nLocation: Cana
 l Center Plaza\, 44 Canal Center Plaza.\nContact Person: Special Events O
 ffice\nContact Phone: 703.746.5418\nFees: Free\nAudience: Anyone may atte
 nd\nTags: Concerts\, Family\, Recreation\, Waterfront
DTEND:20120627T170000Z
DTSTAMP:20130619T220000Z
DTSTART:20120627T160000Z
GEO:38.814215;-77.038364
LOCATION:Canal Center Plaza\, 44 Canal Center Plaza.
SEQUENCE:7
STATUS:CONFIRMED
SUMMARY:Lunch Bunch Concert:  The Russkie Musikanti
TRANSP:TRANSPARENT
UID:02a64e49-e63b-4c60-b575-34730b9a929a
X-ALT-DESC;FMTTYPE=text/html:To verify info please see <a href="https://ap
 ps.alexandriava.gov/Calendar/Detail.aspx?si=3998">https://apps.alexandria
 va.gov/Calendar/Detail.aspx?si=3998</a><br />\n<br />Musical performance 
 by The Russkie Musikanti\, an ensemble of the Washington Balalaika Societ
 y\, featuring Russian folk music\, series held in partnership with Tishma
 n Speyer.\n<br />\n<br />Location: Canal Center Plaza\, 44 Canal Center P
 laza.\n<br />Contact Person: Special Events Office\n<br />Contact Phone: 
 703.746.5418\n<br />Fees: Free\n<br />Audience: Anyone may attend\n<br />
 Tags: Concerts\, Family\, Recreation\, Waterfront
X-COA-DTSTAMP:20120516T173903Z
END:VEVENT
END:VCALENDAR
