BEGIN:VCALENDAR
CALSCALE:GREGORIAN
METHOD:PUBLISH
PRODID:-//github.com/ical-org/ical.net//NONSGML ical.net 4.0//EN
VERSION:2.0
X-WR-TIMEZONE:US/Eastern
BEGIN:VEVENT
CATEGORIES:City Hall
CATEGORIES:Concerts
CATEGORIES:Family
CATEGORIES:Old Town
CATEGORIES:Performing Arts
CATEGORIES:Recreation
DESCRIPTION:To verify info please see https://apps.alexandriava.gov/Calend
 ar/Detail.aspx?si=3977\n\nConcert by 2012 Serenade! Washington\, DC Chora
 l Festival. In partnership with the Alexandria Department of Recreation\,
  Parks and Cultural Activities\, the Alexandria Old Town community will h
 ave a lunch-time treat with performances by select Serenade! Festival par
 ticipants. Hear music presented by choirs from Colombia\, Australia and t
 he United States.\n\nLocation: Market Square\, 301 King St.\nContact Pers
 on: Special Events Hotline\nContact Phone: 703.746.5592\nFees: Free\nAudi
 ence: Anyone may attend\nTags: City Hall\, Concerts\, Family\, Old Town\,
  Performing Arts\, Recreation\n\nWeb resources:\n\nhttp://www.ClassicalMo
 vements.com\n
DTEND:20120629T170000Z
DTSTAMP:20130619T220000Z
DTSTART:20120629T160000Z
GEO:38.804935;-77.042978
LOCATION:Market Square\, 301 King St.
SEQUENCE:10
STATUS:CONFIRMED
SUMMARY:Concert By  2012 Serenade!
TRANSP:TRANSPARENT
UID:5017bc37-409b-45d7-a1cd-92c56c5c3b1e
URL:http://www.ClassicalMovements.com
X-ALT-DESC;FMTTYPE=text/html:To verify info please see <a href="https://ap
 ps.alexandriava.gov/Calendar/Detail.aspx?si=3977">https://apps.alexandria
 va.gov/Calendar/Detail.aspx?si=3977</a><br />\n<br />Concert by 2012 Sere
 nade! Washington\, DC Choral Festival. In partnership with the Alexandria
  Department of Recreation\, Parks and Cultural Activities\, the Alexandri
 a Old Town community will have a lunch-time treat with performances by se
 lect Serenade! Festival participants. Hear music presented by choirs from
  Colombia\, Australia and the United States.\n<br />\n<br />Location: Mar
 ket Square\, 301 King St.\n<br />Contact Person: Special Events Hotline\n
 <br />Contact Phone: 703.746.5592\n<br />Fees: Free\n<br />Audience: Anyo
 ne may attend\n<br />Tags: City Hall\, Concerts\, Family\, Old Town\, Per
 forming Arts\, Recreation<br>\n<a href="http://www.ClassicalMovements.com
 ">http://www.ClassicalMovements.com</a><br>\n
X-COA-DTSTAMP:20120518T213717Z
END:VEVENT
END:VCALENDAR
