BEGIN:VCALENDAR
CALSCALE:GREGORIAN
METHOD:PUBLISH
PRODID:-//github.com/ical-org/ical.net//NONSGML ical.net 4.0//EN
VERSION:2.0
X-WR-TIMEZONE:US/Eastern
BEGIN:VEVENT
CATEGORIES:City Hall
CATEGORIES:Concerts
CATEGORIES:Family
CATEGORIES:King Street
CATEGORIES:Old Town
CATEGORIES:Recreation
DESCRIPTION:To verify info please see https://apps.alexandriava.gov/Calend
 ar/Detail.aspx?si=3892\n\nThis Concert has been cancelled.\n\nLocation: M
 arket Square\, 301 King St.\nContact Person: Maureen Sturgill\nContact Ph
 one: 703.746.5420\nContact Email: maureen.sturgill@alexandriava.gov\nFees
 : FREE\nAudience: Anyone may attend\nTags: City Hall\, Concerts\, Family\
 , King Street\, Old Town\, Recreation\n\nWeb resources:\n\nhttp://www.nav
 yband.navy.mil/\n
DTEND:20120803T171500Z
DTSTAMP:20130619T220000Z
DTSTART:20120803T160000Z
GEO:38.804935;-77.042978
LOCATION:Market Square\, 301 King St.
SEQUENCE:12
STATUS:CANCELLED
SUMMARY:CANCELLED-concert The U. S. Navy Band Sea Chanters
TRANSP:TRANSPARENT
UID:c8b92149-b8fd-4b22-bff4-092dc787bd03
URL:http://www.navyband.navy.mil/
X-ALT-DESC;FMTTYPE=text/html:To verify info please see <a href="https://ap
 ps.alexandriava.gov/Calendar/Detail.aspx?si=3892">https://apps.alexandria
 va.gov/Calendar/Detail.aspx?si=3892</a><br />\n<br />This Concert has bee
 n cancelled.\n<br />\n<br />Location: Market Square\, 301 King St.\n<br /
 >Contact Person: Maureen Sturgill\n<br />Contact Phone: 703.746.5420\n<br
  />Contact Email: maureen.sturgill@alexandriava.gov\n<br />Fees: FREE\n<b
 r />Audience: Anyone may attend\n<br />Tags: City Hall\, Concerts\, Famil
 y\, King Street\, Old Town\, Recreation<br>\n<a href="http://www.navyband
 .navy.mil/">http://www.navyband.navy.mil/</a><br>\n
X-COA-DTSTAMP:20120725T142905Z
END:VEVENT
END:VCALENDAR
